Workbook

Sheet Índice completo
A2: Índice O'Higgins
A4: Hoja | B4: Qué contiene | C4: Ir a
A5: Portada | B5: Presentación, contenido y notas de uso
A6: O'Higgins · Panel | B6: Panel de exploración de la Región de O'Higgins | C6: abrir →
A7: O'Higgins | B7: Base de datos de la Región de O'Higgins | C7: abrir →
A8: Comparador | B8: Compara cualquier indicador entre las 16 regiones y el total nacional | C8: abrir →
A9: Nacional · Panel | B9: Panel de exploración del total nacional | C9: abrir →
A10: Nacional | B10: Base de datos del total nacional | C10: abrir →
A11: Base Nacional y Regiones | B11: Base completa | C11: abrir →

Sheet O'Higgins · Panel
A1: PRESENTA LA REGIÓN
A2: Esto es O'Higgins
A4: Chile no cabe en una ciudad. | G4: Ver base de datos completa →
A5: Panel de exploración · 429 variables · fuente indicada por variable en la hoja de datos
A6: LA REGIÓN EN UNA FICHA
A7: Capital | C7: Gobernador(a) Regional | E7: Delegado(a) Presidencial | G7: % votación Kast 2ª vuelta
A8: =IFERROR(_xlfn.XLOOKUP("Capital regional",'O''Higgins'!$C$5:$C$433,'O''Higgins'!$F$5:$F$433),"") -> Rancagua | C8: =IFERROR(_xlfn.XLOOKUP("Gobernador(a) Regional",'O''Higgins'!$C$5:$C$433,'O''Higgins'!$F$5:$F$433),"") -> Pablo Silva Amaya (PS) | E8: =IFERROR(_xlfn.XLOOKUP("Delegado(a) Presidencial Regional",'O''Higgins'!$C$5:$C$433,'O''Higgins'!$F$5:$F$433),"") -> Susana Pinto | G8: =IFERROR(_xlfn.XLOOKUP("2ª vuelta 2025: Kast",'O''Higgins'!$C$5:$C$433,'O''Higgins'!$F$5:$F$433),"") -> 0.6052
A9: INDICADORES CLAVE · región y país
A10: Población total | C10: Tasa global de fecundidad (2025) | E10: Población urbana | G10: Población 65 años y más
A11: =IFERROR(_xlfn.XLOOKUP("Población total",'O''Higgins'!$C$5:$C$433,'O''Higgins'!$F$5:$F$433),"") -> 1033238 | C11: =IFERROR(_xlfn.XLOOKUP("Tasa global de fecundidad (2025)",'O''Higgins'!$C$5:$C$433,'O''Higgins'!$F$5:$F$433),"") -> 1.19 | E11: =IFERROR(_xlfn.XLOOKUP("Población urbana (% del total regional)",'O''Higgins'!$C$5:$C$433,'O''Higgins'!$F$5:$F$433),"") -> 0.74392792 | G11: =IFERROR(_xlfn.XLOOKUP("Población de 65 años y más (% del total regional)",'O''Higgins'!$C$5:$C$433,'O''Higgins'!$F$5:$F$433),"") -> 0.15970861
A12: =IFERROR("% de la población del país: "&TEXT(_xlfn.XLOOKUP("Población: % del total nacional",'O''Higgins'!$C$5:$C$433,'O''Higgins'!$F$5:$F$433),"0,0%"),"% de la población del país: s/i") -> % de la población del país: 5,1% | C12: =IF(IFERROR(_xlfn.XLOOKUP("Tasa global de fecundidad (2025)",'O''Higgins'!$C$5:$C$433,'O''Higgins'!$G$5:$G$433),"")="","País: s/i","País: "&TEXT(IFERROR(_xlfn.XLOOKUP("Tasa global de fecundidad (2025)",'O''Higgins'!$C$5:$C$433,'O''Higgins'!$G$5:$G$433),""),"0,00")) -> País: 0,99 | E12: =IF(IFERROR(_xlfn.XLOOKUP("Población urbana (% del total regional)",'O''Higgins'!$C$5:$C$433,'O''Higgins'!$G$5:$G$433),"")="","País: s/i","País: "&TEXT(IFERROR(_xlfn.XLOOKUP("Población urbana (% del total regional)",'O''Higgins'!$C$5:$C$433,'O''Higgins'!$G$5:$G$433),""),"0,0%")) -> País: 87,8% | G12: =IF(IFERROR(_xlfn.XLOOKUP("Población de 65 años y más (% del total regional)",'O''Higgins'!$C$5:$C$433,'O''Higgins'!$G$5:$G$433),"")="","País: s/i","País: "&TEXT(IFERROR(_xlfn.XLOOKUP("Población de 65 años y más (% del total regional)",'O''Higgins'!$C$5:$C$433,'O''Higgins'!$G$5:$G$433),""),"0,0%")) -> País: 14,2%
A13: Desocupación (jun-2026) | C13: Ocupación informal (jun-2026) | E13: Pobreza por ingresos (2024) | G13: Ingreso mediano (miles $)
A14: =IFERROR(_xlfn.XLOOKUP("Tasa de desocupación, ambos sexos (jun-2026)",'O''Higgins'!$C$5:$C$433,'O''Higgins'!$F$5:$F$433),"") -> 0.104 | C14: =IFERROR(_xlfn.XLOOKUP("Tasa de ocupación informal, ambos sexos (jun-2026)",'O''Higgins'!$C$5:$C$433,'O''Higgins'!$F$5:$F$433),"") -> 0.303 | E14: =IFERROR(_xlfn.XLOOKUP("Pobreza por ingresos (2024)",'O''Higgins'!$C$5:$C$433,'O''Higgins'!$F$5:$F$433),"") -> 0.179 | G14: =IFERROR(_xlfn.XLOOKUP("Ingreso mediano mensual",'O''Higgins'!$C$5:$C$433,'O''Higgins'!$F$5:$F$433),"") -> 600
A15: =IF(IFERROR(_xlfn.XLOOKUP("Tasa de desocupación, ambos sexos (jun-2026)",'O''Higgins'!$C$5:$C$433,'O''Higgins'!$G$5:$G$433),"")="","País: s/i","País: "&TEXT(IFERROR(_xlfn.XLOOKUP("Tasa de desocupación, ambos sexos (jun-2026)",'O''Higgins'!$C$5:$C$433,'O''Higgins'!$G$5:$G$433),""),"0,0%")) -> País: 9,4% | C15: =IF(IFERROR(_xlfn.XLOOKUP("Tasa de ocupación informal, ambos sexos (jun-2026)",'O''Higgins'!$C$5:$C$433,'O''Higgins'!$G$5:$G$433),"")="","País: s/i","País: "&TEXT(IFERROR(_xlfn.XLOOKUP("Tasa de ocupación informal, ambos sexos (jun-2026)",'O''Higgins'!$C$5:$C$433,'O''Higgins'!$G$5:$G$433),""),"0,0%")) -> País: 27,0% | E15: =IF(IFERROR(_xlfn.XLOOKUP("Pobreza por ingresos (2024)",'O''Higgins'!$C$5:$C$433,'O''Higgins'!$G$5:$G$433),"")="","País: s/i","País: "&TEXT(IFERROR(_xlfn.XLOOKUP("Pobreza por ingresos (2024)",'O''Higgins'!$C$5:$C$433,'O''Higgins'!$G$5:$G$433),""),"0,0%")) -> País: 17,3% | G15: =IF(IFERROR(_xlfn.XLOOKUP("Ingreso mediano mensual",'O''Higgins'!$C$5:$C$433,'O''Higgins'!$G$5:$G$433),"")="","País: s/i","País: "&TEXT(IFERROR(_xlfn.XLOOKUP("Ingreso mediano mensual",'O''Higgins'!$C$5:$C$433,'O''Higgins'!$G$5:$G$433),""),"$#.##0,0")) -> País: $680,0
A16: PIB per cápita 2025 (USD) | C16: Tasa de homicidios (2025) | E16: Años de escolaridad | G16: IDH (2023)
A17: =IFERROR(_xlfn.XLOOKUP("PIB per cápita (2025)",'O''Higgins'!$C$5:$C$433,'O''Higgins'!$F$5:$F$433),"") -> 14940 | C17: =IFERROR(_xlfn.XLOOKUP("Tasa de homicidios (2025)",'O''Higgins'!$C$5:$C$433,'O''Higgins'!$F$5:$F$433),"") -> 4.1 | E17: =IFERROR(_xlfn.XLOOKUP("Años promedio de escolaridad (18 años y más)",'O''Higgins'!$C$5:$C$433,'O''Higgins'!$F$5:$F$433),"") -> 11.4 | G17: =IFERROR(_xlfn.XLOOKUP("Índice de Desarrollo Humano, IDH (2023)",'O''Higgins'!$C$5:$C$433,'O''Higgins'!$F$5:$F$433),"") -> 0.846
A18: =IF(IFERROR(_xlfn.XLOOKUP("PIB per cápita (2025)",'O''Higgins'!$C$5:$C$433,'O''Higgins'!$G$5:$G$433),"")="","País: s/i","País: "&TEXT(IFERROR(_xlfn.XLOOKUP("PIB per cápita (2025)",'O''Higgins'!$C$5:$C$433,'O''Higgins'!$G$5:$G$433),""),"$#.##0")) -> País: $17.680 | C18: =IF(IFERROR(_xlfn.XLOOKUP("Tasa de homicidios (2025)",'O''Higgins'!$C$5:$C$433,'O''Higgins'!$G$5:$G$433),"")="","País: s/i","País: "&TEXT(IFERROR(_xlfn.XLOOKUP("Tasa de homicidios (2025)",'O''Higgins'!$C$5:$C$433,'O''Higgins'!$G$5:$G$433),""),"0,0")) -> País: 5,4 | E18: =IF(IFERROR(_xlfn.XLOOKUP("Años promedio de escolaridad (18 años y más)",'O''Higgins'!$C$5:$C$433,'O''Higgins'!$G$5:$G$433),"")="","País: s/i","País: "&TEXT(IFERROR(_xlfn.XLOOKUP("Años promedio de escolaridad (18 años y más)",'O''Higgins'!$C$5:$C$433,'O''Higgins'!$G$5:$G$433),""),"0,0")) -> País: 12,1 | G18: =IF(IFERROR(_xlfn.XLOOKUP("Índice de Desarrollo Humano, IDH (2023)",'O''Higgins'!$C$5:$C$433,'O''Higgins'!$G$5:$G$433),"")="","País: s/i","País: "&TEXT(IFERROR(_xlfn.XLOOKUP("Índice de Desarrollo Humano, IDH (2023)",'O''Higgins'!$C$5:$C$433,'O''Higgins'!$G$5:$G$433),""),"0,000")) -> País: 0,878
A19: Lista de espera (por 10.000 hab.) | C19: Percepción de aumento de la delincuencia (2025) | E19: PAES Matemática 1 (2026) | G19: Familias en campamentos (2024-2025)
A20: =IFERROR(_xlfn.XLOOKUP("Lista de espera por cada 10.000 hab.: total consulta + operación (junio 2025)",'O''Higgins'!$C$5:$C$433,'O''Higgins'!$F$5:$F$433),"") -> 1284.2 | C20: =IFERROR(_xlfn.XLOOKUP("Percepción de aumento de la delincuencia en el país (2025)",'O''Higgins'!$C$5:$C$433,'O''Higgins'!$F$5:$F$433),"") -> 0.856 | E20: =IFERROR(_xlfn.XLOOKUP("PAES Matemática 1: promedio regional (2026)",'O''Higgins'!$C$5:$C$433,'O''Higgins'!$F$5:$F$433),"") -> 630 | G20: =IFERROR(_xlfn.XLOOKUP("Familias en campamentos (2024-2025)",'O''Higgins'!$C$5:$C$433,'O''Higgins'!$F$5:$F$433),"") -> 2073
A21: =IF(IFERROR(_xlfn.XLOOKUP("Lista de espera por cada 10.000 hab.: total consulta + operación (junio 2025)",'O''Higgins'!$C$5:$C$433,'O''Higgins'!$G$5:$G$433),"")="","País: s/i","País: "&TEXT(IFERROR(_xlfn.XLOOKUP("Lista de espera por cada 10.000 hab.: total consulta + operación (junio 2025)",'O''Higgins'!$C$5:$C$433,'O''Higgins'!$G$5:$G$433),""),"#.##0,0")) -> País: 1.287,8 | C21: =IF(IFERROR(_xlfn.XLOOKUP("Percepción de aumento de la delincuencia en el país (2025)",'O''Higgins'!$C$5:$C$433,'O''Higgins'!$G$5:$G$433),"")="","País: s/i","País: "&TEXT(IFERROR(_xlfn.XLOOKUP("Percepción de aumento de la delincuencia en el país (2025)",'O''Higgins'!$C$5:$C$433,'O''Higgins'!$G$5:$G$433),""),"0,0%")) -> País: 82,9% | E21: =IF(IFERROR(_xlfn.XLOOKUP("PAES Matemática 1: promedio regional (2026)",'O''Higgins'!$C$5:$C$433,'O''Higgins'!$G$5:$G$433),"")="","País: s/i","País: "&TEXT(IFERROR(_xlfn.XLOOKUP("PAES Matemática 1: promedio regional (2026)",'O''Higgins'!$C$5:$C$433,'O''Higgins'!$G$5:$G$433),""),"#.##0")) -> País: 631 | G21: =IFERROR("% del total nacional: "&TEXT(_xlfn.XLOOKUP("Familias en campamentos (2024-2025): % del total nacional",'O''Higgins'!$C$5:$C$433,'O''Higgins'!$F$5:$F$433),"0,0%"),"% del total nacional: s/i") -> % del total nacional: 1,7%
A22: ÍNDICE DE TEMAS · haz clic en el tema para ir a la hoja de datos
A23: Tema | D23: Variables | E23: Tema | H23: Variables
A24: Administración | D24: =COUNTIF('O''Higgins'!$A$5:$A$433,A24) -> 3 | E24: Empleo | H24: =COUNTIF('O''Higgins'!$A$5:$A$433,E24) -> 85
A25: Demográfico | D25: =COUNTIF('O''Higgins'!$A$5:$A$433,A25) -> 80 | E25: Medio Ambiente | H25: =COUNTIF('O''Higgins'!$A$5:$A$433,E25) -> 25
A26: Economía | D26: =COUNTIF('O''Higgins'!$A$5:$A$433,A26) -> 49 | E26: Vivienda | H26: =COUNTIF('O''Higgins'!$A$5:$A$433,E26) -> 4
A27: Votaciones | D27: =COUNTIF('O''Higgins'!$A$5:$A$433,A27) -> 16 | E27: Servicios | H27: =COUNTIF('O''Higgins'!$A$5:$A$433,E27) -> 5
A28: Seguridad | D28: =COUNTIF('O''Higgins'!$A$5:$A$433,A28) -> 35 | E28: Hogares | H28: =COUNTIF('O''Higgins'!$A$5:$A$433,E28) -> 18
A29: Social | D29: =COUNTIF('O''Higgins'!$A$5:$A$433,A29) -> 20 | E29: Cultural, audiovisual, medios | H29: =COUNTIF('O''Higgins'!$A$5:$A$433,E29) -> 16
A30: Geografía | D30: =COUNTIF('O''Higgins'!$A$5:$A$433,A30) -> 8 | E30: Vehículos | H30: =COUNTIF('O''Higgins'!$A$5:$A$433,E30) -> 5
A31: Educación | D31: =COUNTIF('O''Higgins'!$A$5:$A$433,A31) -> 18 | E31: Inversión | H31: =COUNTIF('O''Higgins'!$A$5:$A$433,E31) -> 12
A32: Salud | D32: =COUNTIF('O''Higgins'!$A$5:$A$433,A32) -> 15 | E32: Pesca | H32: =COUNTIF('O''Higgins'!$A$5:$A$433,E32) -> 15
L63: Datos de apoyo para los gráficos · no editar
L64: Grupo etario | M64: O'Higgins | N64: País
L65: 0 a 14 años | M65: =IFERROR(_xlfn.XLOOKUP("Población de 0 a 14 años (% del total regional)",'O''Higgins'!$C$5:$C$433,'O''Higgins'!$F$5:$F$433),"") -> 0.18251361 | N65: =IFERROR(_xlfn.XLOOKUP("Población de 0 a 14 años (% del total regional)",'O''Higgins'!$C$5:$C$433,'O''Higgins'!$G$5:$G$433),"") -> 0.18161011
L66: 15 a 64 años | M66: =IFERROR(_xlfn.XLOOKUP("Población de 15 a 64 años (% del total regional)",'O''Higgins'!$C$5:$C$433,'O''Higgins'!$F$5:$F$433),"") -> 0.65777778 | N66: =IFERROR(_xlfn.XLOOKUP("Población de 15 a 64 años (% del total regional)",'O''Higgins'!$C$5:$C$433,'O''Higgins'!$G$5:$G$433),"") -> 0.67605096
L67: 65 años y más | M67: =IFERROR(_xlfn.XLOOKUP("Población de 65 años y más (% del total regional)",'O''Higgins'!$C$5:$C$433,'O''Higgins'!$F$5:$F$433),"") -> 0.15970861 | N67: =IFERROR(_xlfn.XLOOKUP("Población de 65 años y más (% del total regional)",'O''Higgins'!$C$5:$C$433,'O''Higgins'!$G$5:$G$433),"") -> 0.14233893
L70: Año | M70: O'Higgins | N70: País
L71: 2015 | M71: =IFERROR(_xlfn.XLOOKUP("Tasa de desocupación, ambos sexos (2015)",'O''Higgins'!$C$5:$C$433,'O''Higgins'!$F$5:$F$433),"") -> 0.057 | N71: =IFERROR(_xlfn.XLOOKUP("Tasa de desocupación, ambos sexos (2015)",'O''Higgins'!$C$5:$C$433,'O''Higgins'!$G$5:$G$433),"") -> 0.063
L72: 2016 | M72: =IFERROR(_xlfn.XLOOKUP("Tasa de desocupación, ambos sexos (2016)",'O''Higgins'!$C$5:$C$433,'O''Higgins'!$F$5:$F$433),"") -> 0.065 | N72: =IFERROR(_xlfn.XLOOKUP("Tasa de desocupación, ambos sexos (2016)",'O''Higgins'!$C$5:$C$433,'O''Higgins'!$G$5:$G$433),"") -> 0.067
L73: 2017 | M73: =IFERROR(_xlfn.XLOOKUP("Tasa de desocupación, ambos sexos (2017)",'O''Higgins'!$C$5:$C$433,'O''Higgins'!$F$5:$F$433),"") -> 0.068 | N73: =IFERROR(_xlfn.XLOOKUP("Tasa de desocupación, ambos sexos (2017)",'O''Higgins'!$C$5:$C$433,'O''Higgins'!$G$5:$G$433),"") -> 0.07
L74: 2018 | M74: =IFERROR(_xlfn.XLOOKUP("Tasa de desocupación, ambos sexos (2018)",'O''Higgins'!$C$5:$C$433,'O''Higgins'!$F$5:$F$433),"") -> 0.076 | N74: =IFERROR(_xlfn.XLOOKUP("Tasa de desocupación, ambos sexos (2018)",'O''Higgins'!$C$5:$C$433,'O''Higgins'!$G$5:$G$433),"") -> 0.074
L75: 2019 | M75: =IFERROR(_xlfn.XLOOKUP("Tasa de desocupación, ambos sexos (2019)",'O''Higgins'!$C$5:$C$433,'O''Higgins'!$F$5:$F$433),"") -> 0.077 | N75: =IFERROR(_xlfn.XLOOKUP("Tasa de desocupación, ambos sexos (2019)",'O''Higgins'!$C$5:$C$433,'O''Higgins'!$G$5:$G$433),"") -> 0.072
L76: 2020 | M76: =IFERROR(_xlfn.XLOOKUP("Tasa de desocupación, ambos sexos (2020)",'O''Higgins'!$C$5:$C$433,'O''Higgins'!$F$5:$F$433),"") -> 0.108 | N76: =IFERROR(_xlfn.XLOOKUP("Tasa de desocupación, ambos sexos (2020)",'O''Higgins'!$C$5:$C$433,'O''Higgins'!$G$5:$G$433),"") -> 0.105
L77: 2021 | M77: =IFERROR(_xlfn.XLOOKUP("Tasa de desocupación, ambos sexos (2021)",'O''Higgins'!$C$5:$C$433,'O''Higgins'!$F$5:$F$433),"") -> 0.088 | N77: =IFERROR(_xlfn.XLOOKUP("Tasa de desocupación, ambos sexos (2021)",'O''Higgins'!$C$5:$C$433,'O''Higgins'!$G$5:$G$433),"") -> 0.088
L78: 2022 | M78: =IFERROR(_xlfn.XLOOKUP("Tasa de desocupación, ambos sexos (2022)",'O''Higgins'!$C$5:$C$433,'O''Higgins'!$F$5:$F$433),"") -> 0.07 | N78: =IFERROR(_xlfn.XLOOKUP("Tasa de desocupación, ambos sexos (2022)",'O''Higgins'!$C$5:$C$433,'O''Higgins'!$G$5:$G$433),"") -> 0.079
L79: 2023 | M79: =IFERROR(_xlfn.XLOOKUP("Tasa de desocupación, ambos sexos (2023)",'O''Higgins'!$C$5:$C$433,'O''Higgins'!$F$5:$F$433),"") -> 0.086 | N79: =IFERROR(_xlfn.XLOOKUP("Tasa de desocupación, ambos sexos (2023)",'O''Higgins'!$C$5:$C$433,'O''Higgins'!$G$5:$G$433),"") -> 0.087
L80: 2024 | M80: =IFERROR(_xlfn.XLOOKUP("Tasa de desocupación, ambos sexos (2024)",'O''Higgins'!$C$5:$C$433,'O''Higgins'!$F$5:$F$433),"") -> 0.087 | N80: =IFERROR(_xlfn.XLOOKUP("Tasa de desocupación, ambos sexos (2024)",'O''Higgins'!$C$5:$C$433,'O''Higgins'!$G$5:$G$433),"") -> 0.085
L81: 2025 | M81: =IFERROR(_xlfn.XLOOKUP("Tasa de desocupación, ambos sexos (2025)",'O''Higgins'!$C$5:$C$433,'O''Higgins'!$F$5:$F$433),"") -> 0.083 | N81: =IFERROR(_xlfn.XLOOKUP("Tasa de desocupación, ambos sexos (2025)",'O''Higgins'!$C$5:$C$433,'O''Higgins'!$G$5:$G$433),"") -> 0.086
L82: 46174 | M82: =IFERROR(_xlfn.XLOOKUP("Tasa de desocupación, ambos sexos (jun-2026)",'O''Higgins'!$C$5:$C$433,'O''Higgins'!$F$5:$F$433),"") -> 0.104 | N82: =IFERROR(_xlfn.XLOOKUP("Tasa de desocupación, ambos sexos (jun-2026)",'O''Higgins'!$C$5:$C$433,'O''Higgins'!$G$5:$G$433),"") -> 0.094
L85: Sector | M85: % del PIB regional
L86: Agropecuario-silvícola | M86: =IFERROR(_xlfn.XLOOKUP("PIB Agropecuario-silvícola: % del total regional (2025)",'O''Higgins'!$C$5:$C$433,'O''Higgins'!$F$5:$F$433),"") -> 0.17125617
L87: Pesca | M87: =IFERROR(_xlfn.XLOOKUP("PIB Pesca: % del total regional (2025)",'O''Higgins'!$C$5:$C$433,'O''Higgins'!$F$5:$F$433),"") -> 0.00054854635
L88: Minería | M88: =IFERROR(_xlfn.XLOOKUP("PIB Minería: % del total regional (2025)",'O''Higgins'!$C$5:$C$433,'O''Higgins'!$F$5:$F$433),"") -> 0.086121777
L89: Industria manufacturera | M89: =IFERROR(_xlfn.XLOOKUP("PIB Industria manufacturera: % del total regional (2025)",'O''Higgins'!$C$5:$C$433,'O''Higgins'!$F$5:$F$433),"") -> 0.096544158
L90: Electricidad, gas, agua y gestión de desechos | M90: =IFERROR(_xlfn.XLOOKUP("PIB Electricidad, gas, agua y gestión de desechos: % del total regional (2025)",'O''Higgins'!$C$5:$C$433,'O''Higgins'!$F$5:$F$433),"") -> 0.038946791
L91: Construcción | M91: =IFERROR(_xlfn.XLOOKUP("PIB Construcción: % del total regional (2025)",'O''Higgins'!$C$5:$C$433,'O''Higgins'!$F$5:$F$433),"") -> 0.064947888
L92: Comercio | M92: =IFERROR(_xlfn.XLOOKUP("PIB Comercio: % del total regional (2025)",'O''Higgins'!$C$5:$C$433,'O''Higgins'!$F$5:$F$433),"") -> 0.10071311
L93: Restaurantes y hoteles | M93: =IFERROR(_xlfn.XLOOKUP("PIB Restaurantes y hoteles: % del total regional (2025)",'O''Higgins'!$C$5:$C$433,'O''Higgins'!$F$5:$F$433),"") -> 0.017114646
L94: Transporte, información y comunicaciones | M94: =IFERROR(_xlfn.XLOOKUP("PIB Transporte, información y comunicaciones: % del total regional (2025)",'O''Higgins'!$C$5:$C$433,'O''Higgins'!$F$5:$F$433),"") -> 0.060669227
L95: Servicios financieros y empresariales | M95: =IFERROR(_xlfn.XLOOKUP("PIB Servicios financieros y empresariales: % del total regional (2025)",'O''Higgins'!$C$5:$C$433,'O''Higgins'!$F$5:$F$433),"") -> 0.096763577
L96: Servicios de vivienda e inmobiliarios | M96: =IFERROR(_xlfn.XLOOKUP("PIB Servicios de vivienda e inmobiliarios: % del total regional (2025)",'O''Higgins'!$C$5:$C$433,'O''Higgins'!$F$5:$F$433),"") -> 0.089083928
L97: Servicios personales | M97: =IFERROR(_xlfn.XLOOKUP("PIB Servicios personales: % del total regional (2025)",'O''Higgins'!$C$5:$C$433,'O''Higgins'!$F$5:$F$433),"") -> 0.1396599
L98: Administración pública | M98: =IFERROR(_xlfn.XLOOKUP("PIB Administración pública: % del total regional (2025)",'O''Higgins'!$C$5:$C$433,'O''Higgins'!$F$5:$F$433),"") -> 0.03763028
L101: Indicador | M101: O'Higgins | N101: País
L102: Desocupación | M102: =IFERROR(_xlfn.XLOOKUP("Tasa de desocupación, ambos sexos (jun-2026)",'O''Higgins'!$C$5:$C$433,'O''Higgins'!$F$5:$F$433),"") -> 0.104 | N102: =IFERROR(_xlfn.XLOOKUP("Tasa de desocupación, ambos sexos (jun-2026)",'O''Higgins'!$C$5:$C$433,'O''Higgins'!$G$5:$G$433),"") -> 0.094
L103: Informalidad | M103: =IFERROR(_xlfn.XLOOKUP("Tasa de ocupación informal, ambos sexos (jun-2026)",'O''Higgins'!$C$5:$C$433,'O''Higgins'!$F$5:$F$433),"") -> 0.303 | N103: =IFERROR(_xlfn.XLOOKUP("Tasa de ocupación informal, ambos sexos (jun-2026)",'O''Higgins'!$C$5:$C$433,'O''Higgins'!$G$5:$G$433),"") -> 0.27
L104: Pobreza ingresos | M104: =IFERROR(_xlfn.XLOOKUP("Pobreza por ingresos (2024)",'O''Higgins'!$C$5:$C$433,'O''Higgins'!$F$5:$F$433),"") -> 0.179 | N104: =IFERROR(_xlfn.XLOOKUP("Pobreza por ingresos (2024)",'O''Higgins'!$C$5:$C$433,'O''Higgins'!$G$5:$G$433),"") -> 0.173
L105: Pobreza multidim. | M105: =IFERROR(_xlfn.XLOOKUP("Pobreza multidimensional (2024)",'O''Higgins'!$C$5:$C$433,'O''Higgins'!$F$5:$F$433),"") -> 0.179 | N105: =IFERROR(_xlfn.XLOOKUP("Pobreza multidimensional (2024)",'O''Higgins'!$C$5:$C$433,'O''Higgins'!$G$5:$G$433),"") -> 0.177
L106: Hacinamiento | M106: =IFERROR(_xlfn.XLOOKUP("Hogares en situación de hacinamiento (%)",'O''Higgins'!$C$5:$C$433,'O''Higgins'!$F$5:$F$433),"") -> 0.051 | N106: =IFERROR(_xlfn.XLOOKUP("Hogares en situación de hacinamiento (%)",'O''Higgins'!$C$5:$C$433,'O''Higgins'!$G$5:$G$433),"") -> 0.057
L107: Acceso a internet | M107: =IFERROR(_xlfn.XLOOKUP("Hogares con acceso a internet (%)",'O''Higgins'!$C$5:$C$433,'O''Higgins'!$F$5:$F$433),"") -> 0.912 | N107: =IFERROR(_xlfn.XLOOKUP("Hogares con acceso a internet (%)",'O''Higgins'!$C$5:$C$433,'O''Higgins'!$G$5:$G$433),"") -> 0.932

Sheet O'Higgins
A1: Esto es Chile · Región de O'Higgins
A2: Base de datos regional · Fuentes indicadas por variable
A4: Tema | B4: Subtema | C4: Nombre variable | D4: Año | E4: Unidad | F4: O'Higgins | G4: Total nacional | H4: Fuente
A5: Administración | C5: Capital regional | E5: Texto | F5: Rancagua
A6: Administración | C6: Delegado(a) Presidencial Regional | E6: Texto | F6: Susana Pinto
A7: Administración | C7: Gobernador(a) Regional | E7: Texto | F7: Pablo Silva Amaya (PS)
A8: Demográfico | B8: Población | C8: Población total | E8: Personas | F8: 1033238 | G8: 20206953 | H8: INE estimación Censo 2017
A9: Demográfico | B9: Población | C9: Población: % del total nacional | E9: % | F9: 0.051132796 | H9: INE estimación Censo 2017
A10: Demográfico | B10: Población | C10: Población: hombres | E10: Personas | F10: 516204 | G10: 9970025 | H10: INE estimación Censo 2017
A11: Demográfico | B11: Población | C11: Población: mujeres | E11: Personas | F11: 517034 | G11: 10236928 | H11: INE estimación Censo 2017
A12: Demográfico | B12: Población | C12: Población urbana (% del total regional) | E12: % | F12: 0.74392792 | G12: 0.877675 | H12: Ine estimación Censo 2017
A13: Demográfico | B13: Población | C13: Población rural (% del total regional) | E13: % | F13: 0.25607208 | G13: 0.122325 | H13: Ine estimación Censo 2017
A14: Demográfico | B14: Densidad poblacional | C14: Densidad poblacional (2024) | D14: 2024 | E14: hab/km² | F14: 62.7 | H14: Ine
A15: Demográfico | B15: Densidad poblacional | C15: Densidad poblacional (2017) | D15: 2017 | E15: hab/km² | F15: 62.2 | H15: Ine
A16: Demográfico | B16: Densidad poblacional | C16: Densidad poblacional (2002) | D16: 2002 | E16: hab/km² | F16: 49.4 | H16: Ine
A17: Demográfico | B17: Población por grupos etarios | C17: Población de 0 a 14 años | E17: Personas | F17: 188580 | G17: 3669787 | H17: INE estimación Censo 2017
A18: Demográfico | B18: Población por grupos etarios | C18: Población de 15 a 64 años | E18: Personas | F18: 679641 | G18: 13660930 | H18: INE estimación Censo 2017
A19: Demográfico | B19: Población por grupos etarios | C19: Población de 65 años y más | E19: Personas | F19: 165017 | G19: 2876236 | H19: INE estimación Censo 2017
A20: Demográfico | B20: Población por grupos etarios | C20: Población de 0 a 14 años (% del total regional) | E20: % | F20: 0.18251361 | G20: 0.18161011 | H20: INE estimación Censo 2017
A21: Demográfico | B21: Población por grupos etarios | C21: Población de 15 a 64 años (% del total regional) | E21: % | F21: 0.65777778 | G21: 0.67605096 | H21: INE estimación Censo 2017
A22: Demográfico | B22: Población por grupos etarios | C22: Población de 65 años y más (% del total regional) | E22: % | F22: 0.15970861 | G22: 0.14233893 | H22: INE estimación Censo 2017
A23: Demográfico | B23: Esperanza de vida | C23: Esperanza de vida al nacer: hombres (2025) | D23: 2025 | E23: Años | F23: 79.5 | G23: 79 | H23: Banco Central
A24: Demográfico | B24: Esperanza de vida | C24: Esperanza de vida al nacer: mujeres (2025) | D24: 2025 | E24: Años | F24: 84.4 | G24: 85 | H24: Banco Central
A25: Demográfico | B25: Esperanza de vida | C25: Esperanza de vida al nacer: hombres (2002) | D25: 2002 | E25: Años | F25: 73.7 | G25: 74 | H25: Banco Central
A26: Demográfico | B26: Esperanza de vida | C26: Esperanza de vida al nacer: mujeres (2002) | D26: 2002 | E26: Años | F26: 79.4 | G26: 80 | H26: Banco Central
A27: Demográfico | B27: Inmigrantes | C27: Inmigrantes (% de la población regional, 1992) | D27: 1992 | E27: % | F27: 0.003 | G27: 0.008 | H27: Censo 2024
A28: Demográfico | B28: Inmigrantes | C28: Inmigrantes (% de la población regional, 2002) | D28: 2002 | E28: % | F28: 0.004 | G28: 0.013 | H28: Censo 2024
A29: Demográfico | B29: Inmigrantes | C29: Inmigrantes (% de la población regional, 2017) | D29: 2017 | E29: % | F29: 0.015 | G29: 0.044 | H29: Censo 2024
A30: Demográfico | B30: Inmigrantes | C30: Inmigrantes (% de la población regional, 2024) | D30: 2024 | E30: % | F30: 0.05 | G30: 0.088 | H30: Censo 2024
A31: Demográfico | B31: Inmigrantes | C31: Principal país de procedencia de los inmigrantes (2024) | D31: 2024 | E31: Texto | F31: Venezuela | G31: Venezuela | H31: Censo 2024
A32: Demográfico | B32: Inmigrantes (estimación SERMIG) | C32: Inmigrantes estimados: total (regulares + irregulares) | D32: 2023 | E32: Personas | F32: 46671 | G32: 1136104 | H32: Estimación SERMIG 2023
A33: Demográfico | B33: Inmigrantes (estimación SERMIG) | C33: Inmigrantes estimados: % de la población regional | D33: 2023 | E33: % | F33: 0.045169651 | G33: 0.05622342 | H33: Estimación SERMIG 2023
A34: Demográfico | B34: Inmigrantes (estimación SERMIG) | C34: Inmigrantes estimados: en situación irregular | D34: 2023 | E34: Personas | F34: 11877 | G34: 336984 | H34: Estimación SERMIG 2023
A35: Demográfico | B35: Inmigrantes (estimación SERMIG) | C35: Inmigrantes estimados: en situación regular | D35: 2023 | E35: Personas | F35: 34794 | G35: 799120 | H35: Estimación SERMIG 2023
A36: Demográfico | B36: Inmigrantes (estimación SERMIG) | C36: Inmigrantes irregulares: % del total nacional | D36: 2023 | E36: % | F36: 0.035244997 | H36: Estimación SERMIG 2023
A37: Demográfico | B37: Inmigrantes (estimación SERMIG) | C37: Inmigrantes regulares: % del total nacional | D37: 2023 | E37: % | F37: 0.043540394 | H37: Estimación SERMIG 2023
A38: Demográfico | B38: Pueblos originarios | C38: Población perteneciente a pueblos originarios | D38: 2024 | E38: Personas | F38: 50681 | G38: 2105863 | H38: Censo 2024
A39: Demográfico | B39: Pueblos originarios | C39: Población perteneciente a pueblos originarios (% de la región) | D39: 2024 | E39: % | F39: 0.052 | G39: 0.115 | H39: Censo 2024
A40: Demográfico | B40: Grupos específicos | C40: Personas con discapacidad (% de la población regional) | D40: 2024 | E40: % | F40: 0.126 | G40: 0.111 | H40: Censo 2024
A41: Demográfico | B41: Grupos específicos | C41: Personas en situación de calle (% de la población regional) | D41: 2024 | E41: % | F41: 0.001 | G41: 0.001 | H41: Censo 2024
A42: Demográfico | B42: Grupos específicos | C42: Población transgénero (% de la población regional) | D42: 2024 | E42: % | F42: 0.003 | G42: 0.004 | H42: Censo 2024
A43: Demográfico | B43: Nacimientos | C43: Nacimientos (2025) | D43: 2025 | E43: Nacimientos | F43: 7944 | G43: 146446 | H43: INE
A44: Demográfico | B44: Nacimientos | C44: Nacimientos: % del total nacional (2025) | D44: 2025 | E44: % | F44: 0.054245251 | H44: INE
A45: Demográfico | B45: Nacimientos | C45: Nacimientos de madre chilena (2025) | D45: 2025 | E45: Nacimientos | F45: 6639 | G45: 117593 | H45: INE
A46: Demográfico | B46: Nacimientos | C46: Nacimientos de madre chilena: % del total regional (2025) | D46: 2025 | E46: % | F46: 0.83572508 | G46: 0.80297857 | H46: INE
A47: Demográfico | B47: Nacimientos | C47: Nacimientos de madre extranjera (2025) | D47: 2025 | E47: Nacimientos | F47: 1305 | G47: 28853 | H47: INE
A48: Demográfico | B48: Nacimientos | C48: Nacimientos de madre extranjera: % del total regional (2025) | D48: 2025 | E48: % | F48: 0.16427492 | G48: 0.19702143 | H48: INE
A49: Demográfico | B49: Nacimientos | C49: Nacimientos (2024) | D49: 2024 | E49: Nacimientos | F49: 8289 | G49: 154441 | H49: INE
A50: Demográfico | B50: Nacimientos | C50: Nacimientos (2023) | D50: 2023 | E50: Nacimientos | F50: 9001 | G50: 171992 | H50: INE
A51: Demográfico | B51: Nacimientos | C51: Nacimientos (2022) | D51: 2022 | E51: Nacimientos | F51: 10072 | G51: 189310 | H51: INE
A52: Demográfico | B52: Nacimientos | C52: Nacimientos (2021) | D52: 2021 | E52: Nacimientos | F52: 9266 | G52: 177467 | H52: INE
A53: Demográfico | B53: Nacimientos | C53: Nacimientos (2020) | D53: 2020 | E53: Nacimientos | F53: 10260 | G53: 195231 | H53: INE
A54: Demográfico | B54: Defunciones | C54: Defunciones (2025) | D54: 2025 | E54: Defunciones | F54: 7156 | G54: 126428 | H54: INE
A55: Demográfico | B55: Defunciones | C55: Defunciones: % del total nacional (2025) | D55: 2025 | E55: % | F55: 0.056601386 | H55: INE
A56: Demográfico | B56: Crecimiento natural | C56: Nacimientos menos defunciones (2025) | D56: 2025 | E56: Personas | F56: 788 | G56: 20018 | H56: INE
A57: Demográfico | B57: Defunciones | C57: Defunciones (2024) | D57: 2024 | E57: Defunciones | F57: 7144 | G57: 126883 | H57: INE
A58: Demográfico | B58: Defunciones | C58: Defunciones (2023) | D58: 2023 | E58: Defunciones | F58: 6621 | G58: 121270 | H58: INE
A59: Demográfico | B59: Defunciones | C59: Defunciones (2022) | D59: 2022 | E59: Defunciones | F59: 7518 | G59: 136958 | H59: INE
A60: Demográfico | B60: Defunciones | C60: Defunciones (2021) | D60: 2021 | E60: Defunciones | F60: 7257 | G60: 137629 | H60: INE
A61: Demográfico | B61: Defunciones | C61: Defunciones (2020) | D61: 2020 | E61: Defunciones | F61: 6447 | G61: 126169 | H61: INE
A62: Demográfico | B62: Matrimonios y AUC | C62: Matrimonios (2025) | D62: 2025 | E62: Matrimonios | F62: 2671 | G62: 60293 | H62: INE
A63: Demográfico | B63: Matrimonios y AUC | C63: Acuerdos de Unión Civil, AUC (2025) | D63: 2025 | E63: AUC | F63: 592 | G63: 19700 | H63: INE
A64: Demográfico | B64: Matrimonios y AUC | C64: Matrimonios + AUC (2025) | D64: 2025 | E64: Uniones | F64: 3263 | G64: 79993 | H64: INE
A65: Demográfico | B65: Matrimonios y AUC | C65: Matrimonios + AUC: % del total nacional (2025) | D65: 2025 | E65: % | F65: 0.040791069 | H65: INE
A66: Demográfico | B66: Matrimonios y AUC | C66: Matrimonios (2024) | D66: 2024 | E66: Matrimonios | F66: 2599 | G66: 61119 | H66: INE
A67: Demográfico | B67: Matrimonios y AUC | C67: Matrimonios (2023) | D67: 2023 | E67: Matrimonios | F67: 2804 | G67: 64285 | H67: INE
A68: Demográfico | B68: Matrimonios y AUC | C68: Matrimonios (2022) | D68: 2022 | E68: Matrimonios | F68: 3010 | G68: 68482 | H68: INE
A69: Demográfico | B69: Matrimonios y AUC | C69: Matrimonios (2021) | D69: 2021 | E69: Matrimonios | F69: 2194 | G69: 53255 | H69: INE
A70: Demográfico | B70: Matrimonios y AUC | C70: Matrimonios (2020) | D70: 2020 | E70: Matrimonios | F70: 1688 | G70: 37647 | H70: INE
A71: Demográfico | B71: Matrimonios y AUC | C71: Acuerdos de Unión Civil, AUC (2024) | D71: 2024 | E71: AUC | F71: 474 | G71: 16266 | H71: INE
A72: Demográfico | B72: Matrimonios y AUC | C72: Acuerdos de Unión Civil, AUC (2023) | D72: 2023 | E72: AUC | F72: 372 | G72: 11745 | H72: INE
A73: Demográfico | B73: Matrimonios y AUC | C73: Acuerdos de Unión Civil, AUC (2022) | D73: 2022 | E73: AUC | F73: 253 | G73: 8917 | H73: INE
A74: Demográfico | B74: Matrimonios y AUC | C74: Acuerdos de Unión Civil, AUC (2021) | D74: 2021 | E74: AUC | F74: 209 | G74: 8661 | H74: INE
A75: Demográfico | B75: Matrimonios y AUC | C75: Acuerdos de Unión Civil, AUC (2020) | D75: 2020 | E75: AUC | F75: 170 | G75: 5328 | H75: INE
A76: Demográfico | B76: Natalidad y fecundidad | C76: Tasa bruta de natalidad (2025) | D76: 2025 | E76: Nacimientos por 1.000 hab. | F76: 7.7 | G76: 7.2 | H76: INE
A77: Demográfico | B77: Natalidad y fecundidad | C77: Tasa global de fecundidad (2025) | D77: 2025 | E77: Hijos por mujer | F77: 1.19 | G77: 0.99 | H77: INE
... A87: Demográfico | B87: Envejecimiento | C87: Índice de envejecimiento | D87: 2024 | E87: Adultos de 65+ por 100 menores de 15 | F87: 83.1 | G87: 79 | H87: Censo 2024
A88: Economía | B88: PIB por actividad económica | C88: PIB total (2025) | D88: 2025 | E88: Miles de millones de $ encadenados | G88: 197978 | H88: BC
A89: Economía | B89: PIB por actividad económica | C89: PIB Agropecuario-silvícola (2025) | D89: 2025 | E89: Miles de millones de $ encadenados | F89: 1561 | G89: 7188 | H89: BC
A90: Economía | B90: PIB por actividad económica | C90: PIB Pesca (2025) | D90: 2025 | E90: Miles de millones de $ encadenados | F90: 5 | G90: 1534 | H90: BC
A91: Economía | B91: PIB por actividad económica | C91: PIB Minería (2025) | D91: 2025 | E91: Miles de millones de $ encadenados | F91: 785 | G91: 15133 | H91: BC
A92: Economía | B92: PIB por actividad económica | C92: PIB Industria manufacturera (2025) | D92: 2025 | E92: Miles de millones de $ encadenados | F92: 880 | G92: 19570 | H92: BC
A93: Economía | B93: PIB por actividad económica | C93: PIB Electricidad, gas, agua y gestión de desechos (2025) | D93: 2025 | E93: Miles de millones de $ encadenados | F93: 355 | G93: 8202 | H93: BC
A94: Economía | B94: PIB por actividad económica | C94: PIB Construcción (2025) | D94: 2025 | E94: Miles de millones de $ encadenados | F94: 592 | G94: 12589 | H94: BC
A95: Economía | B95: PIB por actividad económica | C95: PIB Comercio (2025) | D95: 2025 | E95: Miles de millones de $ encadenados | F95: 918 | G95: 20959 | H95: BC
A96: Economía | B96: PIB por actividad económica | C96: PIB Restaurantes y hoteles (2025) | D96: 2025 | E96: Miles de millones de $ encadenados | F96: 156 | G96: 4152 | H96: BC
A97: Economía | B97: PIB por actividad económica | C97: PIB Transporte, información y comunicaciones (2025) | D97: 2025 | E97: Miles de millones de $ encadenados | F97: 553 | G97: 20872 | H97: BC
A98: Economía | B98: PIB por actividad económica | C98: PIB Servicios financieros y empresariales (2025) | D98: 2025 | E98: Miles de millones de $ encadenados | F98: 882 | G98: 31265 | H98: BC
A99: Economía | B99: PIB por actividad económica | C99: PIB Servicios de vivienda e inmobiliarios (2025) | D99: 2025 | E99: Miles de millones de $ encadenados | F99: 812 | G99: 16816 | H99: BC
A100: Economía | B100: PIB por actividad económica | C100: PIB Servicios personales (2025) | D100: 2025 | E100: Miles de millones de $ encadenados | F100: 1273 | G100: 29402 | H100: BC
... A131: Economía | B131: Grupos socioeconómicos (GSE) | C131: Población en GSE E | D131: 2023 | E131: % (0-100) | F131: 7.8239152 | G131: 6.1251911 | H131: AIM 2023
A132: Economía | B132: Exportaciones | C132: Principal sector exportador (2025) | D132: 2025 | E132: Texto | F132: Agropecuario | G132: Minería | H132: Subrei
A133: Economía | B133: Exportaciones | C133: Participación del principal sector en las exportaciones regionales (2025) | D133: 2025 | E133: % | F133: 0.87 | H133: Subrei
A134: Economía | B134: Inversión Extranjera Directa (IED) | C134: Agrupación territorial considerada | E134: Texto | F134: Región de O’Higgins | G134: Total Nacional | H134: Subrei
A135: Economía | B135: Inversión Extranjera Directa (IED) | C135: Inversión Extranjera Directa (IED) | E135: USD millones | F135: 5916.6895 | G135: 285789.85 | H135: BC
A136: Economía | B136: Inversión Extranjera Directa (IED) | C136: IED: % del total nacional | E136: % | F136: 0.020702938 | H136: BC
A137: Votaciones | B137: Elección presidencial 2025 (2ª vuelta) | C137: 2ª vuelta 2025: Kast | D137: 2025 | E137: % | F137: 0.6052 | G137: 0.5817 | H137: Servel
A138: Votaciones | B138: Elección presidencial 2025 (2ª vuelta) | C138: 2ª vuelta 2025: Jara | D138: 2025 | E138: % | F138: 0.3948 | G138: 0.4183 | H138: Servel
A139: Votaciones | B139: Elección presidencial 2025 (1ª vuelta) | C139: 1ª vuelta 2025: Parisi | D139: 2025 | E139: % | F139: 0.219 | H139: Servel
A140: Votaciones | B140: Elección presidencial 2025 (1ª vuelta) | C140: 1ª vuelta 2025: Jara | D140: 2025 | E140: % | F140: 0.2447 | H140: Servel
...

Sheet Comparador
A1: ESTO ES CHILE · COMPARADOR
A2: Compara cualquier indicador: O'Higgins vs. total nacional
A3: Elige uno o dos indicadores en las listas desplegables. Se muestra O'Higgins frente al total nacional y todo se recalcula solo.
A5: Indicador 1 | B5: Matrículas en educación superior (2021)
A6: Indicador 2 | B6: PIB Servicios de vivienda e inmobiliarios: % del total regional (2025)
B8: Tema | C8: Subtema | D8: Año | E8: Unidad | F8: Fuente | P8: Unidad | Q8: Formato
A9: Indicador 1 | B9: =IFERROR(INDEX('Base Nacional y Regiones'!$A$5:$A$433,MATCH($B$5,'Base Nacional y Regiones'!$D$5:$D$433,0)),"") -> Educación | C9: =IFERROR(INDEX('Base Nacional y Regiones'!$B$5:$B$433,MATCH($B$5,'Base Nacional y Regiones'!$D$5:$D$433,0)),"") -> Educación superior | D9: =IFERROR(IF(INDEX('Base Nacional y Regiones'!$E$5:$E$433,MATCH($B$5,'Base Nacional y Regiones'!$D$5:$D$433,0))=0,"",INDEX('Base Nacional y Regiones'!$E$5:$E$433,MATCH($B$5,'Base Nacional y Regiones'!$D$5:$D$433,0))),"") -> 2021 | E9: =IFERROR(INDEX('Base Nacional y Regiones'!$F$5:$F$433,MATCH($B$5,'Base Nacional y Regiones'!$D$5:$D$433,0)),"") -> Personas | F9: =IFERROR(INDEX('Base Nacional y Regiones'!$G$5:$G$433,MATCH($B$5,'Base Nacional y Regiones'!$D$5:$D$433,0)),"") -> Subse educ | N9: =IFERROR(_xlfn.XLOOKUP(E9,$P$9:$P$59,$Q$9:$Q$59,"#.##0,0"),"#.##0,0") -> #.##0 | P9: % | Q9: 0,0%
A10: Indicador 2 | B10: =IFERROR(INDEX('Base Nacional y Regiones'!$A$5:$A$433,MATCH($B$6,'Base Nacional y Regiones'!$D$5:$D$433,0)),"") -> Economía | C10: =IFERROR(INDEX('Base Nacional y Regiones'!$B$5:$B$433,MATCH($B$6,'Base Nacional y Regiones'!$D$5:$D$433,0)),"") -> PIB por actividad económica (% del total regional) | D10: =IFERROR(IF(INDEX('Base Nacional y Regiones'!$E$5:$E$433,MATCH($B$6,'Base Nacional y Regiones'!$D$5:$D$433,0))=0,"",INDEX('Base Nacional y Regiones'!$E$5:$E$433,MATCH($B$6,'Base Nacional y Regiones'!$D$5:$D$433,0))),"") -> 2025 | E10: =IFERROR(INDEX('Base Nacional y Regiones'!$F$5:$F$433,MATCH($B$6,'Base Nacional y Regiones'!$D$5:$D$433,0)),"") -> % | F10: =IFERROR(INDEX('Base Nacional y Regiones'!$G$5:$G$433,MATCH($B$6,'Base Nacional y Regiones'!$D$5:$D$433,0)),"") -> BC | N10: =IFERROR(_xlfn.XLOOKUP(E10,$P$9:$P$59,$Q$9:$Q$59,"#.##0,0"),"#.##0,0") -> 0,0% | P10: % de personas | Q10: 0,0%
H11: Datos de apoyo para los gráficos · no editar | P11: % de hogares | Q11: 0,0%
A12: Región | B12: =B5 -> Matrículas en educación superior (2021) | C12: Ranking regional | D12: Brecha vs. país | E12: =B6 -> PIB Servicios de vivienda e inmobiliarios: % del total regional (2025) | F12: Ranking regional | H12: Región | I12: Indicador 1 (num) | J12: Indicador 2 (num) | L12: Gráfico 1 (num) | M12: Gráfico 2 (num) | P12: % de mujeres de 15 a 65 años | Q12: 0,0%
A13: O'Higgins | B13: =IF(ISNUMBER(I13),TEXT(I13,$N$9),"s/i") -> 27.088 | C13: =IF(ISNUMBER(I13),_xlfn.RANK.EQ(I13,INDEX('Base Nacional y Regiones'!$I$5:$X$433,MATCH($B$5,'Base Nacional y Regiones'!$D$5:$D$433,0),0),0),"") -> 10 | D13: =IF(AND(ISNUMBER(I13),ISNUMBER($I$14)),TEXT(I13-$I$14,$N$9),"") -> -1.267.613 | E13: =IF(ISNUMBER(J13),TEXT(J13,$N$10),"s/i") -> 8,9% | F13: =IF(ISNUMBER(J13),_xlfn.RANK.EQ(J13,INDEX('Base Nacional y Regiones'!$I$5:$X$433,MATCH($B$6,'Base Nacional y Regiones'!$D$5:$D$433,0),0),0),"") -> 9 | H13: =A13 -> O'Higgins | I13: =IFERROR(IF(INDEX('Base Nacional y Regiones'!$I$5:$X$433,MATCH($B$5,'Base Nacional y Regiones'!$D$5:$D$433,0),MATCH($H13,'Base Nacional y Regiones'!$I$4:$X$4,0))="",NA(),INDEX('Base Nacional y Regiones'!$I$5:$X$433,MATCH($B$5,'Base Nacional y Regiones'!$D$5:$D$433,0),MATCH($H13,'Base Nacional y Regiones'!$I$4:$X$4,0))),NA()) -> 27088 | J13: =IFERROR(IF(INDEX('Base Nacional y Regiones'!$I$5:$X$433,MATCH($B$6,'Base Nacional y Regiones'!$D$5:$D$433,0),MATCH($H13,'Base Nacional y Regiones'!$I$4:$X$4,0))="",NA(),INDEX('Base Nacional y Regiones'!$I$5:$X$433,MATCH($B$6,'Base Nacional y Regiones'!$D$5:$D$433,0),MATCH($H13,'Base Nacional y Regiones'!$I$4:$X$4,0))),NA()) -> 0.089083928 | L13: =IF(ISNUMBER(I13),ROUND(IF(AND(LEFT($E$9,1)="%",$E$9<>"% (0-100)"),I13*100,I13),2),NA()) -> 27088 | M13: =IF(ISNUMBER(J13),ROUND(IF(AND(LEFT($E$10,1)="%",$E$10<>"% (0-100)"),J13*100,J13),2),NA()) -> 8.91 | P13: % de NNA | Q13: 0,0%
A14: Total nacional | B14: =IF(ISNUMBER(I14),TEXT(I14,$N$9),"s/i") -> 1.294.701 | E14: =IF(ISNUMBER(J14),TEXT(J14,$N$10),"s/i") -> 8,5% | H14: =A14 -> Total nacional | I14: =IFERROR(IF(INDEX('Base Nacional y Regiones'!$H$5:$H$433,MATCH($B$5,'Base Nacional y Regiones'!$D$5:$D$433,0))="",NA(),INDEX('Base Nacional y Regiones'!$H$5:$H$433,MATCH($B$5,'Base Nacional y Regiones'!$D$5:$D$433,0))),NA()) -> 1294701 | J14: =IFERROR(IF(INDEX('Base Nacional y Regiones'!$H$5:$H$433,MATCH($B$6,'Base Nacional y Regiones'!$D$5:$D$433,0))="",NA(),INDEX('Base Nacional y Regiones'!$H$5:$H$433,MATCH($B$6,'Base Nacional y Regiones'!$D$5:$D$433,0))),NA()) -> 0.084938731 | L14: =IF(ISNUMBER(I14),ROUND(IF(AND(LEFT($E$9,1)="%",$E$9<>"% (0-100)"),I14*100,I14),2),NA()) -> 1294701 | M14: =IF(ISNUMBER(J14),ROUND(IF(AND(LEFT($E$10,1)="%",$E$10<>"% (0-100)"),J14*100,J14),2),NA()) -> 8.49 | P14: % (0-100) | Q14: 0,0
P15: Índice (0-1) | Q15: 0,000
A16: ="Gráfico 1 · "&$B$5&" · O'Higgins vs. total nacional · unidad: "&$E$9&IF(ISNUMBER($I$14),""," · sin dato nacional") -> Gráfico 1 · Matrículas en educación superior (2021) · O'Higgins vs. total nacional · unidad: Personas | P16: Personas | Q16: #.##0
P17: Nacimientos | Q17: #.##0
P18: Defunciones | Q18: #.##0
P19: Matrimonios | Q19: #.##0
P20: AUC | Q20: #.##0
P21: Uniones | Q21: #.##0
P22: Viviendas | Q22: #.##0
P23: Familias | Q23: #.##0
P24: Vehículos | Q24: #.##0
P25: Toneladas | Q25: #.##0
P26: Hectáreas | Q26: #.##0
P27: Miles de m³ | Q27: #.##0
P28: mm | Q28: #.##0
... P37: N° de campamentos | Q37: #.##0
A38: ="Gráfico 2 · "&$B$6&" · O'Higgins vs. total nacional · unidad: "&$E$10&IF(ISNUMBER($J$14),""," · sin dato nacional") -> Gráfico 2 · PIB Servicios de vivienda e inmobiliarios: % del total regional (2025) · O'Higgins vs. total nacional · unidad: % | P38: Puntaje | Q38: #.##0
P39: Casos | Q39: #.##0
P40: Víctimas | Q40: #.##0
P41: Años | Q41: 0,0
P42: hab/km² | Q42: #.##0,0
P43: Personas por hogar | Q43: 0,00
P44: Libros | Q44: 0,00
P45: Minutos | Q45: 0,0
P46: Hijos por mujer | Q46: 0,00
P47: Nacimientos por 1.000 hab. | Q47: 0,0
P48: Casos por 100.000 hab. | Q48: 0,0
P49: Casos por 100.000 mujeres | Q49: 0,0
P50: Personas por 10.000 hab. | Q50: #.##0,0
... P59: Texto | Q59: @

Sheet Nacional · Panel
A1: PRESENTA EL PAÍS | L1: Datos de apoyo para los gráficos · no editar
A2: Esto es Chile
L3: Grupo etario | M3: Nacional | N3: País
A4: Chile no cabe en una ciudad. | G4: Ver base de datos completa → | L4: 0 a 14 años | M4: =IFERROR(_xlfn.XLOOKUP("Población de 0 a 14 años (% del total regional)",Nacional!$C$5:$C$433,Nacional!$F$5:$F$433),"") -> 0.18161011
A5: Panel de exploración · 429 variables · fuente indicada por variable en la hoja de datos | L5: 15 a 64 años | M5: =IFERROR(_xlfn.XLOOKUP("Población de 15 a 64 años (% del total regional)",Nacional!$C$5:$C$433,Nacional!$F$5:$F$433),"") -> 0.67605096
A6: EL PAÍS EN UNA FICHA | L6: 65 años y más | M6: =IFERROR(_xlfn.XLOOKUP("Población de 65 años y más (% del total regional)",Nacional!$C$5:$C$433,Nacional!$F$5:$F$433),"") -> 0.14233893
A7: Población total | C7: Población urbana | E7: Personas por hogar | G7: Esperanza de vida hombres
A8: =IFERROR(_xlfn.XLOOKUP("Población total",Nacional!$C$5:$C$433,Nacional!$F$5:$F$433),"") -> 20206953 | C8: =IFERROR(_xlfn.XLOOKUP("Población urbana (% del total regional)",Nacional!$C$5:$C$433,Nacional!$F$5:$F$433),"") -> 0.877675 | E8: =IFERROR(_xlfn.XLOOKUP("Promedio de personas por hogar",Nacional!$C$5:$C$433,Nacional!$F$5:$F$433),"") -> 2.8 | G8: =IFERROR(_xlfn.XLOOKUP("Esperanza de vida al nacer: hombres (2025)",Nacional!$C$5:$C$433,Nacional!$F$5:$F$433),"") -> 79
A9: INDICADORES CLAVE | L9: Año | M9: Nacional | N9: País
A10: Población total | C10: Inmigrantes (% de la población) | E10: Población urbana | G10: Población 65 años y más | L10: 2015 | M10: =IFERROR(_xlfn.XLOOKUP("Tasa de desocupación, ambos sexos (2015)",Nacional!$C$5:$C$433,Nacional!$F$5:$F$433),"") -> 0.063
A11: =IFERROR(_xlfn.XLOOKUP("Población total",Nacional!$C$5:$C$433,Nacional!$F$5:$F$433),"") -> 20206953 | C11: =IFERROR(_xlfn.XLOOKUP("Inmigrantes (% de la población regional, 2024)",Nacional!$C$5:$C$433,Nacional!$F$5:$F$433),"") -> 0.088 | E11: =IFERROR(_xlfn.XLOOKUP("Población urbana (% del total regional)",Nacional!$C$5:$C$433,Nacional!$F$5:$F$433),"") -> 0.877675 | G11: =IFERROR(_xlfn.XLOOKUP("Población de 65 años y más (% del total regional)",Nacional!$C$5:$C$433,Nacional!$F$5:$F$433),"") -> 0.14233893 | L11: 2016 | M11: =IFERROR(_xlfn.XLOOKUP("Tasa de desocupación, ambos sexos (2016)",Nacional!$C$5:$C$433,Nacional!$F$5:$F$433),"") -> 0.067
A12: Desocupación (jun-2026) | C12: Ocupación informal (jun-2026) | E12: Hogares con acceso a internet | G12: Ingreso mediano (miles $) | L12: 2017 | M12: =IFERROR(_xlfn.XLOOKUP("Tasa de desocupación, ambos sexos (2017)",Nacional!$C$5:$C$433,Nacional!$F$5:$F$433),"") -> 0.07
A13: =IFERROR(_xlfn.XLOOKUP("Tasa de desocupación, ambos sexos (jun-2026)",Nacional!$C$5:$C$433,Nacional!$F$5:$F$433),"") -> 0.094 | C13: =IFERROR(_xlfn.XLOOKUP("Tasa de ocupación informal, ambos sexos (jun-2026)",Nacional!$C$5:$C$433,Nacional!$F$5:$F$433),"") -> 0.27 | E13: =IFERROR(_xlfn.XLOOKUP("Hogares con acceso a internet (%)",Nacional!$C$5:$C$433,Nacional!$F$5:$F$433),"") -> 0.932 | G13: =IFERROR(_xlfn.XLOOKUP("Ingreso mediano mensual",Nacional!$C$5:$C$433,Nacional!$F$5:$F$433),"") -> 680 | L13: 2018 | M13: =IFERROR(_xlfn.XLOOKUP("Tasa de desocupación, ambos sexos (2018)",Nacional!$C$5:$C$433,Nacional!$F$5:$F$433),"") -> 0.074
A14: PIB per cápita 2025 (USD) | C14: Tasa de homicidios (2025) | E14: Años de escolaridad | G14: IDH (2023) | L14: 2019 | M14: =IFERROR(_xlfn.XLOOKUP("Tasa de desocupación, ambos sexos (2019)",Nacional!$C$5:$C$433,Nacional!$F$5:$F$433),"") -> 0.072
A15: =IFERROR(_xlfn.XLOOKUP("PIB per cápita (2025)",Nacional!$C$5:$C$433,Nacional!$F$5:$F$433),"") -> 17680 | C15: =IFERROR(_xlfn.XLOOKUP("Tasa de homicidios (2025)",Nacional!$C$5:$C$433,Nacional!$F$5:$F$433),"") -> 5.4 | E15: =IFERROR(_xlfn.XLOOKUP("Años promedio de escolaridad (18 años y más)",Nacional!$C$5:$C$433,Nacional!$F$5:$F$433),"") -> 12.1 | G15: =IFERROR(_xlfn.XLOOKUP("Índice de Desarrollo Humano, IDH (2023)",Nacional!$C$5:$C$433,Nacional!$F$5:$F$433),"") -> 0.878 | L15: 2022 | M15: =IFERROR(_xlfn.XLOOKUP("Tasa de desocupación, ambos sexos (2022)",Nacional!$C$5:$C$433,Nacional!$F$5:$F$433),"") -> 0.079
A16: Lista de espera (por 10.000 hab.) | C16: Percepción de aumento de la delincuencia (2025) | E16: PAES Matemática 1 (2026) | G16: Familias en campamentos (2024-2025)
A17: =IFERROR(_xlfn.XLOOKUP("Lista de espera por cada 10.000 hab.: total consulta + operación (junio 2025)",Nacional!$C$5:$C$433,Nacional!$F$5:$F$433),"") -> 1287.8 | C17: =IFERROR(_xlfn.XLOOKUP("Percepción de aumento de la delincuencia en el país (2025)",Nacional!$C$5:$C$433,Nacional!$F$5:$F$433),"") -> 0.829 | E17: =IFERROR(_xlfn.XLOOKUP("PAES Matemática 1: promedio regional (2026)",Nacional!$C$5:$C$433,Nacional!$F$5:$F$433),"") -> 631 | G17: =IFERROR(_xlfn.XLOOKUP("Familias en campamentos (2024-2025)",Nacional!$C$5:$C$433,Nacional!$F$5:$F$433),"") -> 120584
A18: ÍNDICE DE TEMAS · haz clic en el tema para ir a la hoja de datos | L18: 2023 | M18: =IFERROR(_xlfn.XLOOKUP("Tasa de desocupación, ambos sexos (2023)",Nacional!$C$5:$C$433,Nacional!$F$5:$F$433),"") -> 0.087
A19: Tema | D19: Variables | E19: Tema | H19: Variables | L19: 46174 | M19: =IFERROR(_xlfn.XLOOKUP("Tasa de desocupación, ambos sexos (jun-2026)",Nacional!$C$5:$C$433,Nacional!$F$5:$F$433),"") -> 0.094
A20: Administración | D20: =COUNTIF(Nacional!$A$5:$A$433,A20) -> 3 | E20: Empleo | H20: =COUNTIF(Nacional!$A$5:$A$433,E20) -> 85
A21: Demográfico | D21: =COUNTIF(Nacional!$A$5:$A$433,A21) -> 80 | E21: Medio Ambiente | H21: =COUNTIF(Nacional!$A$5:$A$433,E21) -> 25
A22: Economía | D22: =COUNTIF(Nacional!$A$5:$A$433,A22) -> 49 | E22: Vivienda | H22: =COUNTIF(Nacional!$A$5:$A$433,E22) -> 4 | L22: Sector | M22: % del PIB regional
A23: Votaciones | D23: =COUNTIF(Nacional!$A$5:$A$433,A23) -> 16 | E23: Servicios | H23: =COUNTIF(Nacional!$A$5:$A$433,E23) -> 5 | L23: Agropecuario-silvícola | M23: =IFERROR(_xlfn.XLOOKUP("PIB Agropecuario-silvícola: % del total regional (2025)",Nacional!$C$5:$C$433,Nacional!$F$5:$F$433),"") -> 0.036307064
A24: Seguridad | D24: =COUNTIF(Nacional!$A$5:$A$433,A24) -> 35 | E24: Hogares | H24: =COUNTIF(Nacional!$A$5:$A$433,E24) -> 18 | L24: Pesca | M24: =IFERROR(_xlfn.XLOOKUP("PIB Pesca: % del total regional (2025)",Nacional!$C$5:$C$433,Nacional!$F$5:$F$433),"") -> 0.0077483357
A25: Social | D25: =COUNTIF(Nacional!$A$5:$A$433,A25) -> 20 | E25: Cultural, audiovisual, medios | H25: =COUNTIF(Nacional!$A$5:$A$433,E25) -> 16 | L25: Minería | M25: =IFERROR(_xlfn.XLOOKUP("PIB Minería: % del total regional (2025)",Nacional!$C$5:$C$433,Nacional!$F$5:$F$433),"") -> 0.076437786
A26: Geografía | D26: =COUNTIF(Nacional!$A$5:$A$433,A26) -> 8 | E26: Vehículos | H26: =COUNTIF(Nacional!$A$5:$A$433,E26) -> 5 | L26: Industria manufacturera | M26: =IFERROR(_xlfn.XLOOKUP("PIB Industria manufacturera: % del total regional (2025)",Nacional!$C$5:$C$433,Nacional!$F$5:$F$433),"") -> 0.098849367
A27: Educación | D27: =COUNTIF(Nacional!$A$5:$A$433,A27) -> 18 | E27: Inversión | H27: =COUNTIF(Nacional!$A$5:$A$433,E27) -> 12 | L27: Electricidad, gas, agua y gestión de desechos | M27: =IFERROR(_xlfn.XLOOKUP("PIB Electricidad, gas, agua y gestión de desechos: % del total regional (2025)",Nacional!$C$5:$C$433,Nacional!$F$5:$F$433),"") -> 0.041428846
A28: Salud | D28: =COUNTIF(Nacional!$A$5:$A$433,A28) -> 15 | E28: Pesca | H28: =COUNTIF(Nacional!$A$5:$A$433,E28) -> 15 | L28: Construcción | M28: =IFERROR(_xlfn.XLOOKUP("PIB Construcción: % del total regional (2025)",Nacional!$C$5:$C$433,Nacional!$F$5:$F$433),"") -> 0.063587873
L29: Comercio | M29: =IFERROR(_xlfn.XLOOKUP("PIB Comercio: % del total regional (2025)",Nacional!$C$5:$C$433,Nacional!$F$5:$F$433),"") -> 0.1058653
L30: Restaurantes y hoteles | M30: =IFERROR(_xlfn.XLOOKUP("PIB Restaurantes y hoteles: % del total regional (2025)",Nacional!$C$5:$C$433,Nacional!$F$5:$F$433),"") -> 0.020972027
L31: Transporte, información y comunicaciones | M31: =IFERROR(_xlfn.XLOOKUP("PIB Transporte, información y comunicaciones: % del total regional (2025)",Nacional!$C$5:$C$433,Nacional!$F$5:$F$433),"") -> 0.10542586
L32: Servicios financieros y empresariales | M32: =IFERROR(_xlfn.XLOOKUP("PIB Servicios financieros y empresariales: % del total regional (2025)",Nacional!$C$5:$C$433,Nacional!$F$5:$F$433),"") -> 0.15792159
L33: Servicios de vivienda e inmobiliarios | M33: =IFERROR(_xlfn.XLOOKUP("PIB Servicios de vivienda e inmobiliarios: % del total regional (2025)",Nacional!$C$5:$C$433,Nacional!$F$5:$F$433),"") -> 0.084938731
L34: Servicios personales | M34: =IFERROR(_xlfn.XLOOKUP("PIB Servicios personales: % del total regional (2025)",Nacional!$C$5:$C$433,Nacional!$F$5:$F$433),"") -> 0.14851145
L35: Administración pública | M35: =IFERROR(_xlfn.XLOOKUP("PIB Administración pública: % del total regional (2025)",Nacional!$C$5:$C$433,Nacional!$F$5:$F$433),"") -> 0.052005778
L38: Indicador | M38: Nacional | N38: País
L39: Desocupación | M39: =IFERROR(_xlfn.XLOOKUP("Tasa de desocupación, ambos sexos (jun-2026)",Nacional!$C$5:$C$433,Nacional!$F$5:$F$433),"") -> 0.094
L40: Informalidad | M40: =IFERROR(_xlfn.XLOOKUP("Tasa de ocupación informal, ambos sexos (jun-2026)",Nacional!$C$5:$C$433,Nacional!$F$5:$F$433),"") -> 0.27
L41: Pobreza ingresos | M41: =IFERROR(_xlfn.XLOOKUP("Pobreza por ingresos (2024)",Nacional!$C$5:$C$433,Nacional!$F$5:$F$433),"") -> 0.173
L42: Pobreza multidim. | M42: =IFERROR(_xlfn.XLOOKUP("Pobreza multidimensional (2024)",Nacional!$C$5:$C$433,Nacional!$F$5:$F$433),"") -> 0.177
L43: Hacinamiento | M43: =IFERROR(_xlfn.XLOOKUP("Hogares en situación de hacinamiento (%)",Nacional!$C$5:$C$433,Nacional!$F$5:$F$433),"") -> 0.057
L44: Acceso a internet | M44: =IFERROR(_xlfn.XLOOKUP("Hogares con acceso a internet (%)",Nacional!$C$5:$C$433,Nacional!$F$5:$F$433),"") -> 0.932

Sheet Nacional
A1: Esto es Chile · Total nacional
A2: Base de datos regional · Fuentes indicadas por variable
A4: Tema | B4: Subtema | C4: Nombre variable | D4: Año | E4: Unidad | F4: Total nacional | G4: Fuente
A5: Administración | C5: Capital regional | E5: Texto
A6: Administración | C6: Delegado(a) Presidencial Regional | E6: Texto
A7: Administración | C7: Gobernador(a) Regional | E7: Texto
A8: Demográfico | B8: Población | C8: Población total | E8: Personas | F8: 20206953 | G8: INE estimación Censo 2017
A9: Demográfico | B9: Población | C9: Población: % del total nacional | E9: % | G9: INE estimación Censo 2017
A10: Demográfico | B10: Población | C10: Población: hombres | E10: Personas | F10: 9970025 | G10: INE estimación Censo 2017
A11: Demográfico | B11: Población | C11: Población: mujeres | E11: Personas | F11: 10236928 | G11: INE estimación Censo 2017
A12: Demográfico | B12: Población | C12: Población urbana (% del total regional) | E12: % | F12: 0.877675 | G12: Ine estimación Censo 2017
A13: Demográfico | B13: Población | C13: Población rural (% del total regional) | E13: % | F13: 0.122325 | G13: Ine estimación Censo 2017
A14: Demográfico | B14: Densidad poblacional | C14: Densidad poblacional (2024) | D14: 2024 | E14: hab/km² | G14: Ine
A15: Demográfico | B15: Densidad poblacional | C15: Densidad poblacional (2017) | D15: 2017 | E15: hab/km² | G15: Ine
A16: Demográfico | B16: Densidad poblacional | C16: Densidad poblacional (2002) | D16: 2002 | E16: hab/km² | G16: Ine
A17: Demográfico | B17: Población por grupos etarios | C17: Población de 0 a 14 años | E17: Personas | F17: 3669787 | G17: INE estimación Censo 2017
A18: Demográfico | B18: Población por grupos etarios | C18: Población de 15 a 64 años | E18: Personas | F18: 13660930 | G18: INE estimación Censo 2017
A19: Demográfico | B19: Población por grupos etarios | C19: Población de 65 años y más | E19: Personas | F19: 2876236 | G19: INE estimación Censo 2017
A20: Demográfico | B20: Población por grupos etarios | C20: Población de 0 a 14 años (% del total regional) | E20: % | F20: 0.18161011 | G20: INE estimación Censo 2017
A21: Demográfico | B21: Población por grupos etarios | C21: Población de 15 a 64 años (% del total regional) | E21: % | F21: 0.67605096 | G21: INE estimación Censo 2017
A22: Demográfico | B22: Población por grupos etarios | C22: Población de 65 años y más (% del total regional) | E22: % | F22: 0.14233893 | G22: INE estimación Censo 2017
A23: Demográfico | B23: Esperanza de vida | C23: Esperanza de vida al nacer: hombres (2025) | D23: 2025 | E23: Años | F23: 79 | G23: Banco Central
A24: Demográfico | B24: Esperanza de vida | C24: Esperanza de vida al nacer: mujeres (2025) | D24: 2025 | E24: Años | F24: 85 | G24: Banco Central
A25: Demográfico | B25: Esperanza de vida | C25: Esperanza de vida al nacer: hombres (2002) | D25: 2002 | E25: Años | F25: 74 | G25: Banco Central
A26: Demográfico | B26: Esperanza de vida | C26: Esperanza de vida al nacer: mujeres (2002) | D26: 2002 | E26: Años | F26: 80 | G26: Banco Central
A27: Demográfico | B27: Inmigrantes | C27: Inmigrantes (% de la población regional, 1992) | D27: 1992 | E27: % | F27: 0.008 | G27: Censo 2024
A28: Demográfico | B28: Inmigrantes | C28: Inmigrantes (% de la población regional, 2002) | D28: 2002 | E28: % | F28: 0.013 | G28: Censo 2024
A29: Demográfico | B29: Inmigrantes | C29: Inmigrantes (% de la población regional, 2017) | D29: 2017 | E29: % | F29: 0.044 | G29: Censo 2024
A30: Demográfico | B30: Inmigrantes | C30: Inmigrantes (% de la población regional, 2024) | D30: 2024 | E30: % | F30: 0.088 | G30: Censo 2024
A31: Demográfico | B31: Inmigrantes | C31: Principal país de procedencia de los inmigrantes (2024) | D31: 2024 | E31: Texto | F31: Venezuela | G31: Censo 2024
A32: Demográfico | B32: Inmigrantes (estimación SERMIG) | C32: Inmigrantes estimados: total (regulares + irregulares) | D32: 2023 | E32: Personas | F32: 1136104 | G32: Estimación SERMIG 2023
A33: Demográfico | B33: Inmigrantes (estimación SERMIG) | C33: Inmigrantes estimados: % de la población regional | D33: 2023 | E33: % | F33: 0.05622342 | G33: Estimación SERMIG 2023
A34: Demográfico | B34: Inmigrantes (estimación SERMIG) | C34: Inmigrantes estimados: en situación irregular | D34: 2023 | E34: Personas | F34: 336984 | G34: Estimación SERMIG 2023
A35: Demográfico | B35: Inmigrantes (estimación SERMIG) | C35: Inmigrantes estimados: en situación regular | D35: 2023 | E35: Personas | F35: 799120 | G35: Estimación SERMIG 2023
A36: Demográfico | B36: Inmigrantes (estimación SERMIG) | C36: Inmigrantes irregulares: % del total nacional | D36: 2023 | E36: % | G36: Estimación SERMIG 2023
A37: Demográfico | B37: Inmigrantes (estimación SERMIG) | C37: Inmigrantes regulares: % del total nacional | D37: 2023 | E37: % | G37: Estimación SERMIG 2023
A38: Demográfico | B38: Pueblos originarios | C38: Población perteneciente a pueblos originarios | D38: 2024 | E38: Personas | F38: 2105863 | G38: Censo 2024
A39: Demográfico | B39: Pueblos originarios | C39: Población perteneciente a pueblos originarios (% de la región) | D39: 2024 | E39: % | F39: 0.115 | G39: Censo 2024
A40: Demográfico | B40: Grupos específicos | C40: Personas con discapacidad (% de la población regional) | D40: 2024 | E40: % | F40: 0.111 | G40: Censo 2024
A41: Demográfico | B41: Grupos específicos | C41: Personas en situación de calle (% de la población regional) | D41: 2024 | E41: % | F41: 0.001 | G41: Censo 2024
A42: Demográfico | B42: Grupos específicos | C42: Población transgénero (% de la población regional) | D42: 2024 | E42: % | F42: 0.004 | G42: Censo 2024
A43: Demográfico | B43: Nacimientos | C43: Nacimientos (2025) | D43: 2025 | E43: Nacimientos | F43: 146446 | G43: INE
A44: Demográfico | B44: Nacimientos | C44: Nacimientos: % del total nacional (2025) | D44: 2025 | E44: % | G44: INE
A45: Demográfico | B45: Nacimientos | C45: Nacimientos de madre chilena (2025) | D45: 2025 | E45: Nacimientos | F45: 117593 | G45: INE
A46: Demográfico | B46: Nacimientos | C46: Nacimientos de madre chilena: % del total regional (2025) | D46: 2025 | E46: % | F46: 0.80297857 | G46: INE
A47: Demográfico | B47: Nacimientos | C47: Nacimientos de madre extranjera (2025) | D47: 2025 | E47: Nacimientos | F47: 28853 | G47: INE
A48: Demográfico | B48: Nacimientos | C48: Nacimientos de madre extranjera: % del total regional (2025) | D48: 2025 | E48: % | F48: 0.19702143 | G48: INE
A49: Demográfico | B49: Nacimientos | C49: Nacimientos (2024) | D49: 2024 | E49: Nacimientos | F49: 154441 | G49: INE
A50: Demográfico | B50: Nacimientos | C50: Nacimientos (2023) | D50: 2023 | E50: Nacimientos | F50: 171992 | G50: INE
A51: Demográfico | B51: Nacimientos | C51: Nacimientos (2022) | D51: 2022 | E51: Nacimientos | F51: 189310 | G51: INE
A52: Demográfico | B52: Nacimientos | C52: Nacimientos (2021) | D52: 2021 | E52: Nacimientos | F52: 177467 | G52: INE
A53: Demográfico | B53: Nacimientos | C53: Nacimientos (2020) | D53: 2020 | E53: Nacimientos | F53: 195231 | G53: INE
A54: Demográfico | B54: Defunciones | C54: Defunciones (2025) | D54: 2025 | E54: Defunciones | F54: 126428 | G54: INE
A55: Demográfico | B55: Defunciones | C55: Defunciones: % del total nacional (2025) | D55: 2025 | E55: % | G55: INE
A56: Demográfico | B56: Crecimiento natural | C56: Nacimientos menos defunciones (2025) | D56: 2025 | E56: Personas | F56: 20018 | G56: INE
A57: Demográfico | B57: Defunciones | C57: Defunciones (2024) | D57: 2024 | E57: Defunciones | F57: 126883 | G57: INE
A58: Demográfico | B58: Defunciones | C58: Defunciones (2023) | D58: 2023 | E58: Defunciones | F58: 121270 | G58: INE
A59: Demográfico | B59: Defunciones | C59: Defunciones (2022) | D59: 2022 | E59: Defunciones | F59: 136958 | G59: INE
A60: Demográfico | B60: Defunciones | C60: Defunciones (2021) | D60: 2021 | E60: Defunciones | F60: 137629 | G60: INE
A61: Demográfico | B61: Defunciones | C61: Defunciones (2020) | D61: 2020 | E61: Defunciones | F61: 126169 | G61: INE
A62: Demográfico | B62: Matrimonios y AUC | C62: Matrimonios (2025) | D62: 2025 | E62: Matrimonios | F62: 60293 | G62: INE
A63: Demográfico | B63: Matrimonios y AUC | C63: Acuerdos de Unión Civil, AUC (2025) | D63: 2025 | E63: AUC | F63: 19700 | G63: INE
A64: Demográfico | B64: Matrimonios y AUC | C64: Matrimonios + AUC (2025) | D64: 2025 | E64: Uniones | F64: 79993 | G64: INE
A65: Demográfico | B65: Matrimonios y AUC | C65: Matrimonios + AUC: % del total nacional (2025) | D65: 2025 | E65: % | G65: INE
A66: Demográfico | B66: Matrimonios y AUC | C66: Matrimonios (2024) | D66: 2024 | E66: Matrimonios | F66: 61119 | G66: INE
A67: Demográfico | B67: Matrimonios y AUC | C67: Matrimonios (2023) | D67: 2023 | E67: Matrimonios | F67: 64285 | G67: INE
A68: Demográfico | B68: Matrimonios y AUC | C68: Matrimonios (2022) | D68: 2022 | E68: Matrimonios | F68: 68482 | G68: INE
A69: Demográfico | B69: Matrimonios y AUC | C69: Matrimonios (2021) | D69: 2021 | E69: Matrimonios | F69: 53255 | G69: INE
A70: Demográfico | B70: Matrimonios y AUC | C70: Matrimonios (2020) | D70: 2020 | E70: Matrimonios | F70: 37647 | G70: INE
A71: Demográfico | B71: Matrimonios y AUC | C71: Acuerdos de Unión Civil, AUC (2024) | D71: 2024 | E71: AUC | F71: 16266 | G71: INE
A72: Demográfico | B72: Matrimonios y AUC | C72: Acuerdos de Unión Civil, AUC (2023) | D72: 2023 | E72: AUC | F72: 11745 | G72: INE
A73: Demográfico | B73: Matrimonios y AUC | C73: Acuerdos de Unión Civil, AUC (2022) | D73: 2022 | E73: AUC | F73: 8917 | G73: INE
A74: Demográfico | B74: Matrimonios y AUC | C74: Acuerdos de Unión Civil, AUC (2021) | D74: 2021 | E74: AUC | F74: 8661 | G74: INE
A75: Demográfico | B75: Matrimonios y AUC | C75: Acuerdos de Unión Civil, AUC (2020) | D75: 2020 | E75: AUC | F75: 5328 | G75: INE
A76: Demográfico | B76: Natalidad y fecundidad | C76: Tasa bruta de natalidad (2025) | D76: 2025 | E76: Nacimientos por 1.000 hab. | F76: 7.2 | G76: INE
A77: Demográfico | B77: Natalidad y fecundidad | C77: Tasa global de fecundidad (2025) | D77: 2025 | E77: Hijos por mujer | F77: 0.99 | G77: INE
... A131: Economía | B131: Grupos socioeconómicos (GSE) | C131: Población en GSE E | D131: 2023 | E131: % (0-100) | F131: 6.1251911 | G131: AIM 2023
A132: Economía | B132: Exportaciones | C132: Principal sector exportador (2025) | D132: 2025 | E132: Texto | F132: Minería | G132: Subrei
A133: Economía | B133: Exportaciones | C133: Participación del principal sector en las exportaciones regionales (2025) | D133: 2025 | E133: % | G133: Subrei
A134: Economía | B134: Inversión Extranjera Directa (IED) | C134: Agrupación territorial considerada | E134: Texto | F134: Total Nacional | G134: Subrei
A135: Economía | B135: Inversión Extranjera Directa (IED) | C135: Inversión Extranjera Directa (IED) | E135: USD millones | F135: 285789.85 | G135: BC
A136: Economía | B136: Inversión Extranjera Directa (IED) | C136: IED: % del total nacional | E136: % | G136: BC
A137: Votaciones | B137: Elección presidencial 2025 (2ª vuelta) | C137: 2ª vuelta 2025: Kast | D137: 2025 | E137: % | F137: 0.5817 | G137: Servel
A138: Votaciones | B138: Elección presidencial 2025 (2ª vuelta) | C138: 2ª vuelta 2025: Jara | D138: 2025 | E138: % | F138: 0.4183 | G138: Servel
A139: Votaciones | B139: Elección presidencial 2025 (1ª vuelta) | C139: 1ª vuelta 2025: Parisi | D139: 2025 | E139: % | G139: Servel
A140: Votaciones | B140: Elección presidencial 2025 (1ª vuelta) | C140: 1ª vuelta 2025: Jara | D140: 2025 | E140: % | G140: Servel
A141: Votaciones | B141: Elección presidencial 2025 (1ª vuelta) | C141: 1ª vuelta 2025: MEO | D141: 2025 | E141: % | G141: Servel
A142: Votaciones | B142: Elección presidencial 2025 (1ª vuelta) | C142: 1ª vuelta 2025: Kaiser | D142: 2025 | E142: % | G142: Servel
A143: Votaciones | B143: Elección presidencial 2025 (1ª vuelta) | C143: 1ª vuelta 2025: Kast | D143: 2025 | E143: % | G143: Servel
A144: Votaciones | B144: Elección presidencial 2025 (1ª vuelta) | C144: 1ª vuelta 2025: Artes | D144: 2025 | E144: % | G144: Servel
A145: Votaciones | B145: Elección presidencial 2025 (1ª vuelta) | C145: 1ª vuelta 2025: Matthei | D145: 2025 | E145: % | G145: Servel
A146: Votaciones | B146: Elección presidencial 2025 (1ª vuelta) | C146: 1ª vuelta 2025: Mayne-Nicholls | D146: 2025 | E146: % | G146: Servel
A147: Votaciones | B147: Plebiscito constitucional 2023 | C147: Plebiscito 2023: A favor | D147: 2023 | E147: % | F147: 0.4421 | G147: Servel
A148: Votaciones | B148: Plebiscito constitucional 2023 | C148: Plebiscito 2023: En contra | D148: 2023 | E148: % | F148: 0.5579 | G148: Servel
A149: Votaciones | B149: Plebiscito constitucional 2022 | C149: Plebiscito 2022: Apruebo | D149: 2022 | E149: % | F149: 0.3811 | G149: Servel
A150: Votaciones | B150: Plebiscito constitucional 2022 | C150: Plebiscito 2022: Rechazo | D150: 2022 | E150: % | F150: 0.6189 | G150: Servel
A151: Votaciones | B151: Elección presidencial 2021 (2ª vuelta) | C151: 2ª vuelta 2021: Boric | D151: 2021 | E151: % | F151: 0.5587 | G151: Servel
A152: Votaciones | B152: Elección presidencial 2021 (2ª vuelta) | C152: 2ª vuelta 2021: Kast | D152: 2021 | E152: % | F152: 0.4413 | G152: Servel
A153: Seguridad | B153: Homicidios | C153: Tasa de homicidios (2025) | D153: 2025 | E153: Casos por 100.000 hab. | F153: 5.4 | G153: Fiscalía
A154: Seguridad | B154: Homicidios | C154: Tasa de homicidios (2024) | D154: 2024 | E154: Casos por 100.000 hab. | F154: 5.4 | G154: Fiscalía
...

Sheet Base Nacional y Regiones
A1: Esto es Chile · Base de datos regional
A2: Todas las regiones y total nacional
A4: Tema | B4: Subtema | C4: Variable (original) | D4: Nombre variable | E4: Año | F4: Unidad | G4: Fuente | H4: Nacional | I4: Arica y Parinacota | J4: Tarapacá | K4: Antofagasta | L4: Atacama | M4: Coquimbo | N4: Valparaíso | O4: Metropolitana | P4: O'Higgins | Q4: Maule | R4: Ñuble | S4: Biobío | T4: La Araucanía | U4: Los Ríos | V4: Los Lagos | W4: Aysén | X4: Magallanes
A5: Administración | C5: Capital | D5: Capital regional | F5: Texto | I5: Arica | J5: Iquique | K5: Antofagasta | L5: Copiapó | M5: La Serena | N5: Valparaíso | O5: Santiago | P5: Rancagua | Q5: Talca | R5: Chillán | S5: Concepción | T5: Temuco | U5: Valdivia | V5: Puerto Montt | W5: Coyhaique | X5: Punta Arenas
A6: Administración | C6: Delegado Presidencial | D6: Delegado(a) Presidencial Regional | F6: Texto | I6: Cristián Sayes | J6: Adriana Tapia | K6: Katherine López | L6: Sofía Cid | M6: Víctor Pino | N6: Manuel Millones | O6: Germán Codina | P6: Susana Pinto | Q6: Juan Eduardo Prieto | R6: Diego Sepúlveda | S6: Julio Anativia | T6: Francisco Ljubetic | U6: Vicky Carrasco | V6: Cristián Palma | W6: Luz María Vicuña | X6: Ericka Farías
A7: Administración | C7: Gobernador | D7: Gobernador(a) Regional | F7: Texto | I7: Diego Paco Mamani (RN) | J7: José Miguel Carvajal Gallardo (IND) | K7: Ricardo Díaz Cortés (IND) | L7: Miguel Vargas Correa (IND) | M7: Cristóbal Juliá de la Vega (IND) | N7: Rodrigo Mundaca Cabrera (IND) | O7: Claudio Orrego Larraín (IND) | P7: Pablo Silva Amaya (PS) | Q7: Pedro Álvarez-Salamanca Ramírez (UDI) | R7: Óscar Crisóstomo Llanos (PS) | S7: Sergio Giacaman García (IND) | T7: René Saffirio Espinoza (IND) | U7: Luis Cuvertino Gómez (PS) | V7: Alejandro Santana Tirachini (RN) | W7: Marcelo Santana Vargas (UDI) | X7: Jorge Flies Añón (PR)
A8: Demográfico | B8: Población | C8: Población | D8: Población total | F8: Personas | G8: INE estimación Censo 2017 | H8: 20206953 | I8: 263687 | J8: 410903 | K8: 722120 | L8: 320864 | M8: 889273 | N8: 2040166 | O8: 8471244 | P8: 1033238 | Q8: 1181074 | R8: 523876 | S8: 1690616 | T8: 1035918 | U8: 414293 | V8: 916721 | W8: 108744 | X8: 184216
A9: Demográfico | B9: Población | C9: % del total nacional | D9: Población: % del total nacional | F9: % | G9: INE estimación Censo 2017 | I9: 0.01304932 | J9: 0.020334733 | K9: 0.035736214 | L9: 0.015878891 | M9: 0.044008268 | N9: 0.10096356 | O9: 0.41922421 | P9: 0.051132796 | Q9: 0.058448891 | R9: 0.025925532 | S9: 0.083665063 | T9: 0.051265423 | U9: 0.020502497 | V9: 0.045366612 | W9: 0.005381514 | X9: 0.009116466
A10: Demográfico | B10: Población | C10: Hombres | D10: Población: hombres | F10: Personas | G10: INE estimación Censo 2017 | H10: 9970025 | I10: 133209 | J10: 206868 | K10: 362842 | L10: 161704 | M10: 435021 | N10: 997310 | O10: 4194152 | P10: 516204 | Q10: 578091 | R10: 251913 | S10: 821640 | T10: 505021 | U10: 202098 | V10: 455519 | W10: 54690 | X10: 93743
A11: Demográfico | B11: Población | C11: Mujeres | D11: Población: mujeres | F11: Personas | G11: INE estimación Censo 2017 | H11: 10236928 | I11: 130478 | J11: 204035 | K11: 359278 | L11: 159160 | M11: 454252 | N11: 1042856 | O11: 4277092 | P11: 517034 | Q11: 602983 | R11: 271963 | S11: 868976 | T11: 530897 | U11: 212195 | V11: 461202 | W11: 54054 | X11: 90473
A12: Demográfico | B12: Población | C12: Urbano | D12: Población urbana (% del total regional) | F12: % | G12: Ine estimación Censo 2017 | H12: 0.877675 | I12: 0.91667551 | J12: 0.93800483 | K12: 0.9410963 | L12: 0.91037433 | M12: 0.81194214 | N12: 0.91005737 | O12: 0.96295443 | P12: 0.74392792 | Q12: 0.73221781 | R12: 0.69428579 | S12: 0.88579816 | T12: 0.70886647 | U12: 0.71663068 | V12: 0.73612539 | W12: 0.79584715 | X12: 0.91902506
A13: Demográfico | B13: Población | C13: Rural | D13: Población rural (% del total regional) | F13: % | G13: Ine estimación Censo 2017 | H13: 0.122325 | I13: 0.083324486 | J13: 0.061995172 | K13: 0.058903699 | L13: 0.089625674 | M13: 0.18805786 | N13: 0.089942629 | O13: 0.037045566 | P13: 0.25607208 | Q13: 0.26778219 | R13: 0.30571421 | S13: 0.11420184 | T13: 0.29113353 | U13: 0.28336932 | V13: 0.26387461 | W13: 0.20415285 | X13: 0.080974942
A14: Demográfico | B14: Densidad poblacional | C14: 2024 | D14: Densidad poblacional (2024) | E14: 2024 | F14: hab/km² | G14: Ine | I14: 15.5 | J14: 9.6 | K14: 5.7 | L14: 4.2 | M14: 21.7 | N14: 125.7 | O14: 546.9 | P14: 62.7 | Q14: 38.7 | R14: 39.8 | S14: 70.4 | T14: 32.5 | U14: 22.6 | V14: 18.9 | W14: 1 | X14: 1.4
A15: Demográfico | B15: Densidad poblacional | C15: 2017 | D15: Densidad poblacional (2017) | E15: 2017 | F15: hab/km² | G15: Ine | I15: 15.4 | J15: 9.5 | K15: 5.7 | L15: 4.2 | M15: 21.4 | N15: 123.8 | O15: 543.5 | P15: 62.2 | Q15: 38.4 | R15: 39.6 | S15: 70.2 | T15: 32.3 | U15: 22.5 | V15: 18.8 | W15: 1 | X15: 1.4
A16: Demográfico | B16: Densidad poblacional | C16: 2002 | D16: Densidad poblacional (2002) | E16: 2002 | F16: hab/km² | G16: Ine | J16: 5.9 | K16: 4.1 | L16: 3.5 | M16: 15.4 | N16: 97.3 | O16: 408 | P16: 49.4 | Q16: 31.1 | S16: 52.1 | T16: 28.3 | V16: 15.3 | W16: 0.9 | X16: 0.1
A17: Demográfico | B17: Población por grupos etarios | C17: 0-14 años | D17: Población de 0 a 14 años | F17: Personas | G17: INE estimación Censo 2017 | H17: 3669787 | I17: 50887 | J17: 89205 | K17: 142026 | L17: 66469 | M17: 169314 | N17: 351597 | O17: 1522637 | P17: 188580 | Q17: 217357 | R17: 90614 | S17: 300012 | T17: 193967 | U17: 72556 | V17: 162593 | W17: 21286 | X17: 30687
A18: Demográfico | B18: Población por grupos etarios | C18: 15-64 años | D18: Población de 15 a 64 años | F18: Personas | G18: INE estimación Censo 2017 | H18: 13660930 | I18: 178035 | J18: 281877 | K18: 513661 | L18: 212957 | M18: 586112 | N18: 1338719 | O18: 5855765 | P18: 679641 | Q18: 772152 | R18: 339259 | S18: 1130052 | T18: 676079 | U18: 275375 | V18: 621486 | W18: 73430 | X18: 126330
A19: Demográfico | B19: Población por grupos etarios | C19: 65 y más años | D19: Población de 65 años y más | F19: Personas | G19: INE estimación Censo 2017 | H19: 2876236 | I19: 34765 | J19: 39821 | K19: 66433 | L19: 41438 | M19: 133847 | N19: 349850 | O19: 1092842 | P19: 165017 | Q19: 191565 | R19: 94003 | S19: 260552 | T19: 165872 | U19: 66362 | V19: 132642 | W19: 14028 | X19: 27199
A20: Demográfico | B20: Población por grupos etarios | C20: % 0-14 años | D20: Población de 0 a 14 años (% del total regional) | F20: % | G20: INE estimación Censo 2017 | H20: 0.18161011 | I20: 0.19298259 | J20: 0.21709503 | K20: 0.19667922 | L20: 0.2071563 | M20: 0.19039598 | N20: 0.17233745 | O20: 0.17974184 | P20: 0.18251361 | Q20: 0.18403335 | R20: 0.17296841 | S20: 0.17745721 | T20: 0.18724165 | U20: 0.17513209 | V20: 0.17736367 | W20: 0.19574413 | X20: 0.16658162
A21: Demográfico | B21: Población por grupos etarios | C21: % 15-64 años | D21: Población de 15 a 64 años (% del total regional) | F21: % | G21: INE estimación Censo 2017 | H21: 0.67605096 | I21: 0.67517549 | J21: 0.68599402 | K21: 0.7113236 | L21: 0.66369864 | M21: 0.65909119 | N21: 0.65618141 | O21: 0.69125208 | P21: 0.65777778 | Q21: 0.65377106 | R21: 0.64759409 | S21: 0.66842618 | T21: 0.65263756 | U21: 0.66468659 | V21: 0.67794454 | W21: 0.67525565 | X21: 0.68577105
A22: Demográfico | B22: Población por grupos etarios | C22: % 65 y más años | D22: Población de 65 años y más (% del total regional) | F22: % | G22: INE estimación Censo 2017 | H22: 0.14233893 | I22: 0.13184192 | J22: 0.09691095 | K22: 0.091997175 | L22: 0.12914506 | M22: 0.15051283 | N22: 0.17148114 | O22: 0.12900608 | P22: 0.15970861 | Q22: 0.16219559 | R22: 0.1794375 | S22: 0.15411661 | T22: 0.16012078 | U22: 0.16018132 | V22: 0.14469179 | W22: 0.12900022 | X22: 0.14764733
A23: Demográfico | B23: Esperanza de vida | C23: Hombres (2025) | D23: Esperanza de vida al nacer: hombres (2025) | E23: 2025 | F23: Años | G23: Banco Central | H23: 79 | I23: 78.9 | J23: 79.3 | K23: 77.5 | L23: 79 | M23: 80 | N23: 79.4 | O23: 79.6 | P23: 79.5 | Q23: 79.3 | R23: 78.7 | S23: 78.9 | T23: 78.5 | U23: 77.8 | V23: 78.4 | W23: 78.3 | X23: 78.6
A24: Demográfico | B24: Esperanza de vida | C24: Mujeres (2025) | D24: Esperanza de vida al nacer: mujeres (2025) | E24: 2025 | F24: Años | G24: Banco Central | H24: 85 | I24: 84.1 | J24: 84.1 | K24: 82.7 | L24: 84.3 | M24: 85.2 | N24: 84.6 | O24: 84.9 | P24: 84.4 | Q24: 84.3 | R24: 84.3 | S24: 84.4 | T24: 84 | U24: 84.3 | V24: 84 | W24: 85.4 | X24: 83.7
A25: Demográfico | B25: Esperanza de vida | C25: Hombres (2002) | D25: Esperanza de vida al nacer: hombres (2002) | E25: 2002 | F25: Años | G25: Banco Central | H25: 74 | I25: 74.1 | J25: 73.6 | K25: 72.3 | L25: 75 | M25: 76.3 | N25: 74.4 | O25: 75 | P25: 73.7 | Q25: 73.2 | R25: 72.3 | S25: 73.4 | T25: 73.1 | U25: 73.3 | V25: 72.2 | W25: 72.8 | X25: 72.1
A26: Demográfico | B26: Esperanza de vida | C26: Mujeres (2002) | D26: Esperanza de vida al nacer: mujeres (2002) | E26: 2002 | F26: Años | G26: Banco Central | H26: 80 | I26: 80.2 | J26: 80.2 | K26: 78.6 | L26: 80.2 | M26: 80.9 | N26: 80.1 | O26: 80.8 | P26: 79.4 | Q26: 79.3 | R26: 79.3 | S26: 79.5 | T26: 79.3 | U26: 79.5 | V26: 79.5 | W26: 80.1 | X26: 78.9
A27: Demográfico | B27: Inmigrantes | C27: 1992 | D27: Inmigrantes (% de la población regional, 1992) | E27: 1992 | F27: % | G27: Censo 2024 | H27: 0.008 | I27: 0.026 | J27: 0.011 | K27: 0.007 | L27: 0.003 | M27: 0.004 | N27: 0.008 | O27: 0.012 | P27: 0.003 | Q27: 0.003 | R27: 0.002 | S27: 0.003 | T27: 0.006 | U27: 0.005 | V27: 0.006 | W27: 0.012 | X27: 0.013
A28: Demográfico | B28: Inmigrantes | C28: 2002 | D28: Inmigrantes (% de la población regional, 2002) | E28: 2002 | F28: % | G28: Censo 2024 | H28: 0.013 | I28: 0.033 | J28: 0.029 | K28: 0.013 | L28: 0.005 | M28: 0.005 | N28: 0.011 | O28: 0.019 | P28: 0.004 | Q28: 0.004 | R28: 0.003 | S28: 0.004 | T28: 0.009 | U28: 0.007 | V28: 0.008 | W28: 0.016 | X28: 0.013
A29: Demográfico | B29: Inmigrantes | C29: 2017 | D29: Inmigrantes (% de la población regional, 2017) | E29: 2017 | F29: % | G29: Censo 2024 | H29: 0.044 | I29: 0.082 | J29: 0.137 | K29: 0.11 | L29: 0.031 | M29: 0.02 | N29: 0.023 | O29: 0.07 | P29: 0.015 | Q29: 0.011 | R29: 0.008 | S29: 0.008 | T29: 0.011 | U29: 0.01 | V29: 0.012 | W29: 0.021 | X29: 0.029
A30: Demográfico | B30: Inmigrantes | C30: 2024 | D30: Inmigrantes (% de la población regional, 2024) | E30: 2024 | F30: % | G30: Censo 2024 | H30: 0.088 | I30: 0.149 | J30: 0.232 | K30: 0.197 | L30: 0.085 | M30: 0.054 | N30: 0.053 | O30: 0.131 | P30: 0.05 | Q30: 0.038 | R30: 0.021 | S30: 0.029 | T30: 0.021 | U30: 0.019 | V30: 0.04 | W30: 0.039 | X30: 0.066
A31: Demográfico | B31: Inmigrantes | C31: Principal país de procedencia de los inmigrantes | D31: Principal país de procedencia de los inmigrantes (2024) | E31: 2024 | F31: Texto | G31: Censo 2024 | H31: Venezuela | I31: Bolivia | J31: Bolivia | K31: Bolivia | L31: Bolivia | M31: Venezuela | N31: Venezuela | O31: Venezuela | P31: Venezuela | Q31: Venezuela | R31: Venezuela | S31: Venezuela | T31: Venezuela | U31: Venezuela | V31: Venezuela | W31: Argentina | X31: Venezuela
A32: Demográfico | B32: Inmigrantes (estimación SERMIG) | C32: Total de inmigrantes estimados (regulares + irregulares) | D32: Inmigrantes estimados: total (regulares + irregulares) | E32: 2023 | F32: Personas | G32: Estimación SERMIG 2023 | H32: 1136104 | I32: 17907 | J32: 41034 | K32: 62508 | L32: 18113 | M32: 33696 | N32: 81226 | O32: 575813 | P32: 46671 | Q32: 41952 | R32: 10510 | S32: 38040 | T32: 14286 | U32: 5522 | V32: 27431 | W32: 2430 | X32: 7262
A33: Demográfico | B33: Inmigrantes (estimación SERMIG) | C33: % de la población regional | D33: Inmigrantes estimados: % de la población regional | E33: 2023 | F33: % | G33: Estimación SERMIG 2023 | H33: 0.05622342 | I33: 0.06791006 | J33: 0.099862985 | K33: 0.08656179 | L33: 0.056450708 | M33: 0.037891626 | N33: 0.039813427 | O33: 0.067972661 | P33: 0.045169651 | Q33: 0.035520213 | R33: 0.020061999 | S33: 0.022500674 | T33: 0.013790667 | U33: 0.013328731 | V33: 0.029922954 | W33: 0.02234606 | X33: 0.039421114
A34: Demográfico | B34: Inmigrantes (estimación SERMIG) | C34: Irregulares | D34: Inmigrantes estimados: en situación irregular | E34: 2023 | F34: Personas | G34: Estimación SERMIG 2023 | H34: 336984 | I34: 5381 | J34: 8445 | K34: 13664 | L34: 5155 | M34: 11377 | N34: 23162 | O34: 145163 | P34: 11877 | Q34: 11120 | R34: 1717 | S34: 13172 | T34: 2938 | U34: 917 | V34: 9077 | W34: 504 | X34: 1137
A35: Demográfico | B35: Inmigrantes (estimación SERMIG) | C35: Regulares | D35: Inmigrantes estimados: en situación regular | E35: 2023 | F35: Personas | G35: Estimación SERMIG 2023 | H35: 799120 | I35: 12526 | J35: 32589 | K35: 48844 | L35: 12958 | M35: 22319 | N35: 58064 | O35: 430650 | P35: 34794 | Q35: 30832 | R35: 8793 | S35: 24868 | T35: 11348 | U35: 4605 | V35: 18354 | W35: 1926 | X35: 6125
A36: Demográfico | B36: Inmigrantes (estimación SERMIG) | C36: % del nacional irregulares | D36: Inmigrantes irregulares: % del total nacional | E36: 2023 | F36: % | G36: Estimación SERMIG 2023 | I36: 0.015968117 | J36: 0.025060537 | K36: 0.040547919 | L36: 0.015297462 | M36: 0.033761247 | N36: 0.068733234 | O36: 0.43077119 | P36: 0.035244997 | Q36: 0.032998599 | R36: 0.0050951974 | S36: 0.039087909 | T36: 0.0087185148 | U36: 0.0027211974 | V36: 0.026935997 | W36: 0.00149562 | X36: 0.0033740474
A37: Demográfico | B37: Inmigrantes (estimación SERMIG) | C37: % del nacional regulares | D37: Inmigrantes regulares: % del total nacional | E37: 2023 | F37: % | G37: Estimación SERMIG 2023 | I37: 0.015674742 | J37: 0.040781109 | K37: 0.061122234 | L37: 0.016215337 | M37: 0.027929472 | N37: 0.072659926 | O37: 0.5389053 | P37: 0.043540394 | Q37: 0.038582441 | R37: 0.011003354 | S37: 0.031119231 | T37: 0.014200621 | U37: 0.0057625888 | V37: 0.022967765 | W37: 0.0024101512 | X37: 0.0076646811
A38: Demográfico | B38: Pueblos originarios | C38: Pueblos originarios | D38: Población perteneciente a pueblos originarios | E38: 2024 | F38: Personas | G38: Censo 2024 | H38: 2105863 | I38: 87816 | J38: 89987 | K38: 91280 | L38: 76616 | M38: 92753 | N38: 103716 | O38: 545700 | P38: 50681 | Q38: 47811 | R38: 20145 | S38: 150917 | T38: 347285 | U38: 96382 | V38: 236886 | W38: 29230 | X38: 38658
A39: Demográfico | B39: Pueblos originarios | C39: % de la población de la región | D39: Población perteneciente a pueblos originarios (% de la región) | E39: 2024 | F39: % | G39: Censo 2024 | H39: 0.115 | I39: 0.362 | J39: 0.245 | K39: 0.145 | L39: 0.258 | M39: 0.112 | N39: 0.055 | O39: 0.074 | P39: 0.052 | Q39: 0.043 | R39: 0.039 | S39: 0.094 | T39: 0.345 | U39: 0.243 | V39: 0.267 | W39: 0.292 | X39: 0.234
A40: Demográfico | B40: Grupos específicos | C40: Personas con discapacidad | D40: Personas con discapacidad (% de la población regional) | E40: 2024 | F40: % | G40: Censo 2024 | H40: 0.111 | I40: 0.104 | J40: 0.095 | K40: 0.083 | L40: 0.103 | M40: 0.11 | N40: 0.117 | O40: 0.099 | P40: 0.126 | Q40: 0.131 | R40: 0.153 | S40: 0.13 | T40: 0.133 | U40: 0.122 | V40: 0.111 | W40: 0.108 | X40: 0.093
A41: Demográfico | B41: Grupos específicos | C41: Personas en situación de calle | D41: Personas en situación de calle (% de la población regional) | E41: 2024 | F41: % | G41: Censo 2024 | H41: 0.001 | I41: 0.005 | J41: 0.005 | K41: 0.002 | L41: 0.002 | M41: 0.001 | N41: 0.001 | O41: 0.001 | P41: 0.001 | Q41: 0.001 | R41: 0.0005 | S41: 0.001 | T41: 0.0003 | U41: 0.001 | V41: 0.001 | W41: 0.001 | X41: 0.001
A42: Demográfico | B42: Grupos específicos | C42: Población Transgénero | D42: Población transgénero (% de la población regional) | E42: 2024 | F42: % | G42: Censo 2024 | H42: 0.004 | I42: 0.004 | J42: 0.005 | K42: 0.004 | L42: 0.003 | M42: 0.003 | N42: 0.003 | O42: 0.004 | P42: 0.003 | Q42: 0.003 | R42: 0.003 | S42: 0.003 | T42: 0.003 | U42: 0.003 | V42: 0.003 | W42: 0.002 | X42: 0.003
A43: Demográfico | B43: Nacimientos | C43: Nacimientos (2025) | D43: Nacimientos (2025) | E43: 2025 | F43: Nacimientos | G43: INE | H43: 146446 | I43: 2183 | J43: 4326 | K43: 6252 | L43: 2652 | M43: 6347 | N43: 13822 | O43: 58186 | P43: 7944 | Q43: 8884 | R43: 3846 | S43: 11929 | T43: 8150 | U43: 2984 | V43: 6957 | W43: 752 | X43: 1232
A44: Demográfico | B44: Nacimientos | C44: % del nacional | D44: Nacimientos: % del total nacional (2025) | E44: 2025 | F44: % | G44: INE | I44: 0.014906518 | J44: 0.029539899 | K44: 0.042691504 | L44: 0.018109064 | M44: 0.043340207 | N44: 0.094382912 | O44: 0.39732051 | P44: 0.054245251 | Q44: 0.060663999 | R44: 0.02626224 | S44: 0.081456646 | T44: 0.055651913 | U44: 0.020376111 | V44: 0.047505565 | W44: 0.0051349986 | X44: 0.0084126572
A45: Demográfico | B45: Nacimientos | C45: nacimientos de madre chilena | D45: Nacimientos de madre chilena (2025) | E45: 2025 | F45: Nacimientos | G45: INE | H45: 117593 | I45: 1244 | J45: 2083 | K45: 3357 | L45: 2065 | M45: 5481 | N45: 12115 | O45: 43004 | P45: 6639 | Q45: 7912 | R45: 3648 | S45: 11134 | T45: 7872 | U45: 2885 | V45: 6401 | W45: 708 | X45: 1045
A46: Demográfico | B46: Nacimientos | C46: % del total regional | D46: Nacimientos de madre chilena: % del total regional (2025) | E46: 2025 | F46: % | G46: INE | H46: 0.80297857 | I46: 0.56985799 | J46: 0.48150717 | K46: 0.53694818 | L46: 0.77865762 | M46: 0.86355759 | N46: 0.87650123 | O46: 0.73907813 | P46: 0.83572508 | Q46: 0.89058982 | R46: 0.94851794 | S46: 0.93335569 | T46: 0.96588957 | U46: 0.96682306 | V46: 0.92008049 | W46: 0.94148936 | X46: 0.84821429
A47: Demográfico | B47: Nacimientos | C47: nacimientos de madre extranjera | D47: Nacimientos de madre extranjera (2025) | E47: 2025 | F47: Nacimientos | G47: INE | H47: 28853 | I47: 939 | J47: 2243 | K47: 2895 | L47: 587 | M47: 866 | N47: 1707 | O47: 15182 | P47: 1305 | Q47: 972 | R47: 198 | S47: 795 | T47: 278 | U47: 99 | V47: 556 | W47: 44 | X47: 187
A48: Demográfico | B48: Nacimientos | C48: % del total regional | D48: Nacimientos de madre extranjera: % del total regional (2025) | E48: 2025 | F48: % | G48: INE | H48: 0.19702143 | I48: 0.43014201 | J48: 0.51849283 | K48: 0.46305182 | L48: 0.22134238 | M48: 0.13644241 | N48: 0.12349877 | O48: 0.26092187 | P48: 0.16427492 | Q48: 0.10941018 | R48: 0.051482059 | S48: 0.066644312 | T48: 0.034110429 | U48: 0.033176944 | V48: 0.079919506 | W48: 0.058510638 | X48: 0.15178571
A49: Demográfico | B49: Nacimientos | C49: Nacimientos (2024) | D49: Nacimientos (2024) | E49: 2024 | F49: Nacimientos | G49: INE | H49: 154441 | I49: 2371 | J49: 4246 | K49: 6350 | L49: 2845 | M49: 6683 | N49: 14761 | O49: 60996 | P49: 8289 | Q49: 9341 | R49: 4124 | S49: 13045 | T49: 8653 | U49: 3199 | V49: 7481 | W49: 803 | X49: 1254
A50: Demográfico | B50: Nacimientos | C50: Nacimientos (2023) | D50: Nacimientos (2023) | E50: 2023 | F50: Nacimientos | G50: INE | H50: 171992 | I50: 2709 | J50: 4580 | K50: 6903 | L50: 3069 | M50: 7385 | N50: 16675 | O50: 68111 | P50: 9001 | Q50: 10666 | R50: 4688 | S50: 14641 | T50: 9496 | U50: 3576 | V50: 8100 | W50: 974 | X50: 1418
A51: Demográfico | B51: Nacimientos | C51: Nacimientos (2022) | D51: Nacimientos (2022) | E51: 2022 | F51: Nacimientos | G51: INE | H51: 189310 | I51: 2916 | J51: 5023 | K51: 7484 | L51: 3265 | M51: 8019 | N51: 17904 | O51: 76134 | P51: 10072 | Q51: 11837 | R51: 4838 | S51: 16115 | T51: 10405 | U51: 3779 | V51: 8956 | W51: 1023 | X51: 1540
A52: Demográfico | B52: Nacimientos | C52: Nacimientos (2021) | D52: Nacimientos (2021) | E52: 2021 | F52: Nacimientos | G52: INE | H52: 177467 | I52: 2558 | J52: 4412 | K52: 6765 | L52: 2928 | M52: 7580 | N52: 16844 | O52: 73112 | P52: 9266 | Q52: 10691 | R52: 4484 | S52: 14650 | T52: 9875 | U52: 3442 | V52: 8382 | W52: 982 | X52: 1496
A53: Demográfico | B53: Nacimientos | C53: Nacimientos (2020) | D53: Nacimientos (2020) | E53: 2020 | F53: Nacimientos | G53: INE | H53: 195231 | I53: 2890 | J53: 4724 | K53: 7459 | L53: 3251 | M53: 8134 | N53: 18449 | O53: 81448 | P53: 10260 | Q53: 11683 | R53: 4887 | S53: 16023 | T53: 10449 | U53: 3907 | V53: 8966 | W53: 1059 | X53: 1642
A54: Demográfico | B54: Defunciones | C54: Defunciones (2025) | D54: Defunciones (2025) | E54: 2025 | F54: Defunciones | G54: INE | H54: 126428 | I54: 1580 | J54: 1841 | K54: 3649 | L54: 1972 | M54: 5587 | N54: 15078 | O54: 46548 | P54: 7156 | Q54: 8207 | R54: 4131 | S54: 11646 | T54: 7723 | U54: 3142 | V54: 6368 | W54: 605 | X54: 1195
A55: Demográfico | B55: Defunciones | C55: % del nacional | D55: Defunciones: % del total nacional (2025) | E55: 2025 | F55: % | G55: INE | I55: 0.012497232 | J55: 0.014561648 | K55: 0.028862277 | L55: 0.015597811 | M55: 0.04419116 | N55: 0.11926156 | O55: 0.36817794 | P55: 0.056601386 | Q55: 0.064914418 | R55: 0.032674724 | S55: 0.092115671 | T55: 0.061086152 | U55: 0.02485209 | V55: 0.050368589 | W55: 0.0047853324 | X55: 0.0094520201
A56: Demográfico | B56: Crecimiento natural | C56: Nacimientos - defunciones (2025) | D56: Nacimientos menos defunciones (2025) | E56: 2025 | F56: Personas | G56: INE | H56: 20018 | I56: 603 | J56: 2485 | K56: 2603 | L56: 680 | M56: 760 | N56: -1256 | O56: 11638 | P56: 788 | Q56: 677 | R56: -285 | S56: 283 | T56: 427 | U56: -158 | V56: 589 | W56: 147 | X56: 37
A57: Demográfico | B57: Defunciones | C57: Defunciones (2024) | D57: Defunciones (2024) | E57: 2024 | F57: Defunciones | G57: INE | H57: 126883 | I57: 1583 | J57: 1781 | K57: 3576 | L57: 1921 | M57: 5505 | N57: 15529 | O57: 46850 | P57: 7144 | Q57: 8202 | R57: 4265 | S57: 11710 | T57: 7664 | U57: 3149 | V57: 6212 | W57: 585 | X57: 1207
A58: Demográfico | B58: Defunciones | C58: Defunciones (2023) | D58: Defunciones (2023) | E58: 2023 | F58: Defunciones | G58: INE | H58: 121270 | I58: 1662 | J58: 1731 | K58: 3477 | L58: 1785 | M58: 5126 | N58: 14555 | O58: 44437 | P58: 6621 | Q58: 7833 | R58: 4019 | S58: 11169 | T58: 7705 | U58: 3146 | V58: 6201 | W58: 600 | X58: 1203
A59: Demográfico | B59: Defunciones | C59: Defunciones (2022) | D59: Defunciones (2022) | E59: 2022 | F59: Defunciones | G59: INE | H59: 136958 | I59: 1862 | J59: 1974 | K59: 3751 | L59: 1981 | M59: 5893 | N59: 16471 | O59: 49967 | P59: 7518 | Q59: 8965 | R59: 4524 | S59: 12785 | T59: 8513 | U59: 3644 | V59: 7161 | W59: 695 | X59: 1254
A60: Demográfico | B60: Defunciones | C60: Defunciones (2021) | D60: Defunciones (2021) | E60: 2021 | F60: Defunciones | G60: INE | H60: 137629 | I60: 1897 | J60: 2171 | K60: 3783 | L60: 1925 | M60: 5872 | N60: 16173 | O60: 51532 | P60: 7257 | Q60: 8603 | R60: 4231 | S60: 12560 | T60: 8648 | U60: 3705 | V60: 7227 | W60: 654 | X60: 1391
A61: Demográfico | B61: Defunciones | C61: Defunciones (2020) | D61: Defunciones (2020) | E61: 2020 | F61: Defunciones | G61: INE | H61: 126169 | I61: 1643 | J61: 1802 | K61: 3701 | L61: 1671 | M61: 4840 | N61: 14498 | O61: 51600 | P61: 6447 | Q61: 7557 | R61: 3745 | S61: 10934 | T61: 7163 | U61: 2959 | V61: 5705 | W61: 594 | X61: 1310
A62: Demográfico | B62: Matrimonios y AUC | C62: Matrimonios (2025) | D62: Matrimonios (2025) | E62: 2025 | F62: Matrimonios | G62: INE | H62: 60293 | I62: 718 | J62: 1150 | K62: 2460 | L62: 798 | M62: 2157 | N62: 6106 | O62: 26532 | P62: 2671 | Q62: 3085 | R62: 1367 | S62: 5247 | T62: 3162 | U62: 1319 | V62: 2705 | W62: 289 | X62: 527
A63: Demográfico | B63: Matrimonios y AUC | C63: AUC (2025) | D63: Acuerdos de Unión Civil, AUC (2025) | E63: 2025 | F63: AUC | G63: INE | H63: 19700 | I63: 288 | J63: 587 | K63: 2048 | L63: 383 | M63: 734 | N63: 1704 | O63: 10145 | P63: 592 | Q63: 498 | R63: 217 | S63: 858 | T63: 391 | U63: 226 | V63: 528 | W63: 109 | X63: 392
A64: Demográfico | B64: Matrimonios y AUC | C64: Matrimonio + AUC | D64: Matrimonios + AUC (2025) | E64: 2025 | F64: Uniones | G64: INE | H64: 79993 | I64: 1006 | J64: 1737 | K64: 4508 | L64: 1181 | M64: 2891 | N64: 7810 | O64: 36677 | P64: 3263 | Q64: 3583 | R64: 1584 | S64: 6105 | T64: 3553 | U64: 1545 | V64: 3233 | W64: 398 | X64: 919
A65: Demográfico | B65: Matrimonios y AUC | C65: % del nacional | D65: Matrimonios + AUC: % del total nacional (2025) | E65: 2025 | F65: % | G65: INE | I65: 0.0125761 | J65: 0.0217144 | K65: 0.056354931 | L65: 0.014763792 | M65: 0.036140662 | N65: 0.097633543 | O65: 0.45850262 | P65: 0.040791069 | Q65: 0.044791419 | R65: 0.019801733 | S65: 0.076319178 | T65: 0.044416386 | U65: 0.01931419 | V65: 0.040416036 | W65: 0.0049754354 | X65: 0.011488505
A66: Demográfico | B66: Matrimonios y AUC | C66: Matrimonios (2024) | D66: Matrimonios (2024) | E66: 2024 | F66: Matrimonios | G66: INE | H66: 61119 | I66: 816 | J66: 1234 | K66: 2719 | L66: 789 | M66: 2090 | N66: 6223 | O66: 27006 | P66: 2599 | Q66: 3115 | R66: 1425 | S66: 5329 | T66: 3096 | U66: 1261 | V66: 2639 | W66: 259 | X66: 518
A67: Demográfico | B67: Matrimonios y AUC | C67: Matrimonios (2023) | D67: Matrimonios (2023) | E67: 2023 | F67: Matrimonios | G67: INE | H67: 64285 | I67: 830 | J67: 1298 | K67: 2667 | L67: 882 | M67: 2170 | N67: 6536 | O67: 28594 | P67: 2804 | Q67: 3322 | R67: 1478 | S67: 5525 | T67: 3175 | U67: 1296 | V67: 2804 | W67: 290 | X67: 602
A68: Demográfico | B68: Matrimonios y AUC | C68: Matrimonios (2022) | D68: Matrimonios (2022) | E68: 2022 | F68: Matrimonios | G68: INE | H68: 68482 | I68: 1249 | J68: 1270 | K68: 2137 | L68: 858 | M68: 2187 | N68: 7006 | O68: 30769 | P68: 3010 | Q68: 3472 | R68: 1633 | S68: 6399 | T68: 3494 | U68: 1234 | V68: 2869 | W68: 326 | X68: 569
A69: Demográfico | B69: Matrimonios y AUC | C69: Matrimonios (2021) | D69: Matrimonios (2021) | E69: 2021 | F69: Matrimonios | G69: INE | H69: 53255 | I69: 628 | J69: 1118 | K69: 1684 | L69: 714 | M69: 1758 | N69: 5251 | O69: 24237 | P69: 2194 | Q69: 2531 | R69: 1267 | S69: 4655 | T69: 2714 | U69: 1172 | V69: 2525 | W69: 295 | X69: 512
A70: Demográfico | B70: Matrimonios y AUC | C70: Matrimonios (2020) | D70: Matrimonios (2020) | E70: 2020 | F70: Matrimonios | G70: INE | H70: 37647 | I70: 553 | J70: 804 | K70: 1149 | L70: 510 | M70: 1251 | N70: 4059 | O70: 15596 | P70: 1688 | Q70: 2072 | R70: 957 | S70: 3734 | T70: 2058 | U70: 934 | V70: 1731 | W70: 220 | X70: 331
A71: Demográfico | B71: Matrimonios y AUC | C71: AUC (2024) | D71: Acuerdos de Unión Civil, AUC (2024) | E71: 2024 | F71: AUC | G71: INE | H71: 16266 | I71: 236 | J71: 463 | K71: 1603 | L71: 363 | M71: 645 | N71: 1519 | O71: 8054 | P71: 474 | Q71: 435 | R71: 175 | S71: 749 | T71: 371 | U71: 225 | V71: 479 | W71: 106 | X71: 369
A72: Demográfico | B72: Matrimonios y AUC | C72: AUC (2023) | D72: Acuerdos de Unión Civil, AUC (2023) | E72: 2023 | F72: AUC | G72: INE | H72: 11745 | I72: 179 | J72: 339 | K72: 952 | L72: 251 | M72: 479 | N72: 1327 | O72: 5661 | P72: 372 | Q72: 359 | R72: 145 | S72: 542 | T72: 289 | U72: 159 | V72: 381 | W72: 65 | X72: 245
A73: Demográfico | B73: Matrimonios y AUC | C73: AUC (2022) | D73: Acuerdos de Unión Civil, AUC (2022) | E73: 2022 | F73: AUC | G73: INE | H73: 8917 | I73: 135 | J73: 238 | K73: 355 | L73: 151 | M73: 346 | N73: 995 | O73: 4518 | P73: 253 | Q73: 273 | R73: 117 | S73: 567 | T73: 241 | U73: 163 | V73: 321 | W73: 70 | X73: 174
A74: Demográfico | B74: Matrimonios y AUC | C74: AUC (2021) | D74: Acuerdos de Unión Civil, AUC (2021) | E74: 2021 | F74: AUC | G74: INE | H74: 8661 | I74: 116 | J74: 240 | K74: 307 | L74: 129 | M74: 344 | N74: 875 | O74: 4897 | P74: 209 | Q74: 232 | R74: 93 | S74: 438 | T74: 204 | U74: 141 | V74: 268 | W74: 38 | X74: 130
A75: Demográfico | B75: Matrimonios y AUC | C75: AUC (2020) | D75: Acuerdos de Unión Civil, AUC (2020) | E75: 2020 | F75: AUC | G75: INE | H75: 5328 | I75: 91 | J75: 169 | K75: 289 | L75: 132 | M75: 262 | N75: 758 | O75: 2228 | P75: 170 | Q75: 199 | R75: 73 | S75: 314 | T75: 168 | U75: 93 | V75: 219 | W75: 34 | X75: 129
A76: Demográfico | B76: Natalidad y fecundidad | C76: Tasa bruta de natalidad (Tbn)/ por 1.000 habitantes (2025) | D76: Tasa bruta de natalidad (2025) | E76: 2025 | F76: Nacimientos por 1.000 hab. | G76: INE | H76: 7.2 | I76: 8.3 | J76: 10.5 | K76: 8.7 | L76: 8.3 | M76: 7.1 | N76: 6.8 | O76: 6.9 | P76: 7.7 | Q76: 7.5 | R76: 7.3 | S76: 7.1 | T76: 7.9 | U76: 7.2 | V76: 7.6 | W76: 6.9 | X76: 6.7
A77: Demográfico | B77: Natalidad y fecundidad | C77: Tasa global de fecundidad (TGF) (2025) | D77: Tasa global de fecundidad (2025) | E77: 2025 | F77: Hijos por mujer | G77: INE | H77: 0.99 | I77: 1.17 | J77: 1.32 | K77: 1.06 | L77: 1.19 | M77: 1.02 | N77: 0.98 | O77: 0.88 | P77: 1.19 | Q77: 1.11 | R77: 1.1 | S77: 1 | T77: 1.13 | U77: 1.01 | V77: 1.09 | W77: 1.02 | X77: 0.91
... A87: Demográfico | B87: Envejecimiento | C87: Indice de envejecimiento | D87: Índice de envejecimiento | E87: 2024 | F87: Adultos de 65+ por 100 menores de 15 | G87: Censo 2024 | H87: 79 | I87: 65 | J87: 43.9 | K87: 43.9 | L87: 63.7 | M87: 77.6 | N87: 98.6 | O87: 76.2 | P87: 83.1 | Q87: 83.9 | R87: 97.6 | S87: 84.1 | T87: 83 | U87: 89.2 | V87: 75.8 | W87: 66.2 | X87: 87.1
A88: Economía | B88: PIB por actividad económica | C88: PIB por actividad económica (miles de millones de $ encadenado, 2025) | D88: PIB total (2025) | E88: 2025 | F88: Miles de millones de $ encadenados | G88: BC | H88: 197978
A89: Economía | B89: PIB por actividad económica | C89: Agropecuario-silvícola | D89: PIB Agropecuario-silvícola (2025) | E89: 2025 | F89: Miles de millones de $ encadenados | G89: BC | H89: 7188 | I89: 60 | J89: 3 | K89: 3 | L89: 99 | M89: 409 | N89: 673 | O89: 820 | P89: 1561 | Q89: 1485 | R89: 387 | S89: 448 | T89: 537 | U89: 286 | V89: 357 | W89: 24 | X89: 36
A90: Economía | B90: PIB por actividad económica | C90: Pesca | D90: PIB Pesca (2025) | E90: 2025 | F90: Miles de millones de $ encadenados | G90: BC | H90: 1534 | I90: 40 | J90: 30 | K90: 17 | L90: 10 | M90: 22 | N90: 14 | O90: 0 | P90: 5 | Q90: 12 | R90: 0 | S90: 228 | T90: 3 | U90: 28 | V90: 546 | W90: 471 | X90: 108
A91: Economía | B91: PIB por actividad económica | C91: Minería | D91: PIB Minería (2025) | E91: 2025 | F91: Miles de millones de $ encadenados | G91: BC | H91: 15133 | I91: 43 | J91: 1231 | K91: 9103 | L91: 1722 | M91: 841 | N91: 683 | O91: 446 | P91: 785 | Q91: 27 | R91: 11 | S91: 52 | T91: 21 | U91: 6 | V91: 14 | W91: 16 | X91: 132
A92: Economía | B92: PIB por actividad económica | C92: Industria manufacturera | D92: PIB Industria manufacturera (2025) | E92: 2025 | F92: Miles de millones de $ encadenados | G92: BC | H92: 19570 | I92: 175 | J92: 360 | K92: 582 | L92: 111 | M92: 287 | N92: 1360 | O92: 8905 | P92: 880 | Q92: 1138 | R92: 487 | S92: 2398 | T92: 542 | U92: 545 | V92: 1465 | W92: 70 | X92: 265
A93: Economía | B93: PIB por actividad económica | C93: Electricidad, gas, agua y gestión de desechos | D93: PIB Electricidad, gas, agua y gestión de desechos (2025) | E93: 2025 | F93: Miles de millones de $ encadenados | G93: BC | H93: 8202 | I93: 33 | J93: 62 | K93: 2749 | L93: 595 | M93: 198 | N93: 833 | O93: 1450 | P93: 355 | Q93: 389 | R93: 85 | S93: 929 | T93: 200 | U93: 81 | V93: 161 | W93: 25 | X93: 57
A94: Economía | B94: PIB por actividad económica | C94: Construcción | D94: PIB Construcción (2025) | E94: 2025 | F94: Miles de millones de $ encadenados | G94: BC | H94: 12589 | I94: 234 | J94: 818 | K94: 2069 | L94: 431 | M94: 740 | N94: 947 | O94: 3874 | P94: 592 | Q94: 556 | R94: 230 | S94: 846 | T94: 479 | U94: 171 | V94: 373 | W94: 64 | X94: 165
A95: Economía | B95: PIB por actividad económica | C95: Comercio | D95: PIB Comercio (2025) | E95: 2025 | F95: Miles de millones de $ encadenados | G95: BC | H95: 20959 | I95: 121 | J95: 516 | K95: 632 | L95: 204 | M95: 516 | N95: 1364 | O95: 12909 | P95: 918 | Q95: 806 | R95: 266 | S95: 952 | T95: 623 | U95: 213 | V95: 723 | W95: 69 | X95: 127
A96: Economía | B96: PIB por actividad económica | C96: Restaurantes y hoteles | D96: PIB Restaurantes y hoteles (2025) | E96: 2025 | F96: Miles de millones de $ encadenados | G96: BC | H96: 4152 | I96: 67 | J96: 114 | K96: 270 | L96: 84 | M96: 218 | N96: 392 | O96: 2003 | P96: 156 | Q96: 135 | R96: 64 | S96: 230 | T96: 137 | U96: 55 | V96: 142 | W96: 21 | X96: 64
A97: Economía | B97: PIB por actividad económica | C97: Transporte, información y comunicaciones | D97: PIB Transporte, información y comunicaciones (2025) | E97: 2025 | F97: Miles de millones de $ encadenados | G97: BC | H97: 20872 | I97: 149 | J97: 392 | K97: 1087 | L97: 285 | M97: 553 | N97: 2210 | O97: 11896 | P97: 553 | Q97: 613 | R97: 261 | S97: 1160 | T97: 544 | U97: 224 | V97: 651 | W97: 94 | X97: 200
A98: Economía | B98: PIB por actividad económica | C98: Servicios financieros y empresariales | D98: PIB Servicios financieros y empresariales (2025) | E98: 2025 | F98: Miles de millones de $ encadenados | G98: BC | H98: 31265 | I98: 182 | J98: 449 | K98: 1471 | L98: 439 | M98: 954 | N98: 2104 | O98: 20522 | P98: 882 | Q98: 712 | R98: 280 | S98: 1489 | T98: 566 | U98: 225 | V98: 720 | W98: 65 | X98: 205
A99: Economía | B99: PIB por actividad económica | C99: Servicios de vivienda e inmobiliarios | D99: PIB Servicios de vivienda e inmobiliarios (2025) | E99: 2025 | F99: Miles de millones de $ encadenados | G99: BC | H99: 16816 | I99: 176 | J99: 292 | K99: 550 | L99: 250 | M99: 682 | N99: 1859 | O99: 7681 | P99: 812 | Q99: 905 | R99: 359 | S99: 1321 | T99: 743 | U99: 281 | V99: 641 | W99: 88 | X99: 176
A100: Economía | B100: PIB por actividad económica | C100: Servicios personales | D100: PIB Servicios personales (2025) | E100: 2025 | F100: Miles de millones de $ encadenados | G100: BC | H100: 29402 | I100: 338 | J100: 550 | K100: 1009 | L100: 394 | M100: 1065 | N100: 2577 | O100: 13853 | P100: 1273 | Q100: 1403 | R100: 635 | S100: 2437 | T100: 1496 | U100: 554 | V100: 1317 | W100: 205 | X100: 296
... A131: Economía | B131: Grupos socioeconómicos (GSE) | C131: E | D131: Población en GSE E | E131: 2023 | F131: % (0-100) | G131: AIM 2023 | H131: 6.1251911 | I131: 5.7907385 | J131: 6.9264371 | K131: 4.6922633 | L131: 5.9750336 | M131: 7.7940533 | N131: 5.2521732 | O131: 3.7205499 | P131: 7.8239152 | Q131: 10.924949 | R131: 12.394738 | S131: 7.7587127 | T131: 11.546801 | U131: 7.5212905 | V131: 8.0500764 | W131: 3.8084928 | X131: 1.550332
A132: Economía | B132: Exportaciones | C132: Sector | D132: Principal sector exportador (2025) | E132: 2025 | F132: Texto | G132: Subrei | H132: Minería | I132: Manufactura | J132: Minería | K132: Minería | L132: Minería | M132: Minería | N132: Minería | O132: Manufactura | P132: Agropecuario | Q132: Agropecuario | R132: Forestal | S132: Forestal | T132: Forestal | U132: Forestal | V132: Pesca y Acuicultura | W132: Pesca y Acuicultura | X132: Pesca y Acuicultura
A133: Economía | B133: Exportaciones | C133: Participación del sector en las exportaciones totales de la región | D133: Participación del principal sector en las exportaciones regionales (2025) | E133: 2025 | F133: % | G133: Subrei | I133: 0.41 | J133: 0.89 | K133: 0.94 | L133: 0.97 | M133: 0.83 | N133: 0.65 | O133: 0.28 | P133: 0.87 | Q133: 0.67 | R133: 0.53 | S133: 0.6 | T133: 0.54 | U133: 0.48 | V133: 0.94 | W133: 0.5 | X133: 0.55
A134: Economía | B134: Inversión Extranjera Directa (IED) | C134: Agrupación territorial considerada | D134: Agrupación territorial considerada | F134: Texto | G134: Subrei | H134: Total Nacional | I134: Región de Arica y Parinacota/Tarapacá | K134: Región de Antofagasta | L134: Región de Atacama | M134: Región de Coquimbo | N134: Región de Valparaíso | O134: Región Metropolitana | P134: Región de O’Higgins | Q134: Región del Maule | R134: Región del Ñuble/Biobío | T134: Región de La Araucanía | U134: Región de Los Lagos/Los Ríos | W134: Región de Aysén/Magallanes
A135: Economía | B135: Inversión Extranjera Directa (IED) | C135: Inversión Extranjera Directa (USD millones) | D135: Inversión Extranjera Directa (IED) | F135: USD millones | G135: BC | H135: 285789.85 | I135: 20154.087 | K135: 46082.831 | L135: 11424.829 | M135: 5470.5221 | N135: 7483.8276 | O135: 82390.353 | P135: 5916.6895 | Q135: 4666.0252 | R135: 7604.869 | T135: 998.64487 | U135: 5047.2021 | W135: 691.13343
A136: Economía | B136: Inversión Extranjera Directa (IED) | C136: % del nacional | D136: IED: % del total nacional | F136: % | G136: BC | I136: 0.070520654 | K136: 0.16124726 | L136: 0.039976329 | M136: 0.019141765 | N136: 0.026186471 | O136: 0.28828999 | P136: 0.020702938 | Q136: 0.01632677 | R136: 0.026610004 | T136: 0.0034943329 | U136: 0.017660536 | W136: 0.0024183274
A137: Votaciones | B137: Elección presidencial 2025 (2ª vuelta) | C137: Kast | D137: 2ª vuelta 2025: Kast | E137: 2025 | F137: % | G137: Servel | H137: 0.5817 | I137: 0.6287 | J137: 0.6211 | K137: 0.568 | L137: 0.5451 | M137: 0.5416 | N137: 0.5417 | O137: 0.5322 | P137: 0.6052 | Q137: 0.6608 | R137: 0.6986 | S137: 0.6384 | T137: 0.6892 | U137: 0.6276 | V137: 0.6526 | W137: 0.5993 | X137: 0.5529
A138: Votaciones | B138: Elección presidencial 2025 (2ª vuelta) | C138: Jara | D138: 2ª vuelta 2025: Jara | E138: 2025 | F138: % | G138: Servel | H138: 0.4183 | I138: 0.3713 | J138: 0.3789 | K138: 0.432 | L138: 0.4549 | M138: 0.4584 | N138: 0.4583 | O138: 0.4678 | P138: 0.3948 | Q138: 0.3392 | R138: 0.3014 | S138: 0.3616 | T138: 0.3108 | U138: 0.3724 | V138: 0.3474 | W138: 0.4007 | X138: 0.4471
A139: Votaciones | B139: Elección presidencial 2025 (1ª vuelta) | C139: Parisi | D139: 1ª vuelta 2025: Parisi | E139: 2025 | F139: % | G139: Servel | I139: 0.2784 | J139: 0.3113 | K139: 0.3505 | L139: 0.3261 | M139: 0.267 | N139: 0.195 | O139: 0.1426 | P139: 0.219 | Q139: 0.2215 | R139: 0.2214 | S139: 0.2509 | T139: 0.2057 | U139: 0.2026 | V139: 0.2183 | W139: 0.1656 | X139: 0.1647
A140: Votaciones | B140: Elección presidencial 2025 (1ª vuelta) | C140: Jara | D140: 1ª vuelta 2025: Jara | E140: 2025 | F140: % | G140: Servel | I140: 0.2227 | J140: 0.2198 | K140: 0.2332 | L140: 0.2643 | M140: 0.2749 | N140: 0.2954 | O140: 0.3114 | P140: 0.2447 | Q140: 0.2159 | R140: 0.1901 | S140: 0.2207 | T140: 0.1961 | U140: 0.2441 | V140: 0.2211 | W140: 0.2728 | X140: 0.2889
...
