Workbook

Sheet Índice completo
A2: Índice O'Higgins
A4: Hoja | B4: Qué contiene | C4: Ir a
A5: Portada | B5: Presentación, contenido y notas de uso
A6: O'Higgins · Panel | B6: Panel de exploración de la Región de O'Higgins | C6: abrir →
A7: O'Higgins | B7: Base de datos de la Región de O'Higgins | C7: abrir →
A8: Comparador | B8: Compara cualquier indicador entre las 16 regiones y el total nacional | C8: abrir →
A9: Nacional · Panel | B9: Panel de exploración del total nacional | C9: abrir →
A10: Nacional | B10: Base de datos del total nacional | C10: abrir →
A11: Base Nacional y Regiones | B11: Base completa | C11: abrir →

Sheet O'Higgins · Panel
A1: PRESENTA LA REGIÓN
A2: Esto es O'Higgins
A4: Chile no cabe en una ciudad. | G4: Ver base de datos completa →
A5: Panel de exploración · 429 variables · fuente indicada por variable en la hoja de datos
A6: LA REGIÓN EN UNA FICHA
A7: Capital | C7: Gobernador(a) Regional | E7: Delegado(a) Presidencial | G7: % votación Kast 2ª vuelta
A8: =IFERROR(_xlfn.XLOOKUP("Capital regional",'O''Higgins'!$C$5:$C$433,'O''Higgins'!$F$5:$F$433),"") -> Rancagua | C8: =IFERROR(_xlfn.XLOOKUP("Gobernador(a) Regional",'O''Higgins'!$C$5:$C$433,'O''Higgins'!$F$5:$F$433),"") -> Pablo Silva Amaya (PS) | E8: =IFERROR(_xlfn.XLOOKUP("Delegado(a) Presidencial Regional",'O''Higgins'!$C$5:$C$433,'O''Higgins'!$F$5:$F$433),"") -> Susana Pinto | G8: =IFERROR(_xlfn.XLOOKUP("2ª vuelta 2025: Kast",'O''Higgins'!$C$5:$C$433,'O''Higgins'!$F$5:$F$433),"") -> 0.6052
A9: INDICADORES CLAVE · región y país
A10: Población total | C10: Tasa global de fecundidad (2025) | E10: Población urbana | G10: Población 65 años y más
A11: =IFERROR(_xlfn.XLOOKUP("Población total",'O''Higgins'!$C$5:$C$433,'O''Higgins'!$F$5:$F$433),"") -> 1033238 | C11: =IFERROR(_xlfn.XLOOKUP("Tasa global de fecundidad (2025)",'O''Higgins'!$C$5:$C$433,'O''Higgins'!$F$5:$F$433),"") -> 1.19 | E11: =IFERROR(_xlfn.XLOOKUP("Población urbana (% del total regional)",'O''Higgins'!$C$5:$C$433,'O''Higgins'!$F$5:$F$433),"") -> 0.74392792 | G11: =IFERROR(_xlfn.XLOOKUP("Población de 65 años y más (% del total regional)",'O''Higgins'!$C$5:$C$433,'O''Higgins'!$F$5:$F$433),"") -> 0.15970861
A12: =IFERROR("% de la población del país: "&TEXT(_xlfn.XLOOKUP("Población: % del total nacional",'O''Higgins'!$C$5:$C$433,'O''Higgins'!$F$5:$F$433),"0,0%"),"% de la población del país: s/i") -> % de la población del país: 5,1% | C12: =IF(IFERROR(_xlfn.XLOOKUP("Tasa global de fecundidad (2025)",'O''Higgins'!$C$5:$C$433,'O''Higgins'!$G$5:$G$433),"")="","País: s/i","País: "&TEXT(IFERROR(_xlfn.XLOOKUP("Tasa global de fecundidad (2025)",'O''Higgins'!$C$5:$C$433,'O''Higgins'!$G$5:$G$433),""),"0,00")) -> País: 0,99 | E12: =IF(IFERROR(_xlfn.XLOOKUP("Población urbana (% del total regional)",'O''Higgins'!$C$5:$C$433,'O''Higgins'!$G$5:$G$433),"")="","País: s/i","País: "&TEXT(IFERROR(_xlfn.XLOOKUP("Población urbana (% del total regional)",'O''Higgins'!$C$5:$C$433,'O''Higgins'!$G$5:$G$433),""),"0,0%")) -> País: 87,8% | G12: =IF(IFERROR(_xlfn.XLOOKUP("Población de 65 años y más (% del total regional)",'O''Higgins'!$C$5:$C$433,'O''Higgins'!$G$5:$G$433),"")="","País: s/i","País: "&TEXT(IFERROR(_xlfn.XLOOKUP("Población de 65 años y más (% del total regional)",'O''Higgins'!$C$5:$C$433,'O''Higgins'!$G$5:$G$433),""),"0,0%")) -> País: 14,2%
A13: Desocupación (jun-2026) | C13: Ocupación informal (jun-2026) | E13: Pobreza por ingresos (2024) | G13: Ingreso mediano (miles $)
A14: =IFERROR(_xlfn.XLOOKUP("Tasa de desocupación, ambos sexos (jun-2026)",'O''Higgins'!$C$5:$C$433,'O''Higgins'!$F$5:$F$433),"") -> 0.104 | C14: =IFERROR(_xlfn.XLOOKUP("Tasa de ocupación informal, ambos sexos (jun-2026)",'O''Higgins'!$C$5:$C$433,'O''Higgins'!$F$5:$F$433),"") -> 0.303 | E14: =IFERROR(_xlfn.XLOOKUP("Pobreza por ingresos (2024)",'O''Higgins'!$C$5:$C$433,'O''Higgins'!$F$5:$F$433),"") -> 0.179 | G14: =IFERROR(_xlfn.XLOOKUP("Ingreso mediano mensual",'O''Higgins'!$C$5:$C$433,'O''Higgins'!$F$5:$F$433),"") -> 600
A15: =IF(IFERROR(_xlfn.XLOOKUP("Tasa de desocupación, ambos sexos (jun-2026)",'O''Higgins'!$C$5:$C$433,'O''Higgins'!$G$5:$G$433),"")="","País: s/i","País: "&TEXT(IFERROR(_xlfn.XLOOKUP("Tasa de desocupación, ambos sexos (jun-2026)",'O''Higgins'!$C$5:$C$433,'O''Higgins'!$G$5:$G$433),""),"0,0%")) -> País: 9,4% | C15: =IF(IFERROR(_xlfn.XLOOKUP("Tasa de ocupación informal, ambos sexos (jun-2026)",'O''Higgins'!$C$5:$C$433,'O''Higgins'!$G$5:$G$433),"")="","País: s/i","País: "&TEXT(IFERROR(_xlfn.XLOOKUP("Tasa de ocupación informal, ambos sexos (jun-2026)",'O''Higgins'!$C$5:$C$433,'O''Higgins'!$G$5:$G$433),""),"0,0%")) -> País: 27,0% | E15: =IF(IFERROR(_xlfn.XLOOKUP("Pobreza por ingresos (2024)",'O''Higgins'!$C$5:$C$433,'O''Higgins'!$G$5:$G$433),"")="","País: s/i","País: "&TEXT(IFERROR(_xlfn.XLOOKUP("Pobreza por ingresos (2024)",'O''Higgins'!$C$5:$C$433,'O''Higgins'!$G$5:$G$433),""),"0,0%")) -> País: 17,3% | G15: =IF(IFERROR(_xlfn.XLOOKUP("Ingreso mediano mensual",'O''Higgins'!$C$5:$C$433,'O''Higgins'!$G$5:$G$433),"")="","País: s/i","País: "&TEXT(IFERROR(_xlfn.XLOOKUP("Ingreso mediano mensual",'O''Higgins'!$C$5:$C$433,'O''Higgins'!$G$5:$G$433),""),"$#.##0,0")) -> País: $680,0
A16: PIB per cápita 2025 (USD) | C16: Tasa de homicidios (2025) | E16: Años de escolaridad | G16: IDH (2023)
A17: =IFERROR(_xlfn.XLOOKUP("PIB per cápita (2025)",'O''Higgins'!$C$5:$C$433,'O''Higgins'!$F$5:$F$433),"") -> 14940 | C17: =IFERROR(_xlfn.XLOOKUP("Tasa de homicidios (2025)",'O''Higgins'!$C$5:$C$433,'O''Higgins'!$F$5:$F$433),"") -> 4.1 | E17: =IFERROR(_xlfn.XLOOKUP("Años promedio de escolaridad (18 años y más)",'O''Higgins'!$C$5:$C$433,'O''Higgins'!$F$5:$F$433),"") -> 11.4 | G17: =IFERROR(_xlfn.XLOOKUP("Índice de Desarrollo Humano, IDH (2023)",'O''Higgins'!$C$5:$C$433,'O''Higgins'!$F$5:$F$433),"") -> 0.846
A18: =IF(IFERROR(_xlfn.XLOOKUP("PIB per cápita (2025)",'O''Higgins'!$C$5:$C$433,'O''Higgins'!$G$5:$G$433),"")="","País: s/i","País: "&TEXT(IFERROR(_xlfn.XLOOKUP("PIB per cápita (2025)",'O''Higgins'!$C$5:$C$433,'O''Higgins'!$G$5:$G$433),""),"$#.##0")) -> País: $17.680 | C18: =IF(IFERROR(_xlfn.XLOOKUP("Tasa de homicidios (2025)",'O''Higgins'!$C$5:$C$433,'O''Higgins'!$G$5:$G$433),"")="","País: s/i","País: "&TEXT(IFERROR(_xlfn.XLOOKUP("Tasa de homicidios (2025)",'O''Higgins'!$C$5:$C$433,'O''Higgins'!$G$5:$G$433),""),"0,0")) -> País: 5,4 | E18: =IF(IFERROR(_xlfn.XLOOKUP("Años promedio de escolaridad (18 años y más)",'O''Higgins'!$C$5:$C$433,'O''Higgins'!$G$5:$G$433),"")="","País: s/i","País: "&TEXT(IFERROR(_xlfn.XLOOKUP("Años promedio de escolaridad (18 años y más)",'O''Higgins'!$C$5:$C$433,'O''Higgins'!$G$5:$G$433),""),"0,0")) -> País: 12,1 | G18: =IF(IFERROR(_xlfn.XLOOKUP("Índice de Desarrollo Humano, IDH (2023)",'O''Higgins'!$C$5:$C$433,'O''Higgins'!$G$5:$G$433),"")="","País: s/i","País: "&TEXT(IFERROR(_xlfn.XLOOKUP("Índice de Desarrollo Humano, IDH (2023)",'O''Higgins'!$C$5:$C$433,'O''Higgins'!$G$5:$G$433),""),"0,000")) -> País: 0,878
A19: Lista de espera (por 10.000 hab.) | C19: Percepción de aumento de la delincuencia (2025) | E19: PAES Matemática 1 (2026) | G19: Familias en campamentos (2024-2025)
A20: =IFERROR(_xlfn.XLOOKUP("Lista de espera por cada 10.000 hab.: total consulta + operación (junio 2025)",'O''Higgins'!$C$5:$C$433,'O''Higgins'!$F$5:$F$433),"") -> 1284.2 | C20: =IFERROR(_xlfn.XLOOKUP("Percepción de aumento de la delincuencia en el país (2025)",'O''Higgins'!$C$5:$C$433,'O''Higgins'!$F$5:$F$433),"") -> 0.856 | E20: =IFERROR(_xlfn.XLOOKUP("PAES Matemática 1: promedio regional (2026)",'O''Higgins'!$C$5:$C$433,'O''Higgins'!$F$5:$F$433),"") -> 630 | G20: =IFERROR(_xlfn.XLOOKUP("Familias en campamentos (2024-2025)",'O''Higgins'!$C$5:$C$433,'O''Higgins'!$F$5:$F$433),"") -> 2073
A21: =IF(IFERROR(_xlfn.XLOOKUP("Lista de espera por cada 10.000 hab.: total consulta + operación (junio 2025)",'O''Higgins'!$C$5:$C$433,'O''Higgins'!$G$5:$G$433),"")="","País: s/i","País: "&TEXT(IFERROR(_xlfn.XLOOKUP("Lista de espera por cada 10.000 hab.: total consulta + operación (junio 2025)",'O''Higgins'!$C$5:$C$433,'O''Higgins'!$G$5:$G$433),""),"#.##0,0")) -> País: 1.287,8 | C21: =IF(IFERROR(_xlfn.XLOOKUP("Percepción de aumento de la delincuencia en el país (2025)",'O''Higgins'!$C$5:$C$433,'O''Higgins'!$G$5:$G$433),"")="","País: s/i","País: "&TEXT(IFERROR(_xlfn.XLOOKUP("Percepción de aumento de la delincuencia en el país (2025)",'O''Higgins'!$C$5:$C$433,'O''Higgins'!$G$5:$G$433),""),"0,0%")) -> País: 82,9% | E21: =IF(IFERROR(_xlfn.XLOOKUP("PAES Matemática 1: promedio regional (2026)",'O''Higgins'!$C$5:$C$433,'O''Higgins'!$G$5:$G$433),"")="","País: s/i","País: "&TEXT(IFERROR(_xlfn.XLOOKUP("PAES Matemática 1: promedio regional (2026)",'O''Higgins'!$C$5:$C$433,'O''Higgins'!$G$5:$G$433),""),"#.##0")) -> País: 631 | G21: =IFERROR("% del total nacional: "&TEXT(_xlfn.XLOOKUP("Familias en campamentos (2024-2025): % del total nacional",'O''Higgins'!$C$5:$C$433,'O''Higgins'!$F$5:$F$433),"0,0%"),"% del total nacional: s/i") -> % del total nacional: 1,7%
A22: ÍNDICE DE TEMAS · haz clic en el tema para ir a la hoja de datos
A23: Tema | D23: Variables | E23: Tema | H23: Variables
A24: Administración | D24: =COUNTIF('O''Higgins'!$A$5:$A$433,A24) -> 3 | E24: Empleo | H24: =COUNTIF('O''Higgins'!$A$5:$A$433,E24) -> 85
A25: Demográfico | D25: =COUNTIF('O''Higgins'!$A$5:$A$433,A25) -> 80 | E25: Medio Ambiente | H25: =COUNTIF('O''Higgins'!$A$5:$A$433,E25) -> 25
A26: Economía | D26: =COUNTIF('O''Higgins'!$A$5:$A$433,A26) -> 49 | E26: Vivienda | H26: =COUNTIF('O''Higgins'!$A$5:$A$433,E26) -> 4
A27: Votaciones | D27: =COUNTIF('O''Higgins'!$A$5:$A$433,A27) -> 16 | E27: Servicios | H27: =COUNTIF('O''Higgins'!$A$5:$A$433,E27) -> 5
A28: Seguridad | D28: =COUNTIF('O''Higgins'!$A$5:$A$433,A28) -> 35 | E28: Hogares | H28: =COUNTIF('O''Higgins'!$A$5:$A$433,E28) -> 18
A29: Social | D29: =COUNTIF('O''Higgins'!$A$5:$A$433,A29) -> 20 | E29: Cultural, audiovisual, medios | H29: =COUNTIF('O''Higgins'!$A$5:$A$433,E29) -> 16
A30: Geografía | D30: =COUNTIF('O''Higgins'!$A$5:$A$433,A30) -> 8 | E30: Vehículos | H30: =COUNTIF('O''Higgins'!$A$5:$A$433,E30) -> 5
A31: Educación | D31: =COUNTIF('O''Higgins'!$A$5:$A$433,A31) -> 18 | E31: Inversión | H31: =COUNTIF('O''Higgins'!$A$5:$A$433,E31) -> 12
A32: Salud | D32: =COUNTIF('O''Higgins'!$A$5:$A$433,A32) -> 15 | E32: Pesca | H32: =COUNTIF('O''Higgins'!$A$5:$A$433,E32) -> 15
L63: Datos de apoyo para los gráficos · no editar
L64: Grupo etario | M64: O'Higgins | N64: País
L65: 0 a 14 años | M65: =IFERROR(_xlfn.XLOOKUP("Población de 0 a 14 años (% del total regional)",'O''Higgins'!$C$5:$C$433,'O''Higgins'!$F$5:$F$433),"") -> 0.18251361 | N65: =IFERROR(_xlfn.XLOOKUP("Población de 0 a 14 años (% del total regional)",'O''Higgins'!$C$5:$C$433,'O''Higgins'!$G$5:$G$433),"") -> 0.18161011
L66: 15 a 64 años | M66: =IFERROR(_xlfn.XLOOKUP("Población de 15 a 64 años (% del total regional)",'O''Higgins'!$C$5:$C$433,'O''Higgins'!$F$5:$F$433),"") -> 0.65777778 | N66: =IFERROR(_xlfn.XLOOKUP("Población de 15 a 64 años (% del total regional)",'O''Higgins'!$C$5:$C$433,'O''Higgins'!$G$5:$G$433),"") -> 0.67605096
L67: 65 años y más | M67: =IFERROR(_xlfn.XLOOKUP("Población de 65 años y más (% del total regional)",'O''Higgins'!$C$5:$C$433,'O''Higgins'!$F$5:$F$433),"") -> 0.15970861 | N67: =IFERROR(_xlfn.XLOOKUP("Población de 65 años y más (% del total regional)",'O''Higgins'!$C$5:$C$433,'O''Higgins'!$G$5:$G$433),"") -> 0.14233893
L70: Año | M70: O'Higgins | N70: País
L71: 2015 | M71: =IFERROR(_xlfn.XLOOKUP("Tasa de desocupación, ambos sexos (2015)",'O''Higgins'!$C$5:$C$433,'O''Higgins'!$F$5:$F$433),"") -> 0.057 | N71: =IFERROR(_xlfn.XLOOKUP("Tasa de desocupación, ambos sexos (2015)",'O''Higgins'!$C$5:$C$433,'O''Higgins'!$G$5:$G$433),"") -> 0.063
L72: 2016 | M72: =IFERROR(_xlfn.XLOOKUP("Tasa de desocupación, ambos sexos (2016)",'O''Higgins'!$C$5:$C$433,'O''Higgins'!$F$5:$F$433),"") -> 0.065 | N72: =IFERROR(_xlfn.XLOOKUP("Tasa de desocupación, ambos sexos (2016)",'O''Higgins'!$C$5:$C$433,'O''Higgins'!$G$5:$G$433),"") -> 0.067
L73: 2017 | M73: =IFERROR(_xlfn.XLOOKUP("Tasa de desocupación, ambos sexos (2017)",'O''Higgins'!$C$5:$C$433,'O''Higgins'!$F$5:$F$433),"") -> 0.068 | N73: =IFERROR(_xlfn.XLOOKUP("Tasa de desocupación, ambos sexos (2017)",'O''Higgins'!$C$5:$C$433,'O''Higgins'!$G$5:$G$433),"") -> 0.07
...

Sheet O'Higgins
A1: Esto es Chile · Región de O'Higgins
A2: Base de datos regional · Fuentes indicadas por variable
A4: Tema | B4: Subtema | C4: Nombre variable | D4: Año | E4: Unidad | F4: O'Higgins | G4: Total nacional | H4: Fuente
A5: Administración | C5: Capital regional | E5: Texto | F5: Rancagua
A6: Administración | C6: Delegado(a) Presidencial Regional | E6: Texto | F6: Susana Pinto
A7: Administración | C7: Gobernador(a) Regional | E7: Texto | F7: Pablo Silva Amaya (PS)
A8: Demográfico | B8: Población | C8: Población total | E8: Personas | F8: 1033238 | G8: 20206953 | H8: INE estimación Censo 2017
A9: Demográfico | B9: Población | C9: Población: % del total nacional | E9: % | F9: 0.051132796 | H9: INE estimación Censo 2017
A10: Demográfico | B10: Población | C10: Población: hombres | E10: Personas | F10: 516204 | G10: 9970025 | H10: INE estimación Censo 2017
A11: Demográfico | B11: Población | C11: Población: mujeres | E11: Personas | F11: 517034 | G11: 10236928 | H11: INE estimación Censo 2017
A12: Demográfico | B12: Población | C12: Población urbana (% del total regional) | E12: % | F12: 0.74392792 | G12: 0.877675 | H12: Ine estimación Censo 2017
A13: Demográfico | B13: Población | C13: Población rural (% del total regional) | E13: % | F13: 0.25607208 | G13: 0.122325 | H13: Ine estimación Censo 2017
A14: Demográfico | B14: Densidad poblacional | C14: Densidad poblacional (2024) | D14: 2024 | E14: hab/km² | F14: 62.7 | H14: Ine
A15: Demográfico | B15: Densidad poblacional | C15: Densidad poblacional (2017) | D15: 2017 | E15: hab/km² | F15: 62.2 | H15: Ine
A16: Demográfico | B16: Densidad poblacional | C16: Densidad poblacional (2002) | D16: 2002 | E16: hab/km² | F16: 49.4 | H16: Ine
A17: Demográfico | B17: Población por grupos etarios | C17: Población de 0 a 14 años | E17: Personas | F17: 188580 | G17: 3669787 | H17: INE estimación Censo 2017
A18: Demográfico | B18: Población por grupos etarios | C18: Población de 15 a 64 años | E18: Personas | F18: 679641 | G18: 13660930 | H18: INE estimación Censo 2017
A19: Demográfico | B19: Población por grupos etarios | C19: Población de 65 años y más | E19: Personas | F19: 165017 | G19: 2876236 | H19: INE estimación Censo 2017
A20: Demográfico | B20: Población por grupos etarios | C20: Población de 0 a 14 años (% del total regional) | E20: % | F20: 0.18251361 | G20: 0.18161011 | H20: INE estimación Censo 2017
A21: Demográfico | B21: Población por grupos etarios | C21: Población de 15 a 64 años (% del total regional) | E21: % | F21: 0.65777778 | G21: 0.67605096 | H21: INE estimación Censo 2017
A22: Demográfico | B22: Población por grupos etarios | C22: Población de 65 años y más (% del total regional) | E22: % | F22: 0.15970861 | G22: 0.14233893 | H22: INE estimación Censo 2017
A23: Demográfico | B23: Esperanza de vida | C23: Esperanza de vida al nacer: hombres (2025) | D23: 2025 | E23: Años | F23: 79.5 | G23: 79 | H23: Banco Central
A24: Demográfico | B24: Esperanza de vida | C24: Esperanza de vida al nacer: mujeres (2025) | D24: 2025 | E24: Años | F24: 84.4 | G24: 85 | H24: Banco Central
A25: Demográfico | B25: Esperanza de vida | C25: Esperanza de vida al nacer: hombres (2002) | D25: 2002 | E25: Años | F25: 73.7 | G25: 74 | H25: Banco Central
A26: Demográfico | B26: Esperanza de vida | C26: Esperanza de vida al nacer: mujeres (2002) | D26: 2002 | E26: Años | F26: 79.4 | G26: 80 | H26: Banco Central
A27: Demográfico | B27: Inmigrantes | C27: Inmigrantes (% de la población regional, 1992) | D27: 1992 | E27: % | F27: 0.003 | G27: 0.008 | H27: Censo 2024
A28: Demográfico | B28: Inmigrantes | C28: Inmigrantes (% de la población regional, 2002) | D28: 2002 | E28: % | F28: 0.004 | G28: 0.013 | H28: Censo 2024
A29: Demográfico | B29: Inmigrantes | C29: Inmigrantes (% de la población regional, 2017) | D29: 2017 | E29: % | F29: 0.015 | G29: 0.044 | H29: Censo 2024
A30: Demográfico | B30: Inmigrantes | C30: Inmigrantes (% de la población regional, 2024) | D30: 2024 | E30: % | F30: 0.05 | G30: 0.088 | H30: Censo 2024
A31: Demográfico | B31: Inmigrantes | C31: Principal país de procedencia de los inmigrantes (2024) | D31: 2024 | E31: Texto | F31: Venezuela | G31: Venezuela | H31: Censo 2024
A32: Demográfico | B32: Inmigrantes (estimación SERMIG) | C32: Inmigrantes estimados: total (regulares + irregulares) | D32: 2023 | E32: Personas | F32: 46671 | G32: 1136104 | H32: Estimación SERMIG 2023
A33: Demográfico | B33: Inmigrantes (estimación SERMIG) | C33: Inmigrantes estimados: % de la población regional | D33: 2023 | E33: % | F33: 0.045169651 | G33: 0.05622342 | H33: Estimación SERMIG 2023
A34: Demográfico | B34: Inmigrantes (estimación SERMIG) | C34: Inmigrantes estimados: en situación irregular | D34: 2023 | E34: Personas | F34: 11877 | G34: 336984 | H34: Estimación SERMIG 2023
A35: Demográfico | B35: Inmigrantes (estimación SERMIG) | C35: Inmigrantes estimados: en situación regular | D35: 2023 | E35: Personas | F35: 34794 | G35: 799120 | H35: Estimación SERMIG 2023
A36: Demográfico | B36: Inmigrantes (estimación SERMIG) | C36: Inmigrantes irregulares: % del total nacional | D36: 2023 | E36: % | F36: 0.035244997 | H36: Estimación SERMIG 2023
A37: Demográfico | B37: Inmigrantes (estimación SERMIG) | C37: Inmigrantes regulares: % del total nacional | D37: 2023 | E37: % | F37: 0.043540394 | H37: Estimación SERMIG 2023
A38: Demográfico | B38: Pueblos originarios | C38: Población perteneciente a pueblos originarios | D38: 2024 | E38: Personas | F38: 50681 | G38: 2105863 | H38: Censo 2024
A39: Demográfico | B39: Pueblos originarios | C39: Población perteneciente a pueblos originarios (% de la región) | D39: 2024 | E39: % | F39: 0.052 | G39: 0.115 | H39: Censo 2024
A40: Demográfico | B40: Grupos específicos | C40: Personas con discapacidad (% de la población regional) | D40: 2024 | E40: % | F40: 0.126 | G40: 0.111 | H40: Censo 2024
A41: Demográfico | B41: Grupos específicos | C41: Personas en situación de calle (% de la población regional) | D41: 2024 | E41: % | F41: 0.001 | G41: 0.001 | H41: Censo 2024
...

Sheet Comparador
A1: ESTO ES CHILE · COMPARADOR
A2: Compara cualquier indicador: O'Higgins vs. total nacional
A3: Elige uno o dos indicadores en las listas desplegables. Se muestra O'Higgins frente al total nacional y todo se recalcula solo.
A5: Indicador 1 | B5: Matrículas en educación superior (2021)
A6: Indicador 2 | B6: PIB Servicios de vivienda e inmobiliarios: % del total regional (2025)
B8: Tema | C8: Subtema | D8: Año | E8: Unidad | F8: Fuente | P8: Unidad | Q8: Formato
A9: Indicador 1 | B9: =IFERROR(INDEX('Base Nacional y Regiones'!$A$5:$A$433,MATCH($B$5,'Base Nacional y Regiones'!$D$5:$D$433,0)),"") -> Educación | C9: =IFERROR(INDEX('Base Nacional y Regiones'!$B$5:$B$433,MATCH($B$5,'Base Nacional y Regiones'!$D$5:$D$433,0)),"") -> Educación superior | D9: =IFERROR(IF(INDEX('Base Nacional y Regiones'!$E$5:$E$433,MATCH($B$5,'Base Nacional y Regiones'!$D$5:$D$433,0))=0,"",INDEX('Base Nacional y Regiones'!$E$5:$E$433,MATCH($B$5,'Base Nacional y Regiones'!$D$5:$D$433,0))),"") -> 2021 | E9: =IFERROR(INDEX('Base Nacional y Regiones'!$F$5:$F$433,MATCH($B$5,'Base Nacional y Regiones'!$D$5:$D$433,0)),"") -> Personas | F9: =IFERROR(INDEX('Base Nacional y Regiones'!$G$5:$G$433,MATCH($B$5,'Base Nacional y Regiones'!$D$5:$D$433,0)),"") -> Subse educ | N9: =IFERROR(_xlfn.XLOOKUP(E9,$P$9:$P$59,$Q$9:$Q$59,"#.##0,0"),"#.##0,0") -> #.##0 | P9: % | Q9: 0,0%
A10: Indicador 2 | B10: =IFERROR(INDEX('Base Nacional y Regiones'!$A$5:$A$433,MATCH($B$6,'Base Nacional y Regiones'!$D$5:$D$433,0)),"") -> Economía | C10: =IFERROR(INDEX('Base Nacional y Regiones'!$B$5:$B$433,MATCH($B$6,'Base Nacional y Regiones'!$D$5:$D$433,0)),"") -> PIB por actividad económica (% del total regional) | D10: =IFERROR(IF(INDEX('Base Nacional y Regiones'!$E$5:$E$433,MATCH($B$6,'Base Nacional y Regiones'!$D$5:$D$433,0))=0,"",INDEX('Base Nacional y Regiones'!$E$5:$E$433,MATCH($B$6,'Base Nacional y Regiones'!$D$5:$D$433,0))),"") -> 2025 | E10: =IFERROR(INDEX('Base Nacional y Regiones'!$F$5:$F$433,MATCH($B$6,'Base Nacional y Regiones'!$D$5:$D$433,0)),"") -> % | F10: =IFERROR(INDEX('Base Nacional y Regiones'!$G$5:$G$433,MATCH($B$6,'Base Nacional y Regiones'!$D$5:$D$433,0)),"") -> BC | N10: =IFERROR(_xlfn.XLOOKUP(E10,$P$9:$P$59,$Q$9:$Q$59,"#.##0,0"),"#.##0,0") -> 0,0% | P10: % de personas | Q10: 0,0%
H11: Datos de apoyo para los gráficos · no editar | P11: % de hogares | Q11: 0,0%
A12: Región | B12: =B5 -> Matrículas en educación superior (2021) | C12: Ranking regional | D12: Brecha vs. país | E12: =B6 -> PIB Servicios de vivienda e inmobiliarios: % del total regional (2025) | F12: Ranking regional | H12: Región | I12: Indicador 1 (num) | J12: Indicador 2 (num) | L12: Gráfico 1 (num) | M12: Gráfico 2 (num) | P12: % de mujeres de 15 a 65 años | Q12: 0,0%
A13: O'Higgins | B13: =IF(ISNUMBER(I13),TEXT(I13,$N$9),"s/i") -> 27.088 | C13: =IF(ISNUMBER(I13),_xlfn.RANK.EQ(I13,INDEX('Base Nacional y Regiones'!$I$5:$X$433,MATCH($B$5,'Base Nacional y Regiones'!$D$5:$D$433,0),0),0),"") -> 10 | D13: =IF(AND(ISNUMBER(I13),ISNUMBER($I$14)),TEXT(I13-$I$14,$N$9),"") -> -1.267.613 | E13: =IF(ISNUMBER(J13),TEXT(J13,$N$10),"s/i") -> 8,9% | F13: =IF(ISNUMBER(J13),_xlfn.RANK.EQ(J13,INDEX('Base Nacional y Regiones'!$I$5:$X$433,MATCH($B$6,'Base Nacional y Regiones'!$D$5:$D$433,0),0),0),"") -> 9 | H13: =A13 -> O'Higgins | I13: =IFERROR(IF(INDEX('Base Nacional y Regiones'!$I$5:$X$433,MATCH($B$5,'Base Nacional y Regiones'!$D$5:$D$433,0),MATCH($H13,'Base Nacional y Regiones'!$I$4:$X$4,0))="",NA(),INDEX('Base Nacional y Regiones'!$I$5:$X$433,MATCH($B$5,'Base Nacional y Regiones'!$D$5:$D$433,0),MATCH($H13,'Base Nacional y Regiones'!$I$4:$X$4,0))),NA()) -> 27088 | J13: =IFERROR(IF(INDEX('Base Nacional y Regiones'!$I$5:$X$433,MATCH($B$6,'Base Nacional y Regiones'!$D$5:$D$433,0),MATCH($H13,'Base Nacional y Regiones'!$I$4:$X$4,0))="",NA(),INDEX('Base Nacional y Regiones'!$I$5:$X$433,MATCH($B$6,'Base Nacional y Regiones'!$D$5:$D$433,0),MATCH($H13,'Base Nacional y Regiones'!$I$4:$X$4,0))),NA()) -> 0.089083928 | L13: =IF(ISNUMBER(I13),ROUND(IF(AND(LEFT($E$9,1)="%",$E$9<>"% (0-100)"),I13*100,I13),2),NA()) -> 27088 | M13: =IF(ISNUMBER(J13),ROUND(IF(AND(LEFT($E$10,1)="%",$E$10<>"% (0-100)"),J13*100,J13),2),NA()) -> 8.91 | P13: % de NNA | Q13: 0,0%
A14: Total nacional | B14: =IF(ISNUMBER(I14),TEXT(I14,$N$9),"s/i") -> 1.294.701 | E14: =IF(ISNUMBER(J14),TEXT(J14,$N$10),"s/i") -> 8,5% | H14: =A14 -> Total nacional | I14: =IFERROR(IF(INDEX('Base Nacional y Regiones'!$H$5:$H$433,MATCH($B$5,'Base Nacional y Regiones'!$D$5:$D$433,0))="",NA(),INDEX('Base Nacional y Regiones'!$H$5:$H$433,MATCH($B$5,'Base Nacional y Regiones'!$D$5:$D$433,0))),NA()) -> 1294701 | J14: =IFERROR(IF(INDEX('Base Nacional y Regiones'!$H$5:$H$433,MATCH($B$6,'Base Nacional y Regiones'!$D$5:$D$433,0))="",NA(),INDEX('Base Nacional y Regiones'!$H$5:$H$433,MATCH($B$6,'Base Nacional y Regiones'!$D$5:$D$433,0))),NA()) -> 0.084938731 | L14: =IF(ISNUMBER(I14),ROUND(IF(AND(LEFT($E$9,1)="%",$E$9<>"% (0-100)"),I14*100,I14),2),NA()) -> 1294701 | M14: =IF(ISNUMBER(J14),ROUND(IF(AND(LEFT($E$10,1)="%",$E$10<>"% (0-100)"),J14*100,J14),2),NA()) -> 8.49 | P14: % (0-100) | Q14: 0,0
P15: Índice (0-1) | Q15: 0,000
A16: ="Gráfico 1 · "&$B$5&" · O'Higgins vs. total nacional · unidad: "&$E$9&IF(ISNUMBER($I$14),""," · sin dato nacional") -> Gráfico 1 · Matrículas en educación superior (2021) · O'Higgins vs. total nacional · unidad: Personas | P16: Personas | Q16: #.##0
P17: Nacimientos | Q17: #.##0
P18: Defunciones | Q18: #.##0
P19: Matrimonios | Q19: #.##0
P20: AUC | Q20: #.##0
P21: Uniones | Q21: #.##0
P22: Viviendas | Q22: #.##0
P23: Familias | Q23: #.##0
P24: Vehículos | Q24: #.##0
P25: Toneladas | Q25: #.##0
P26: Hectáreas | Q26: #.##0
P27: Miles de m³ | Q27: #.##0
P28: mm | Q28: #.##0
... P37: N° de campamentos | Q37: #.##0
A38: ="Gráfico 2 · "&$B$6&" · O'Higgins vs. total nacional · unidad: "&$E$10&IF(ISNUMBER($J$14),""," · sin dato nacional") -> Gráfico 2 · PIB Servicios de vivienda e inmobiliarios: % del total regional (2025) · O'Higgins vs. total nacional · unidad: % | P38: Puntaje | Q38: #.##0
P39: Casos | Q39: #.##0
P40: Víctimas | Q40: #.##0
P41: Años | Q41: 0,0
P42: hab/km² | Q42: #.##0,0
P43: Personas por hogar | Q43: 0,00
P44: Libros | Q44: 0,00
P45: Minutos | Q45: 0,0
P46: Hijos por mujer | Q46: 0,00
P47: Nacimientos por 1.000 hab. | Q47: 0,0
P48: Casos por 100.000 hab. | Q48: 0,0
P49: Casos por 100.000 mujeres | Q49: 0,0
P50: Personas por 10.000 hab. | Q50: #.##0,0
...

Sheet Nacional · Panel
A1: PRESENTA EL PAÍS | L1: Datos de apoyo para los gráficos · no editar
A2: Esto es Chile
L3: Grupo etario | M3: Nacional | N3: País
A4: Chile no cabe en una ciudad. | G4: Ver base de datos completa → | L4: 0 a 14 años | M4: =IFERROR(_xlfn.XLOOKUP("Población de 0 a 14 años (% del total regional)",Nacional!$C$5:$C$433,Nacional!$F$5:$F$433),"") -> 0.18161011
A5: Panel de exploración · 429 variables · fuente indicada por variable en la hoja de datos | L5: 15 a 64 años | M5: =IFERROR(_xlfn.XLOOKUP("Población de 15 a 64 años (% del total regional)",Nacional!$C$5:$C$433,Nacional!$F$5:$F$433),"") -> 0.67605096
A6: EL PAÍS EN UNA FICHA | L6: 65 años y más | M6: =IFERROR(_xlfn.XLOOKUP("Población de 65 años y más (% del total regional)",Nacional!$C$5:$C$433,Nacional!$F$5:$F$433),"") -> 0.14233893
A7: Población total | C7: Población urbana | E7: Personas por hogar | G7: Esperanza de vida hombres
A8: =IFERROR(_xlfn.XLOOKUP("Población total",Nacional!$C$5:$C$433,Nacional!$F$5:$F$433),"") -> 20206953 | C8: =IFERROR(_xlfn.XLOOKUP("Población urbana (% del total regional)",Nacional!$C$5:$C$433,Nacional!$F$5:$F$433),"") -> 0.877675 | E8: =IFERROR(_xlfn.XLOOKUP("Promedio de personas por hogar",Nacional!$C$5:$C$433,Nacional!$F$5:$F$433),"") -> 2.8 | G8: =IFERROR(_xlfn.XLOOKUP("Esperanza de vida al nacer: hombres (2025)",Nacional!$C$5:$C$433,Nacional!$F$5:$F$433),"") -> 79
A9: INDICADORES CLAVE | L9: Año | M9: Nacional | N9: País
A10: Población total | C10: Inmigrantes (% de la población) | E10: Población urbana | G10: Población 65 años y más | L10: 2015 | M10: =IFERROR(_xlfn.XLOOKUP("Tasa de desocupación, ambos sexos (2015)",Nacional!$C$5:$C$433,Nacional!$F$5:$F$433),"") -> 0.063
A11: =IFERROR(_xlfn.XLOOKUP("Población total",Nacional!$C$5:$C$433,Nacional!$F$5:$F$433),"") -> 20206953 | C11: =IFERROR(_xlfn.XLOOKUP("Inmigrantes (% de la población regional, 2024)",Nacional!$C$5:$C$433,Nacional!$F$5:$F$433),"") -> 0.088 | E11: =IFERROR(_xlfn.XLOOKUP("Población urbana (% del total regional)",Nacional!$C$5:$C$433,Nacional!$F$5:$F$433),"") -> 0.877675 | G11: =IFERROR(_xlfn.XLOOKUP("Población de 65 años y más (% del total regional)",Nacional!$C$5:$C$433,Nacional!$F$5:$F$433),"") -> 0.14233893 | L11: 2016 | M11: =IFERROR(_xlfn.XLOOKUP("Tasa de desocupación, ambos sexos (2016)",Nacional!$C$5:$C$433,Nacional!$F$5:$F$433),"") -> 0.067
A12: Desocupación (jun-2026) | C12: Ocupación informal (jun-2026) | E12: Hogares con acceso a internet | G12: Ingreso mediano (miles $) | L12: 2017 | M12: =IFERROR(_xlfn.XLOOKUP("Tasa de desocupación, ambos sexos (2017)",Nacional!$C$5:$C$433,Nacional!$F$5:$F$433),"") -> 0.07
A13: =IFERROR(_xlfn.XLOOKUP("Tasa de desocupación, ambos sexos (jun-2026)",Nacional!$C$5:$C$433,Nacional!$F$5:$F$433),"") -> 0.094 | C13: =IFERROR(_xlfn.XLOOKUP("Tasa de ocupación informal, ambos sexos (jun-2026)",Nacional!$C$5:$C$433,Nacional!$F$5:$F$433),"") -> 0.27 | E13: =IFERROR(_xlfn.XLOOKUP("Hogares con acceso a internet (%)",Nacional!$C$5:$C$433,Nacional!$F$5:$F$433),"") -> 0.932 | G13: =IFERROR(_xlfn.XLOOKUP("Ingreso mediano mensual",Nacional!$C$5:$C$433,Nacional!$F$5:$F$433),"") -> 680 | L13: 2018 | M13: =IFERROR(_xlfn.XLOOKUP("Tasa de desocupación, ambos sexos (2018)",Nacional!$C$5:$C$433,Nacional!$F$5:$F$433),"") -> 0.074
A14: PIB per cápita 2025 (USD) | C14: Tasa de homicidios (2025) | E14: Años de escolaridad | G14: IDH (2023) | L14: 2019 | M14: =IFERROR(_xlfn.XLOOKUP("Tasa de desocupación, ambos sexos (2019)",Nacional!$C$5:$C$433,Nacional!$F$5:$F$433),"") -> 0.072
A15: =IFERROR(_xlfn.XLOOKUP("PIB per cápita (2025)",Nacional!$C$5:$C$433,Nacional!$F$5:$F$433),"") -> 17680 | C15: =IFERROR(_xlfn.XLOOKUP("Tasa de homicidios (2025)",Nacional!$C$5:$C$433,Nacional!$F$5:$F$433),"") -> 5.4 | E15: =IFERROR(_xlfn.XLOOKUP("Años promedio de escolaridad (18 años y más)",Nacional!$C$5:$C$433,Nacional!$F$5:$F$433),"") -> 12.1 | G15: =IFERROR(_xlfn.XLOOKUP("Índice de Desarrollo Humano, IDH (2023)",Nacional!$C$5:$C$433,Nacional!$F$5:$F$433),"") -> 0.878 | L15: 2022 | M15: =IFERROR(_xlfn.XLOOKUP("Tasa de desocupación, ambos sexos (2022)",Nacional!$C$5:$C$433,Nacional!$F$5:$F$433),"") -> 0.079
A16: Lista de espera (por 10.000 hab.) | C16: Percepción de aumento de la delincuencia (2025) | E16: PAES Matemática 1 (2026) | G16: Familias en campamentos (2024-2025)
A17: =IFERROR(_xlfn.XLOOKUP("Lista de espera por cada 10.000 hab.: total consulta + operación (junio 2025)",Nacional!$C$5:$C$433,Nacional!$F$5:$F$433),"") -> 1287.8 | C17: =IFERROR(_xlfn.XLOOKUP("Percepción de aumento de la delincuencia en el país (2025)",Nacional!$C$5:$C$433,Nacional!$F$5:$F$433),"") -> 0.829 | E17: =IFERROR(_xlfn.XLOOKUP("PAES Matemática 1: promedio regional (2026)",Nacional!$C$5:$C$433,Nacional!$F$5:$F$433),"") -> 631 | G17: =IFERROR(_xlfn.XLOOKUP("Familias en campamentos (2024-2025)",Nacional!$C$5:$C$433,Nacional!$F$5:$F$433),"") -> 120584
A18: ÍNDICE DE TEMAS · haz clic en el tema para ir a la hoja de datos | L18: 2023 | M18: =IFERROR(_xlfn.XLOOKUP("Tasa de desocupación, ambos sexos (2023)",Nacional!$C$5:$C$433,Nacional!$F$5:$F$433),"") -> 0.087
A19: Tema | D19: Variables | E19: Tema | H19: Variables | L19: 46174 | M19: =IFERROR(_xlfn.XLOOKUP("Tasa de desocupación, ambos sexos (jun-2026)",Nacional!$C$5:$C$433,Nacional!$F$5:$F$433),"") -> 0.094
A20: Administración | D20: =COUNTIF(Nacional!$A$5:$A$433,A20) -> 3 | E20: Empleo | H20: =COUNTIF(Nacional!$A$5:$A$433,E20) -> 85
A21: Demográfico | D21: =COUNTIF(Nacional!$A$5:$A$433,A21) -> 80 | E21: Medio Ambiente | H21: =COUNTIF(Nacional!$A$5:$A$433,E21) -> 25
A22: Economía | D22: =COUNTIF(Nacional!$A$5:$A$433,A22) -> 49 | E22: Vivienda | H22: =COUNTIF(Nacional!$A$5:$A$433,E22) -> 4 | L22: Sector | M22: % del PIB regional
A23: Votaciones | D23: =COUNTIF(Nacional!$A$5:$A$433,A23) -> 16 | E23: Servicios | H23: =COUNTIF(Nacional!$A$5:$A$433,E23) -> 5 | L23: Agropecuario-silvícola | M23: =IFERROR(_xlfn.XLOOKUP("PIB Agropecuario-silvícola: % del total regional (2025)",Nacional!$C$5:$C$433,Nacional!$F$5:$F$433),"") -> 0.036307064
A24: Seguridad | D24: =COUNTIF(Nacional!$A$5:$A$433,A24) -> 35 | E24: Hogares | H24: =COUNTIF(Nacional!$A$5:$A$433,E24) -> 18 | L24: Pesca | M24: =IFERROR(_xlfn.XLOOKUP("PIB Pesca: % del total regional (2025)",Nacional!$C$5:$C$433,Nacional!$F$5:$F$433),"") -> 0.0077483357
A25: Social | D25: =COUNTIF(Nacional!$A$5:$A$433,A25) -> 20 | E25: Cultural, audiovisual, medios | H25: =COUNTIF(Nacional!$A$5:$A$433,E25) -> 16 | L25: Minería | M25: =IFERROR(_xlfn.XLOOKUP("PIB Minería: % del total regional (2025)",Nacional!$C$5:$C$433,Nacional!$F$5:$F$433),"") -> 0.076437786
A26: Geografía | D26: =COUNTIF(Nacional!$A$5:$A$433,A26) -> 8 | E26: Vehículos | H26: =COUNTIF(Nacional!$A$5:$A$433,E26) -> 5 | L26: Industria manufacturera | M26: =IFERROR(_xlfn.XLOOKUP("PIB Industria manufacturera: % del total regional (2025)",Nacional!$C$5:$C$433,Nacional!$F$5:$F$433),"") -> 0.098849367
A27: Educación | D27: =COUNTIF(Nacional!$A$5:$A$433,A27) -> 18 | E27: Inversión | H27: =COUNTIF(Nacional!$A$5:$A$433,E27) -> 12 | L27: Electricidad, gas, agua y gestión de desechos | M27: =IFERROR(_xlfn.XLOOKUP("PIB Electricidad, gas, agua y gestión de desechos: % del total regional (2025)",Nacional!$C$5:$C$433,Nacional!$F$5:$F$433),"") -> 0.041428846
A28: Salud | D28: =COUNTIF(Nacional!$A$5:$A$433,A28) -> 15 | E28: Pesca | H28: =COUNTIF(Nacional!$A$5:$A$433,E28) -> 15 | L28: Construcción | M28: =IFERROR(_xlfn.XLOOKUP("PIB Construcción: % del total regional (2025)",Nacional!$C$5:$C$433,Nacional!$F$5:$F$433),"") -> 0.063587873
L29: Comercio | M29: =IFERROR(_xlfn.XLOOKUP("PIB Comercio: % del total regional (2025)",Nacional!$C$5:$C$433,Nacional!$F$5:$F$433),"") -> 0.1058653
L30: Restaurantes y hoteles | M30: =IFERROR(_xlfn.XLOOKUP("PIB Restaurantes y hoteles: % del total regional (2025)",Nacional!$C$5:$C$433,Nacional!$F$5:$F$433),"") -> 0.020972027
L31: Transporte, información y comunicaciones | M31: =IFERROR(_xlfn.XLOOKUP("PIB Transporte, información y comunicaciones: % del total regional (2025)",Nacional!$C$5:$C$433,Nacional!$F$5:$F$433),"") -> 0.10542586
L32: Servicios financieros y empresariales | M32: =IFERROR(_xlfn.XLOOKUP("PIB Servicios financieros y empresariales: % del total regional (2025)",Nacional!$C$5:$C$433,Nacional!$F$5:$F$433),"") -> 0.15792159
L33: Servicios de vivienda e inmobiliarios | M33: =IFERROR(_xlfn.XLOOKUP("PIB Servicios de vivienda e inmobiliarios: % del total regional (2025)",Nacional!$C$5:$C$433,Nacional!$F$5:$F$433),"") -> 0.084938731
L34: Servicios personales | M34: =IFERROR(_xlfn.XLOOKUP("PIB Servicios personales: % del total regional (2025)",Nacional!$C$5:$C$433,Nacional!$F$5:$F$433),"") -> 0.14851145
L35: Administración pública | M35: =IFERROR(_xlfn.XLOOKUP("PIB Administración pública: % del total regional (2025)",Nacional!$C$5:$C$433,Nacional!$F$5:$F$433),"") -> 0.052005778
L38: Indicador | M38: Nacional | N38: País
L39: Desocupación | M39: =IFERROR(_xlfn.XLOOKUP("Tasa de desocupación, ambos sexos (jun-2026)",Nacional!$C$5:$C$433,Nacional!$F$5:$F$433),"") -> 0.094
L40: Informalidad | M40: =IFERROR(_xlfn.XLOOKUP("Tasa de ocupación informal, ambos sexos (jun-2026)",Nacional!$C$5:$C$433,Nacional!$F$5:$F$433),"") -> 0.27
L41: Pobreza ingresos | M41: =IFERROR(_xlfn.XLOOKUP("Pobreza por ingresos (2024)",Nacional!$C$5:$C$433,Nacional!$F$5:$F$433),"") -> 0.173
L42: Pobreza multidim. | M42: =IFERROR(_xlfn.XLOOKUP("Pobreza multidimensional (2024)",Nacional!$C$5:$C$433,Nacional!$F$5:$F$433),"") -> 0.177
...

Sheet Nacional
A1: Esto es Chile · Total nacional
A2: Base de datos regional · Fuentes indicadas por variable
A4: Tema | B4: Subtema | C4: Nombre variable | D4: Año | E4: Unidad | F4: Total nacional | G4: Fuente
A5: Administración | C5: Capital regional | E5: Texto
A6: Administración | C6: Delegado(a) Presidencial Regional | E6: Texto
A7: Administración | C7: Gobernador(a) Regional | E7: Texto
A8: Demográfico | B8: Población | C8: Población total | E8: Personas | F8: 20206953 | G8: INE estimación Censo 2017
A9: Demográfico | B9: Población | C9: Población: % del total nacional | E9: % | G9: INE estimación Censo 2017
A10: Demográfico | B10: Población | C10: Población: hombres | E10: Personas | F10: 9970025 | G10: INE estimación Censo 2017
A11: Demográfico | B11: Población | C11: Población: mujeres | E11: Personas | F11: 10236928 | G11: INE estimación Censo 2017
A12: Demográfico | B12: Población | C12: Población urbana (% del total regional) | E12: % | F12: 0.877675 | G12: Ine estimación Censo 2017
A13: Demográfico | B13: Población | C13: Población rural (% del total regional) | E13: % | F13: 0.122325 | G13: Ine estimación Censo 2017
A14: Demográfico | B14: Densidad poblacional | C14: Densidad poblacional (2024) | D14: 2024 | E14: hab/km² | G14: Ine
A15: Demográfico | B15: Densidad poblacional | C15: Densidad poblacional (2017) | D15: 2017 | E15: hab/km² | G15: Ine
A16: Demográfico | B16: Densidad poblacional | C16: Densidad poblacional (2002) | D16: 2002 | E16: hab/km² | G16: Ine
A17: Demográfico | B17: Población por grupos etarios | C17: Población de 0 a 14 años | E17: Personas | F17: 3669787 | G17: INE estimación Censo 2017
A18: Demográfico | B18: Población por grupos etarios | C18: Población de 15 a 64 años | E18: Personas | F18: 13660930 | G18: INE estimación Censo 2017
A19: Demográfico | B19: Población por grupos etarios | C19: Población de 65 años y más | E19: Personas | F19: 2876236 | G19: INE estimación Censo 2017
A20: Demográfico | B20: Población por grupos etarios | C20: Población de 0 a 14 años (% del total regional) | E20: % | F20: 0.18161011 | G20: INE estimación Censo 2017
A21: Demográfico | B21: Población por grupos etarios | C21: Población de 15 a 64 años (% del total regional) | E21: % | F21: 0.67605096 | G21: INE estimación Censo 2017
A22: Demográfico | B22: Población por grupos etarios | C22: Población de 65 años y más (% del total regional) | E22: % | F22: 0.14233893 | G22: INE estimación Censo 2017
A23: Demográfico | B23: Esperanza de vida | C23: Esperanza de vida al nacer: hombres (2025) | D23: 2025 | E23: Años | F23: 79 | G23: Banco Central
A24: Demográfico | B24: Esperanza de vida | C24: Esperanza de vida al nacer: mujeres (2025) | D24: 2025 | E24: Años | F24: 85 | G24: Banco Central
A25: Demográfico | B25: Esperanza de vida | C25: Esperanza de vida al nacer: hombres (2002) | D25: 2002 | E25: Años | F25: 74 | G25: Banco Central
A26: Demográfico | B26: Esperanza de vida | C26: Esperanza de vida al nacer: mujeres (2002) | D26: 2002 | E26: Años | F26: 80 | G26: Banco Central
A27: Demográfico | B27: Inmigrantes | C27: Inmigrantes (% de la población regional, 1992) | D27: 1992 | E27: % | F27: 0.008 | G27: Censo 2024
A28: Demográfico | B28: Inmigrantes | C28: Inmigrantes (% de la población regional, 2002) | D28: 2002 | E28: % | F28: 0.013 | G28: Censo 2024
A29: Demográfico | B29: Inmigrantes | C29: Inmigrantes (% de la población regional, 2017) | D29: 2017 | E29: % | F29: 0.044 | G29: Censo 2024
A30: Demográfico | B30: Inmigrantes | C30: Inmigrantes (% de la población regional, 2024) | D30: 2024 | E30: % | F30: 0.088 | G30: Censo 2024
A31: Demográfico | B31: Inmigrantes | C31: Principal país de procedencia de los inmigrantes (2024) | D31: 2024 | E31: Texto | F31: Venezuela | G31: Censo 2024
A32: Demográfico | B32: Inmigrantes (estimación SERMIG) | C32: Inmigrantes estimados: total (regulares + irregulares) | D32: 2023 | E32: Personas | F32: 1136104 | G32: Estimación SERMIG 2023
A33: Demográfico | B33: Inmigrantes (estimación SERMIG) | C33: Inmigrantes estimados: % de la población regional | D33: 2023 | E33: % | F33: 0.05622342 | G33: Estimación SERMIG 2023
A34: Demográfico | B34: Inmigrantes (estimación SERMIG) | C34: Inmigrantes estimados: en situación irregular | D34: 2023 | E34: Personas | F34: 336984 | G34: Estimación SERMIG 2023
A35: Demográfico | B35: Inmigrantes (estimación SERMIG) | C35: Inmigrantes estimados: en situación regular | D35: 2023 | E35: Personas | F35: 799120 | G35: Estimación SERMIG 2023
A36: Demográfico | B36: Inmigrantes (estimación SERMIG) | C36: Inmigrantes irregulares: % del total nacional | D36: 2023 | E36: % | G36: Estimación SERMIG 2023
A37: Demográfico | B37: Inmigrantes (estimación SERMIG) | C37: Inmigrantes regulares: % del total nacional | D37: 2023 | E37: % | G37: Estimación SERMIG 2023
A38: Demográfico | B38: Pueblos originarios | C38: Población perteneciente a pueblos originarios | D38: 2024 | E38: Personas | F38: 2105863 | G38: Censo 2024
A39: Demográfico | B39: Pueblos originarios | C39: Población perteneciente a pueblos originarios (% de la región) | D39: 2024 | E39: % | F39: 0.115 | G39: Censo 2024
A40: Demográfico | B40: Grupos específicos | C40: Personas con discapacidad (% de la población regional) | D40: 2024 | E40: % | F40: 0.111 | G40: Censo 2024
A41: Demográfico | B41: Grupos específicos | C41: Personas en situación de calle (% de la población regional) | D41: 2024 | E41: % | F41: 0.001 | G41: Censo 2024
...

Sheet Base Nacional y Regiones
A1: Esto es Chile · Base de datos regional
A2: Todas las regiones y total nacional
A4: Tema | B4: Subtema | C4: Variable (original) | D4: Nombre variable | E4: Año | F4: Unidad | G4: Fuente | H4: Nacional | I4: Arica y Parinacota | J4: Tarapacá | K4: Antofagasta | L4: Atacama | M4: Coquimbo | N4: Valparaíso | O4: Metropolitana | P4: O'Higgins | Q4: Maule | R4: Ñuble | S4: Biobío | T4: La Araucanía | U4: Los Ríos | V4: Los Lagos | W4: Aysén | X4: Magallanes
A5: Administración | C5: Capital | D5: Capital regional | F5: Texto | I5: Arica | J5: Iquique | K5: Antofagasta | L5: Copiapó | M5: La Serena | N5: Valparaíso | O5: Santiago | P5: Rancagua | Q5: Talca | R5: Chillán | S5: Concepción | T5: Temuco | U5: Valdivia | V5: Puerto Montt | W5: Coyhaique | X5: Punta Arenas
A6: Administración | C6: Delegado Presidencial | D6: Delegado(a) Presidencial Regional | F6: Texto | I6: Cristián Sayes | J6: Adriana Tapia | K6: Katherine López | L6: Sofía Cid | M6: Víctor Pino | N6: Manuel Millones | O6: Germán Codina | P6: Susana Pinto | Q6: Juan Eduardo Prieto | R6: Diego Sepúlveda | S6: Julio Anativia | T6: Francisco Ljubetic | U6: Vicky Carrasco | V6: Cristián Palma | W6: Luz María Vicuña | X6: Ericka Farías
A7: Administración | C7: Gobernador | D7: Gobernador(a) Regional | F7: Texto | I7: Diego Paco Mamani (RN) | J7: José Miguel Carvajal Gallardo (IND) | K7: Ricardo Díaz Cortés (IND) | L7: Miguel Vargas Correa (IND) | M7: Cristóbal Juliá de la Vega (IND) | N7: Rodrigo Mundaca Cabrera (IND) | O7: Claudio Orrego Larraín (IND) | P7: Pablo Silva Amaya (PS) | Q7: Pedro Álvarez-Salamanca Ramírez (UDI) | R7: Óscar Crisóstomo Llanos (PS) | S7: Sergio Giacaman García (IND) | T7: René Saffirio Espinoza (IND) | U7: Luis Cuvertino Gómez (PS) | V7: Alejandro Santana Tirachini (RN) | W7: Marcelo Santana Vargas (UDI) | X7: Jorge Flies Añón (PR)
A8: Demográfico | B8: Población | C8: Población | D8: Población total | F8: Personas | G8: INE estimación Censo 2017 | H8: 20206953 | I8: 263687 | J8: 410903 | K8: 722120 | L8: 320864 | M8: 889273 | N8: 2040166 | O8: 8471244 | P8: 1033238 | Q8: 1181074 | R8: 523876 | S8: 1690616 | T8: 1035918 | U8: 414293 | V8: 916721 | W8: 108744 | X8: 184216
A9: Demográfico | B9: Población | C9: % del total nacional | D9: Población: % del total nacional | F9: % | G9: INE estimación Censo 2017 | I9: 0.01304932 | J9: 0.020334733 | K9: 0.035736214 | L9: 0.015878891 | M9: 0.044008268 | N9: 0.10096356 | O9: 0.41922421 | P9: 0.051132796 | Q9: 0.058448891 | R9: 0.025925532 | S9: 0.083665063 | T9: 0.051265423 | U9: 0.020502497 | V9: 0.045366612 | W9: 0.005381514 | X9: 0.009116466
A10: Demográfico | B10: Población | C10: Hombres | D10: Población: hombres | F10: Personas | G10: INE estimación Censo 2017 | H10: 9970025 | I10: 133209 | J10: 206868 | K10: 362842 | L10: 161704 | M10: 435021 | N10: 997310 | O10: 4194152 | P10: 516204 | Q10: 578091 | R10: 251913 | S10: 821640 | T10: 505021 | U10: 202098 | V10: 455519 | W10: 54690 | X10: 93743
A11: Demográfico | B11: Población | C11: Mujeres | D11: Población: mujeres | F11: Personas | G11: INE estimación Censo 2017 | H11: 10236928 | I11: 130478 | J11: 204035 | K11: 359278 | L11: 159160 | M11: 454252 | N11: 1042856 | O11: 4277092 | P11: 517034 | Q11: 602983 | R11: 271963 | S11: 868976 | T11: 530897 | U11: 212195 | V11: 461202 | W11: 54054 | X11: 90473
A12: Demográfico | B12: Población | C12: Urbano | D12: Población urbana (% del total regional) | F12: % | G12: Ine estimación Censo 2017 | H12: 0.877675 | I12: 0.91667551 | J12: 0.93800483 | K12: 0.9410963 | L12: 0.91037433 | M12: 0.81194214 | N12: 0.91005737 | O12: 0.96295443 | P12: 0.74392792 | Q12: 0.73221781 | R12: 0.69428579 | S12: 0.88579816 | T12: 0.70886647 | U12: 0.71663068 | V12: 0.73612539 | W12: 0.79584715 | X12: 0.91902506
A13: Demográfico | B13: Población | C13: Rural | D13: Población rural (% del total regional) | F13: % | G13: Ine estimación Censo 2017 | H13: 0.122325 | I13: 0.083324486 | J13: 0.061995172 | K13: 0.058903699 | L13: 0.089625674 | M13: 0.18805786 | N13: 0.089942629 | O13: 0.037045566 | P13: 0.25607208 | Q13: 0.26778219 | R13: 0.30571421 | S13: 0.11420184 | T13: 0.29113353 | U13: 0.28336932 | V13: 0.26387461 | W13: 0.20415285 | X13: 0.080974942
A14: Demográfico | B14: Densidad poblacional | C14: 2024 | D14: Densidad poblacional (2024) | E14: 2024 | F14: hab/km² | G14: Ine | I14: 15.5 | J14: 9.6 | K14: 5.7 | L14: 4.2 | M14: 21.7 | N14: 125.7 | O14: 546.9 | P14: 62.7 | Q14: 38.7 | R14: 39.8 | S14: 70.4 | T14: 32.5 | U14: 22.6 | V14: 18.9 | W14: 1 | X14: 1.4
A15: Demográfico | B15: Densidad poblacional | C15: 2017 | D15: Densidad poblacional (2017) | E15: 2017 | F15: hab/km² | G15: Ine | I15: 15.4 | J15: 9.5 | K15: 5.7 | L15: 4.2 | M15: 21.4 | N15: 123.8 | O15: 543.5 | P15: 62.2 | Q15: 38.4 | R15: 39.6 | S15: 70.2 | T15: 32.3 | U15: 22.5 | V15: 18.8 | W15: 1 | X15: 1.4
A16: Demográfico | B16: Densidad poblacional | C16: 2002 | D16: Densidad poblacional (2002) | E16: 2002 | F16: hab/km² | G16: Ine | J16: 5.9 | K16: 4.1 | L16: 3.5 | M16: 15.4 | N16: 97.3 | O16: 408 | P16: 49.4 | Q16: 31.1 | S16: 52.1 | T16: 28.3 | V16: 15.3 | W16: 0.9 | X16: 0.1
A17: Demográfico | B17: Población por grupos etarios | C17: 0-14 años | D17: Población de 0 a 14 años | F17: Personas | G17: INE estimación Censo 2017 | H17: 3669787 | I17: 50887 | J17: 89205 | K17: 142026 | L17: 66469 | M17: 169314 | N17: 351597 | O17: 1522637 | P17: 188580 | Q17: 217357 | R17: 90614 | S17: 300012 | T17: 193967 | U17: 72556 | V17: 162593 | W17: 21286 | X17: 30687
A18: Demográfico | B18: Población por grupos etarios | C18: 15-64 años | D18: Población de 15 a 64 años | F18: Personas | G18: INE estimación Censo 2017 | H18: 13660930 | I18: 178035 | J18: 281877 | K18: 513661 | L18: 212957 | M18: 586112 | N18: 1338719 | O18: 5855765 | P18: 679641 | Q18: 772152 | R18: 339259 | S18: 1130052 | T18: 676079 | U18: 275375 | V18: 621486 | W18: 73430 | X18: 126330
A19: Demográfico | B19: Población por grupos etarios | C19: 65 y más años | D19: Población de 65 años y más | F19: Personas | G19: INE estimación Censo 2017 | H19: 2876236 | I19: 34765 | J19: 39821 | K19: 66433 | L19: 41438 | M19: 133847 | N19: 349850 | O19: 1092842 | P19: 165017 | Q19: 191565 | R19: 94003 | S19: 260552 | T19: 165872 | U19: 66362 | V19: 132642 | W19: 14028 | X19: 27199
A20: Demográfico | B20: Población por grupos etarios | C20: % 0-14 años | D20: Población de 0 a 14 años (% del total regional) | F20: % | G20: INE estimación Censo 2017 | H20: 0.18161011 | I20: 0.19298259 | J20: 0.21709503 | K20: 0.19667922 | L20: 0.2071563 | M20: 0.19039598 | N20: 0.17233745 | O20: 0.17974184 | P20: 0.18251361 | Q20: 0.18403335 | R20: 0.17296841 | S20: 0.17745721 | T20: 0.18724165 | U20: 0.17513209 | V20: 0.17736367 | W20: 0.19574413 | X20: 0.16658162
A21: Demográfico | B21: Población por grupos etarios | C21: % 15-64 años | D21: Población de 15 a 64 años (% del total regional) | F21: % | G21: INE estimación Censo 2017 | H21: 0.67605096 | I21: 0.67517549 | J21: 0.68599402 | K21: 0.7113236 | L21: 0.66369864 | M21: 0.65909119 | N21: 0.65618141 | O21: 0.69125208 | P21: 0.65777778 | Q21: 0.65377106 | R21: 0.64759409 | S21: 0.66842618 | T21: 0.65263756 | U21: 0.66468659 | V21: 0.67794454 | W21: 0.67525565 | X21: 0.68577105
A22: Demográfico | B22: Población por grupos etarios | C22: % 65 y más años | D22: Población de 65 años y más (% del total regional) | F22: % | G22: INE estimación Censo 2017 | H22: 0.14233893 | I22: 0.13184192 | J22: 0.09691095 | K22: 0.091997175 | L22: 0.12914506 | M22: 0.15051283 | N22: 0.17148114 | O22: 0.12900608 | P22: 0.15970861 | Q22: 0.16219559 | R22: 0.1794375 | S22: 0.15411661 | T22: 0.16012078 | U22: 0.16018132 | V22: 0.14469179 | W22: 0.12900022 | X22: 0.14764733
A23: Demográfico | B23: Esperanza de vida | C23: Hombres (2025) | D23: Esperanza de vida al nacer: hombres (2025) | E23: 2025 | F23: Años | G23: Banco Central | H23: 79 | I23: 78.9 | J23: 79.3 | K23: 77.5 | L23: 79 | M23: 80 | N23: 79.4 | O23: 79.6 | P23: 79.5 | Q23: 79.3 | R23: 78.7 | S23: 78.9 | T23: 78.5 | U23: 77.8 | V23: 78.4 | W23: 78.3 | X23: 78.6
A24: Demográfico | B24: Esperanza de vida | C24: Mujeres (2025) | D24: Esperanza de vida al nacer: mujeres (2025) | E24: 2025 | F24: Años | G24: Banco Central | H24: 85 | I24: 84.1 | J24: 84.1 | K24: 82.7 | L24: 84.3 | M24: 85.2 | N24: 84.6 | O24: 84.9 | P24: 84.4 | Q24: 84.3 | R24: 84.3 | S24: 84.4 | T24: 84 | U24: 84.3 | V24: 84 | W24: 85.4 | X24: 83.7
A25: Demográfico | B25: Esperanza de vida | C25: Hombres (2002) | D25: Esperanza de vida al nacer: hombres (2002) | E25: 2002 | F25: Años | G25: Banco Central | H25: 74 | I25: 74.1 | J25: 73.6 | K25: 72.3 | L25: 75 | M25: 76.3 | N25: 74.4 | O25: 75 | P25: 73.7 | Q25: 73.2 | R25: 72.3 | S25: 73.4 | T25: 73.1 | U25: 73.3 | V25: 72.2 | W25: 72.8 | X25: 72.1
A26: Demográfico | B26: Esperanza de vida | C26: Mujeres (2002) | D26: Esperanza de vida al nacer: mujeres (2002) | E26: 2002 | F26: Años | G26: Banco Central | H26: 80 | I26: 80.2 | J26: 80.2 | K26: 78.6 | L26: 80.2 | M26: 80.9 | N26: 80.1 | O26: 80.8 | P26: 79.4 | Q26: 79.3 | R26: 79.3 | S26: 79.5 | T26: 79.3 | U26: 79.5 | V26: 79.5 | W26: 80.1 | X26: 78.9
A27: Demográfico | B27: Inmigrantes | C27: 1992 | D27: Inmigrantes (% de la población regional, 1992) | E27: 1992 | F27: % | G27: Censo 2024 | H27: 0.008 | I27: 0.026 | J27: 0.011 | K27: 0.007 | L27: 0.003 | M27: 0.004 | N27: 0.008 | O27: 0.012 | P27: 0.003 | Q27: 0.003 | R27: 0.002 | S27: 0.003 | T27: 0.006 | U27: 0.005 | V27: 0.006 | W27: 0.012 | X27: 0.013
A28: Demográfico | B28: Inmigrantes | C28: 2002 | D28: Inmigrantes (% de la población regional, 2002) | E28: 2002 | F28: % | G28: Censo 2024 | H28: 0.013 | I28: 0.033 | J28: 0.029 | K28: 0.013 | L28: 0.005 | M28: 0.005 | N28: 0.011 | O28: 0.019 | P28: 0.004 | Q28: 0.004 | R28: 0.003 | S28: 0.004 | T28: 0.009 | U28: 0.007 | V28: 0.008 | W28: 0.016 | X28: 0.013
A29: Demográfico | B29: Inmigrantes | C29: 2017 | D29: Inmigrantes (% de la población regional, 2017) | E29: 2017 | F29: % | G29: Censo 2024 | H29: 0.044 | I29: 0.082 | J29: 0.137 | K29: 0.11 | L29: 0.031 | M29: 0.02 | N29: 0.023 | O29: 0.07 | P29: 0.015 | Q29: 0.011 | R29: 0.008 | S29: 0.008 | T29: 0.011 | U29: 0.01 | V29: 0.012 | W29: 0.021 | X29: 0.029
A30: Demográfico | B30: Inmigrantes | C30: 2024 | D30: Inmigrantes (% de la población regional, 2024) | E30: 2024 | F30: % | G30: Censo 2024 | H30: 0.088 | I30: 0.149 | J30: 0.232 | K30: 0.197 | L30: 0.085 | M30: 0.054 | N30: 0.053 | O30: 0.131 | P30: 0.05 | Q30: 0.038 | R30: 0.021 | S30: 0.029 | T30: 0.021 | U30: 0.019 | V30: 0.04 | W30: 0.039 | X30: 0.066
A31: Demográfico | B31: Inmigrantes | C31: Principal país de procedencia de los inmigrantes | D31: Principal país de procedencia de los inmigrantes (2024) | E31: 2024 | F31: Texto | G31: Censo 2024 | H31: Venezuela | I31: Bolivia | J31: Bolivia | K31: Bolivia | L31: Bolivia | M31: Venezuela | N31: Venezuela | O31: Venezuela | P31: Venezuela | Q31: Venezuela | R31: Venezuela | S31: Venezuela | T31: Venezuela | U31: Venezuela | V31: Venezuela | W31: Argentina | X31: Venezuela
A32: Demográfico | B32: Inmigrantes (estimación SERMIG) | C32: Total de inmigrantes estimados (regulares + irregulares) | D32: Inmigrantes estimados: total (regulares + irregulares) | E32: 2023 | F32: Personas | G32: Estimación SERMIG 2023 | H32: 1136104 | I32: 17907 | J32: 41034 | K32: 62508 | L32: 18113 | M32: 33696 | N32: 81226 | O32: 575813 | P32: 46671 | Q32: 41952 | R32: 10510 | S32: 38040 | T32: 14286 | U32: 5522 | V32: 27431 | W32: 2430 | X32: 7262
A33: Demográfico | B33: Inmigrantes (estimación SERMIG) | C33: % de la población regional | D33: Inmigrantes estimados: % de la población regional | E33: 2023 | F33: % | G33: Estimación SERMIG 2023 | H33: 0.05622342 | I33: 0.06791006 | J33: 0.099862985 | K33: 0.08656179 | L33: 0.056450708 | M33: 0.037891626 | N33: 0.039813427 | O33: 0.067972661 | P33: 0.045169651 | Q33: 0.035520213 | R33: 0.020061999 | S33: 0.022500674 | T33: 0.013790667 | U33: 0.013328731 | V33: 0.029922954 | W33: 0.02234606 | X33: 0.039421114
A34: Demográfico | B34: Inmigrantes (estimación SERMIG) | C34: Irregulares | D34: Inmigrantes estimados: en situación irregular | E34: 2023 | F34: Personas | G34: Estimación SERMIG 2023 | H34: 336984 | I34: 5381 | J34: 8445 | K34: 13664 | L34: 5155 | M34: 11377 | N34: 23162 | O34: 145163 | P34: 11877 | Q34: 11120 | R34: 1717 | S34: 13172 | T34: 2938 | U34: 917 | V34: 9077 | W34: 504 | X34: 1137
A35: Demográfico | B35: Inmigrantes (estimación SERMIG) | C35: Regulares | D35: Inmigrantes estimados: en situación regular | E35: 2023 | F35: Personas | G35: Estimación SERMIG 2023 | H35: 799120 | I35: 12526 | J35: 32589 | K35: 48844 | L35: 12958 | M35: 22319 | N35: 58064 | O35: 430650 | P35: 34794 | Q35: 30832 | R35: 8793 | S35: 24868 | T35: 11348 | U35: 4605 | V35: 18354 | W35: 1926 | X35: 6125
A36: Demográfico | B36: Inmigrantes (estimación SERMIG) | C36: % del nacional irregulares | D36: Inmigrantes irregulares: % del total nacional | E36: 2023 | F36: % | G36: Estimación SERMIG 2023 | I36: 0.015968117 | J36: 0.025060537 | K36: 0.040547919 | L36: 0.015297462 | M36: 0.033761247 | N36: 0.068733234 | O36: 0.43077119 | P36: 0.035244997 | Q36: 0.032998599 | R36: 0.0050951974 | S36: 0.039087909 | T36: 0.0087185148 | U36: 0.0027211974 | V36: 0.026935997 | W36: 0.00149562 | X36: 0.0033740474
A37: Demográfico | B37: Inmigrantes (estimación SERMIG) | C37: % del nacional regulares | D37: Inmigrantes regulares: % del total nacional | E37: 2023 | F37: % | G37: Estimación SERMIG 2023 | I37: 0.015674742 | J37: 0.040781109 | K37: 0.061122234 | L37: 0.016215337 | M37: 0.027929472 | N37: 0.072659926 | O37: 0.5389053 | P37: 0.043540394 | Q37: 0.038582441 | R37: 0.011003354 | S37: 0.031119231 | T37: 0.014200621 | U37: 0.0057625888 | V37: 0.022967765 | W37: 0.0024101512 | X37: 0.0076646811
A38: Demográfico | B38: Pueblos originarios | C38: Pueblos originarios | D38: Población perteneciente a pueblos originarios | E38: 2024 | F38: Personas | G38: Censo 2024 | H38: 2105863 | I38: 87816 | J38: 89987 | K38: 91280 | L38: 76616 | M38: 92753 | N38: 103716 | O38: 545700 | P38: 50681 | Q38: 47811 | R38: 20145 | S38: 150917 | T38: 347285 | U38: 96382 | V38: 236886 | W38: 29230 | X38: 38658
A39: Demográfico | B39: Pueblos originarios | C39: % de la población de la región | D39: Población perteneciente a pueblos originarios (% de la región) | E39: 2024 | F39: % | G39: Censo 2024 | H39: 0.115 | I39: 0.362 | J39: 0.245 | K39: 0.145 | L39: 0.258 | M39: 0.112 | N39: 0.055 | O39: 0.074 | P39: 0.052 | Q39: 0.043 | R39: 0.039 | S39: 0.094 | T39: 0.345 | U39: 0.243 | V39: 0.267 | W39: 0.292 | X39: 0.234
A40: Demográfico | B40: Grupos específicos | C40: Personas con discapacidad | D40: Personas con discapacidad (% de la población regional) | E40: 2024 | F40: % | G40: Censo 2024 | H40: 0.111 | I40: 0.104 | J40: 0.095 | K40: 0.083 | L40: 0.103 | M40: 0.11 | N40: 0.117 | O40: 0.099 | P40: 0.126 | Q40: 0.131 | R40: 0.153 | S40: 0.13 | T40: 0.133 | U40: 0.122 | V40: 0.111 | W40: 0.108 | X40: 0.093
A41: Demográfico | B41: Grupos específicos | C41: Personas en situación de calle | D41: Personas en situación de calle (% de la población regional) | E41: 2024 | F41: % | G41: Censo 2024 | H41: 0.001 | I41: 0.005 | J41: 0.005 | K41: 0.002 | L41: 0.002 | M41: 0.001 | N41: 0.001 | O41: 0.001 | P41: 0.001 | Q41: 0.001 | R41: 0.0005 | S41: 0.001 | T41: 0.0003 | U41: 0.001 | V41: 0.001 | W41: 0.001 | X41: 0.001
...
